Workbook

Sheet Language

Sheet FINANCIAL
A2: Status | B2: PROJECT NUMBER | C2: PROJECT TITLE | D2: Project Mgr. | E2: Vertical Infrastructure Project Allocation | F2: Additional Funds | G2: Total Project Budget | H2: Contracted Amount | I2: Expended Amount | J2: Contracted Not Expended | K2: Not Encumbered
C3: Total Appropriation | D3: 22000000
C4: Additional Funds | D4: =F39 -> 0
C5: Sales Tax Refunds | E5: 0
C6: Total Funds & Sales Tax Refunds | E6: =D3+D4-E5 -> 22000000
B7: . | C7: Less: Total Assigned | E7: =G39 -> 19782037
C8: Total Unassigned / Unallocated | E8: =E6-E7 -> 2217963.1
C12: Major Maintenance Projects
E13: hard code | F13: link to project recap | G13: link to this page budget column | H13: link to project recap | I13: link to project recap | J13: link to project recap | K13: link to project recap
C14: Funds Received
B15: 9997.27 | C15: Project Management Time | D15: Geoff W. | E15: 75000 | G15: =E15+F15 -> 75000 | H15: ='RECAP #9997.27'!D14 -> 75000 | I15: ='RECAP #9997.27'!E14 -> 1619.15 | J15: ='RECAP #9997.27'!F14 -> 73380.85 | K15: ='RECAP #9997.27'!G14 -> 0
B16: 9542.01 | C16: DOC IMCC Admin Basement Water Mitigation | D16: Jennifer K | E16: 2350000 | G16: =E16+F16 -> 2350000 | H16: ='RECAP #9542.01'!D14 -> 0 | I16: ='RECAP #9542.01'!E14 -> 0 | J16: ='RECAP #9542.01'!F14 -> 0 | K16: ='RECAP #9542.01'!G14 -> 2350000 | N16: ='#9542.01 PM TIME'!I23 -> 0
B17: 9547.00 | C17: DOC 2JD FDCCC Metal Roof Replacement | D17: Brad T. | E17: 450000 | G17: =E17+F17 -> 450000 | H17: ='RECAP #9547.00'!D14 -> 20000 | I17: ='RECAP #9547.00'!E14 -> 0 | J17: ='RECAP #9547.00'!F14 -> 20000 | K17: ='RECAP #9547.00'!G14 -> 430000 | N17: ='#9547.00 PM TIME'!I23 -> 20000
B18: 9548 | C18: DAS CC Historical Building HVAC Replacement Design | D18: Jennie E | E18: 300000 | G18: =E18+F18 -> 300000 | H18: ='RECAP #9548.00'!D14 -> 0 | I18: ='RECAP #9548.00'!E14 -> 0 | J18: ='RECAP #9548.00'!F14 -> 0 | K18: ='RECAP #9548.00'!G14 -> 300000 | N18: ='#9548.00 PM TIME '!I23 -> 0
B19: 9549 | C19: HHS CHMHI Administration Building Window Replacement Phase 1 and 2 | D19: Jennie E | E19: =704000+2032000 -> 2736000 | G19: =E19+F19 -> 2736000 | H19: ='RECAP #9549.00'!D14 -> 0 | I19: ='RECAP #9549.00'!E14 -> 0 | J19: ='RECAP #9549.00'!F14 -> 0 | K19: ='RECAP #9549.00'!G14 -> 2736000 | N19: ='#9549.00 PM TIME'!I23 -> 0
B20: 9550 | C20: DOC FDCF Replace Power Plant and Warehouse Roofs | D20: Jennie E | E20: =459800+398700 -> 858500 | G20: =E20+F20 -> 858500 | H20: ='RECAP #9550.00'!D14 -> 0 | I20: ='RECAP #9550.00'!E14 -> 0 | J20: ='RECAP #9550.00'!F14 -> 0 | K20: ='RECAP #9550.00'!G14 -> 858500 | N20: ='#9550.00 PM TIME '!I23 -> 0
B21: 9551 | C21: DOC ICIW IPI Building Heating Unit Replacements | D21: Brandon A. | E21: 800000 | G21: =E21+F21 -> 800000 | H21: ='RECAP #9551.00'!D14 -> 25000 | I21: ='RECAP #9551.00'!E14 -> 0 | J21: ='RECAP #9551.00'!F14 -> 25000 | K21: ='RECAP #9551.00'!G14 -> 775000 | N21: ='#9551.00 PM TIME'!I23 -> 25000
B22: 9554 | C22: DOC IMCC Tunnel Waterproofing | D22: Jennifer K | E22: 850000 | G22: =E22+F22 -> 850000 | H22: ='RECAP #9554.00'!D14 -> 0 | I22: ='RECAP #9554.00'!E14 -> 0 | J22: ='RECAP #9554.00'!F14 -> 0 | K22: ='RECAP #9554.00'!G14 -> 850000 | N22: ='#9554.00 PM TIME'!I23 -> 0
B23: 9555 | C23: DOC IMCC Vehicle Gate VG1, 1A and VG18 Replacements | D23: Jennifer K | E23: =325000+550000 -> 875000 | G23: =E23+F23 -> 875000 | H23: ='RECAP #9555.00'!D14 -> 26250 | I23: ='RECAP #9555.00'!E14 -> 0 | J23: ='RECAP #9555.00'!F14 -> 26250 | K23: ='RECAP #9555.00'!G14 -> 848750 | N23: ='#9555.00 PM TIME'!I23 -> 26250
B24: 9556 | C24: DOC IMCC Main Building AHU Control and Old Boiler Room Condensate Tank Replacements | D24: Jennifer K | E24: =180000+950000 -> 1130000 | G24: =E24+F24 -> 1130000 | H24: ='RECAP #9556.00'!D14 -> 25000 | I24: ='RECAP #9556.00'!E14 -> 0 | J24: ='RECAP #9556.00'!F14 -> 25000 | K24: ='RECAP #9556.00'!G14 -> 1105000 | N24: ='#9556.00 PM TIME'!I23 -> 25000
B25: 9557 | C25: HHS IMHI Infirmary Tuckpointing and Window Replacement | D25: James T | E25: =1578145.37+1679891.5 -> 3258036.9 | G25: =E25+F25 -> 3258036.9 | H25: ='RECAP #9557.00'!D14 -> 0 | I25: ='RECAP #9557.00'!E14 -> 0 | J25: ='RECAP #9557.00'!F14 -> 0 | K25: ='RECAP #9557.00'!G14 -> 3258036.9 | N25: ='#9557.00 PM TIME'!I23 -> 0
B26: 9558 | C26: IDOE IPBS 6535 Building Tuckpointing | D26: Brandon A. | E26: 250000 | G26: =E26+F26 -> 250000 | H26: ='RECAP #9558.00'!D14 -> 8000 | I26: ='RECAP #9558.00'!E14 -> 0 | J26: ='RECAP #9558.00'!F14 -> 8000 | K26: ='RECAP #9558.00'!G14 -> 242000 | N26: ='#9558.00 PM TIME '!I23 -> 8000
B27: 9559 | C27: IDVA IVH West and Cottage Parking Lot Replacements and Garage Tuckpointing | D27: Brad T. | E27: 1500000 | G27: =E27+F27 -> 1500000 | H27: ='RECAP #9559.00'!D14 -> 35000 | I27: ='RECAP #9559.00'!E14 -> 0 | J27: ='RECAP #9559.00'!F14 -> 35000 | K27: ='RECAP #9559.00'!G14 -> 1465000 | N27: ='#9559.00 PM TIME'!I23 -> 35000
B28: 9560 | C28: DOC MPCF Campus-Wide PIV Replacement and MLO Parking Lot Repair | D28: Brandon A. | E28: =600000+400000 -> 1000000 | G28: =E28+F28 -> 1000000 | H28: ='RECAP #9560.00'!D14 -> 20000 | I28: ='RECAP #9560.00'!E14 -> 0 | J28: ='RECAP #9560.00'!F14 -> 20000 | K28: ='RECAP #9560.00'!G14 -> 980000 | N28: ='#9560.00 PM TIME'!I23 -> 20000
B29: 9561 | C29: DOC NCCF R&D Window Replacement | D29: Jennie E | E29: 195000 | G29: =E29+F29 -> 195000 | H29: ='RECAP #9561.00'!D14 -> 0 | I29: ='RECAP #9561.00'!E14 -> 0 | J29: ='RECAP #9561.00'!F14 -> 0 | K29: ='RECAP #9561.00'!G14 -> 195000 | N29: ='#9561.00 PM TIME'!I23 -> 0
B30: 9562 | C30: DOC NCF Living Unit B and E Large Capacity Water Vessel Replacements and CRC Generator Replacement | D30: Brad T. | E30: =423500+350000 -> 773500 | G30: =E30+F30 -> 773500 | H30: ='RECAP #9562.00'!D14 -> 30000 | I30: ='RECAP #9562.00'!E14 -> 0 | J30: ='RECAP #9562.00'!F14 -> 30000 | K30: ='RECAP #9562.00'!G14 -> 743500 | N30: ='#9562.00 PM TIME'!I23 -> 30000
B31: 9563 | C31: DPS P01 South Alley Retaining Wall Replacement | D31: Brandon A. | E31: 110000 | G31: =E31+F31 -> 110000 | H31: ='RECAP #9563.00'!D14 -> 4000 | I31: ='RECAP #9563.00'!E14 -> 0 | J31: ='RECAP #9563.00'!F14 -> 4000 | K31: ='RECAP #9563.00'!G14 -> 106000 | N31: ='#9563.00 PM TIME'!I23 -> 4000
B32: 9564 | C32: DPS P11 Parking Lot Replacement | D32: James T | E32: 535000 | G32: =E32+F32 -> 535000 | H32: ='RECAP #9564.00'!D14 -> 0 | I32: ='RECAP #9564.00'!E14 -> 0 | J32: ='RECAP #9564.00'!F14 -> 0 | K32: ='RECAP #9564.00'!G14 -> 535000 | N32: ='#9564.00 PM TIME '!I23 -> 0
B33: 9565 | C33: DPS P12 Retaining Wall Re-Build | D33: James T | E33: 50000 | G33: =E33+F33 -> 50000 | H33: ='RECAP #9565.00'!D14 -> 0 | I33: ='RECAP #9565.00'!E14 -> 0 | J33: ='RECAP #9565.00'!F14 -> 0 | K33: ='RECAP #9565.00'!G14 -> 50000 | N33: ='#9565.00 PM TIME '!I23 -> 0
B34: 9566 | C34: HHS STS Bakery Cooler Enclosure Replacement and Corbett-Miller Hall Tuckpointing | D34: Jennifer K | E34: =230000-75000+95000 -> 250000 | G34: =E34+F34 -> 250000 | H34: ='RECAP #9566.00'!D14 -> 12000 | I34: ='RECAP #9566.00'!E14 -> 0 | J34: ='RECAP #9566.00'!F14 -> 12000 | K34: ='RECAP #9566.00'!G14 -> 238000 | N34: ='#9566.00 PM TIME '!I23 -> 12000
B35: 9567 | C35: DAS USS Union Sunday School Masonry Repairs and Roof Replacement | D35: James T | E35: =248000+208000 -> 456000 | G35: =E35+F35 -> 456000 | H35: ='RECAP #9567.00'!D14 -> 0 | I35: ='RECAP #9567.00'!E14 -> 0 | J35: ='RECAP #9567.00'!F14 -> 0 | K35: ='RECAP #9567.00'!G14 -> 456000 | N35: ='#9567.00 PM TIME'!I23 -> 0
B36: 9568 | C36: HHS WRC Dispatch Garage Roof Replacement and Birches Tuckpointing | D36: Jennifer K | E36: =300000+680000 -> 980000 | G36: =E36+F36 -> 980000 | H36: ='RECAP #9568.00'!D14 -> 22500 | I36: ='RECAP #9568.00'!E14 -> 0 | J36: ='RECAP #9568.00'!F14 -> 22500 | K36: ='RECAP #9568.00'!G14 -> 957500 | N36: ='#9568.00 PM TIME'!I23 -> 22500
C39: Major Maintenance Totals | E39: =SUM(E13:E38) -> 19782037 | F39: =SUM(F13:F38) -> 0 | G39: =SUM(G13:G38) -> 19782037 | H39: =SUM(H13:H38) -> 302750 | I39: =SUM(I13:I38) -> 1619.15 | J39: =SUM(J13:J38) -> 301130.85 | K39: =SUM(K13:K38) -> 19479287 | N39: =SUM(N16:N38) -> 227750
G41: Total funds not allocated to the projects listed above | K41: =E8 -> 2217963.1
C42: For these projects the recap budget page will link to the Vertical Infrastructure project allocation and not the Total Budget column | G42: Subtotal | K42: =SUM(K39:K41) -> 21697250
G43: Total funds Available | J43: =E6 -> 22000000
G44: Total obligated by contract or PO | J44: =H39*-1 -> -302750 | K44: =SUM(J43:J44) -> 21697250
G45: Variance | K45: =K42-K44 -> 0

Sheet RECAP #9997.27
B1: Project Management Time
B2: Project # 9997.27
B3: Program code 999727 | E3: Major Program 3E01
B4: Recap
B5: Acct. Codes-0017-335-MM24 | E5: Close Date:
B6: Project Manager - Geoff W
C7: TRANSFERS | D7: CONTRACTED | E7: EXPENDED | F7: CONTRACTED, NOT EXPENDED | G7: UNDER(OVER) Budget
B8: Budget | C8: =FINANCIAL!G15 -> 75000
B10: VendorA | D10: ='#XXXX.XX Vendor A'!D23 -> 0 | E10: ='#XXXX.XX Vendor A'!F23 -> 0 | F10: ='#XXXX.XX Vendor A'!H23 -> 0
B11: PM TIME | D11: ='#9997.27 PM TIME '!E23 -> 75000 | E11: ='#9997.27 PM TIME '!G23 -> 1619.15 | F11: ='#9997.27 PM TIME '!I23 -> 73380.85
B12: Misc. | D12: ='#XXXX.XX Misc'!G22 -> 0 | E12: ='#XXXX.XX Misc'!H22 -> 0 | F12: =D12-E12 -> 0
B14: Total Project Cost | C14: =SUM(C8:C13) -> 75000 | D14: =SUM(D8:D13) -> 75000 | E14: =SUM(E8:E13) -> 1619.15 | F14: =SUM(D14-E14) -> 73380.85 | G14: =C8-D14 -> 0

Sheet #9997.27 PM TIME 
A1: ='RECAP #9997.27'!B1 -> Project Management Time
A2: ='RECAP #9997.27'!B2 -> Project # 9997.27
A3: ='RECAP #9997.27'!B3 -> Program code 999727 | E3: ='RECAP #9997.27'!E3 -> Major Program 3E01
A4: PM TIME | E4: Internal documents
A6: Acct. Codes-0017-335-MM24-xxxx | E6: eDAS 911V
A7: ='RECAP #9997.27'!B6 -> Project Manager - Geoff W
A8: Doc # | B8: Date | C8: Object Code | D8: Activity Code | E8: Contract & C.O.'s | F8: Contract Total | G8: Payment Amount | H8: Total Paid | I8: Balance
D9: Budget amount | E9: 75000 | F9: =E9 -> 75000 | I9: =F9 -> 75000
A10: IET DAS202701115300001 | B10: 46241 | C10: 2507 | D10: Finance Support for July 01-31, 2026 | F10: =F9+E10 -> 75000 | G10: 107.19 | H10: =H9+G10 -> 107.19 | I10: =I9-G10+E10 -> 74892.81
A11: IET DAS202701115300001 | B11: 46241 | C11: 9500 | D11: DAS Support for July 01-31, 2026 | F11: =F10+E11 -> 75000 | G11: 491.7 | H11: =H10+G11 -> 598.89 | I11: =I10-G11+E11 -> 74401.11
A12: IET DAS202702115300001 | B12: 46272 | C12: 2507 | D12: Finance Support for August 01-31, 2026 | F12: =F11+E12 -> 75000 | G12: 215.66 | H12: =H11+G12 -> 814.55 | I12: =I11-G12+E12 -> 74185.45
A13: IET DAS202702115300001 | B13: 46272 | C13: 9500 | D13: DAS Support for August 01-31, 2026 | F13: =F12+E13 -> 75000 | G13: 804.6 | H13: =H12+G13 -> 1619.15 | I13: =I12-G13+E13 -> 73380.85
F14: =F13+E14 -> 75000 | H14: =H13+G14 -> 1619.15 | I14: =I13-G14+E14 -> 73380.85
F15: =F14+E15 -> 75000 | H15: =H14+G15 -> 1619.15 | I15: =I14-G15+E15 -> 73380.85
F16: =F15+E16 -> 75000 | H16: =H15+G16 -> 1619.15 | I16: =I15-G16+E16 -> 73380.85
F17: =F16+E17 -> 75000 | H17: =H16+G17 -> 1619.15 | I17: =I16-G17+E17 -> 73380.85
F18: =F17+E18 -> 75000 | H18: =H17+G18 -> 1619.15 | I18: =I17-G18+E18 -> 73380.85
F19: =F18+E19 -> 75000 | H19: =H18+G19 -> 1619.15 | I19: =I18-G19+E19 -> 73380.85
F20: =F19+E20 -> 75000 | H20: =H19+G20 -> 1619.15 | I20: =I19-G20+E20 -> 73380.85
F21: =F20+E21 -> 75000 | H21: =H20+G21 -> 1619.15 | I21: =I20-G21+E21 -> 73380.85
D23: Totals: | E23: =SUM(E9:E22) -> 75000 | G23: =SUM(G9:G22) -> 1619.15 | I23: =E23-G23 -> 73380.85

Sheet RECAP #9542.01
B1: DOC IMCC Admin Basement Water Mitigation
B2: Project # 9542.01
B3: Program code 954201 | E3: Major Program 4B01
B4: Recap
B5: Acct. Codes-0017-335-MM24 | E5: Close Date:
B6: Project Manager - Jennifer K
C7: TRANSFERS | D7: CONTRACTED | E7: EXPENDED | F7: CONTRACTED, NOT EXPENDED | G7: UNDER(OVER) Budget
B8: Budget | C8: =FINANCIAL!G16 -> 2350000
B10: VendorA | D10: ='#9542.01 Vendor A'!D23 -> 0 | E10: ='#9542.01 Vendor A'!F23 -> 0 | F10: ='#9542.01 Vendor A'!H23 -> 0
B11: PM TIME | D11: ='#9542.01 PM TIME'!E23 -> 0 | E11: ='#9542.01 PM TIME'!G23 -> 0 | F11: ='#9542.01 PM TIME'!I23 -> 0
B12: Misc. | D12: ='#9542.01 Misc'!G22 -> 0 | E12: ='#9542.01 Misc'!H22 -> 0 | F12: =D12-E12 -> 0
B14: Total Project Cost | C14: =SUM(C8:C13) -> 2350000 | D14: =SUM(D8:D13) -> 0 | E14: =SUM(E8:E13) -> 0 | F14: =SUM(D14-E14) -> 0 | G14: =C8-D14 -> 2350000

Sheet #9542.01 Vendor A
A1: ='RECAP #9542.01'!B1 -> DOC IMCC Admin Basement Water Mitigation
A2: ='RECAP #9542.01'!B2 -> Project # 9542.01
A3: ='RECAP #9542.01'!B3 -> Program code 954201 | D3: ='RECAP #9542.01'!E3 -> Major Program 4B01
A4: Vendor A | D4: Vendor:
A5: Acct. Codes-0017-335-MM24-xxxx
A6: ='RECAP #9542.01'!B6 -> Project Manager - Jennifer K | D6: Activity code:
A8: Doc # | B8: Date | C8: Activity | D8: Contract & C.O.'s | E8: Contract Total | F8: Payment Amount | G8: Total Paid | H8: Balance
E9: =D9 -> 0 | H9: =E9 -> 0
E10: =E9+D10 -> 0 | G10: =G9+F10 -> 0 | H10: =H9-F10+D10 -> 0
E11: =E10+D11 -> 0 | G11: =G10+F11 -> 0 | H11: =H10-F11+D11 -> 0
E12: =E11+D12 -> 0 | G12: =G11+F12 -> 0 | H12: =H11-F12+D12 -> 0
E13: =E12+D13 -> 0 | G13: =G12+F13 -> 0 | H13: =H12-F13+D13 -> 0
E14: =E13+D14 -> 0 | G14: =G13+F14 -> 0 | H14: =H13-F14+D14 -> 0
E15: =E14+D15 -> 0 | G15: =G14+F15 -> 0 | H15: =H14-F15+D15 -> 0
E16: =E15+D16 -> 0 | G16: =G15+F16 -> 0 | H16: =H15-F16+D16 -> 0
E17: =E16+D17 -> 0 | G17: =G16+F17 -> 0 | H17: =H16-F17+D17 -> 0
E18: =E17+D18 -> 0 | G18: =G17+F18 -> 0 | H18: =H17-F18+D18 -> 0
E19: =E18+D19 -> 0 | G19: =G18+F19 -> 0 | H19: =H18-F19+D19 -> 0
E20: =E19+D20 -> 0 | G20: =G19+F20 -> 0 | H20: =H19-F20+D20 -> 0
E21: =E20+D21 -> 0 | G21: =G20+F21 -> 0 | H21: =H20-F21+D21 -> 0
C23: Totals: | D23: =SUM(D9:D22) -> 0 | F23: =SUM(F9:F22) -> 0 | H23: =D23-F23 -> 0

Sheet #9542.01 PM TIME
A1: ='RECAP #9542.01'!B1 -> DOC IMCC Admin Basement Water Mitigation
A2: ='RECAP #9542.01'!B2 -> Project # 9542.01
A3: ='RECAP #9542.01'!B3 -> Program code 954201 | E3: ='RECAP #9542.01'!E3 -> Major Program 4B01
A4: PM TIME | E4: Internal documents
A6: Acct. Codes-0017-335-MM24-xxxx | E6: eDAS: 737K
A7: ='RECAP #9542.01'!B6 -> Project Manager - Jennifer K
A8: Doc # | B8: Date | C8: Object Code | D8: Activity Code | E8: Contract & C.O.'s | F8: Contract Total | G8: Payment Amount | H8: Total Paid | I8: Balance
D9: Budget amount | F9: =E9 -> 0 | I9: =F9 -> 0
F10: =F9+E10 -> 0 | H10: =H9+G10 -> 0 | I10: =I9-G10+E10 -> 0
F11: =F10+E11 -> 0 | H11: =H10+G11 -> 0 | I11: =I10-G11+E11 -> 0
F12: =F11+E12 -> 0 | H12: =H11+G12 -> 0 | I12: =I11-G12+E12 -> 0
F13: =F12+E13 -> 0 | H13: =H12+G13 -> 0 | I13: =I12-G13+E13 -> 0
F14: =F13+E14 -> 0 | H14: =H13+G14 -> 0 | I14: =I13-G14+E14 -> 0
F15: =F14+E15 -> 0 | H15: =H14+G15 -> 0 | I15: =I14-G15+E15 -> 0
F16: =F15+E16 -> 0 | H16: =H15+G16 -> 0 | I16: =I15-G16+E16 -> 0
F17: =F16+E17 -> 0 | H17: =H16+G17 -> 0 | I17: =I16-G17+E17 -> 0
F18: =F17+E18 -> 0 | H18: =H17+G18 -> 0 | I18: =I17-G18+E18 -> 0
F19: =F18+E19 -> 0 | H19: =H18+G19 -> 0 | I19: =I18-G19+E19 -> 0
F20: =F19+E20 -> 0 | H20: =H19+G20 -> 0 | I20: =I19-G20+E20 -> 0
F21: =F20+E21 -> 0 | H21: =H20+G21 -> 0 | I21: =I20-G21+E21 -> 0
D23: Totals: | E23: =SUM(E9:E22) -> 0 | G23: =SUM(G9:G22) -> 0 | I23: =E23-G23 -> 0

Sheet #9542.01 Misc
A1: ='RECAP #9542.01'!B1 -> DOC IMCC Admin Basement Water Mitigation
A2: ='RECAP #9542.01'!B2 -> Project # 9542.01
A3: ='RECAP #9542.01'!B3 -> Program code 954201 | E3: ='RECAP #9542.01'!E3 -> Major Program 4B01
A4: Misc
A6: Acct. Codes-0017-335-MM24-xxxx | E6: Shipping Code:
A7: ='RECAP #9542.01'!B6 -> Project Manager - Jennifer K
A8: Doc # | B8: Date | C8: Object Code | D8: Activity Code | E8: Activity | F8: Invoice | G8: Payment Amount | H8: Total Paid
H9: =G9 -> 0
H10: =H9+G10 -> 0
H11: =H10+G11 -> 0
H12: =H11+G12 -> 0
H13: =H12+G13 -> 0
H14: =H13+G14 -> 0
H15: =H14+G15 -> 0
H16: =H15+G16 -> 0
H17: =H16+G17 -> 0
H18: =H17+G18 -> 0
H19: =H18+G19 -> 0
H20: =H19+G20 -> 0
E22: Totals: | G22: =SUM(G9:G21) -> 0

Sheet RECAP #9547.00
B1: DOC 2JD FDCCC Metal Roof Replacement
B2: Project # 9547.00
B3: Program code 954700 | E3: Major Program 4B01
B4: Recap
B5: Acct. Codes-0017-335-MM24 | E5: Close Date:
B6: Project Manager - Brad T.
C7: TRANSFERS | D7: CONTRACTED | E7: EXPENDED | F7: CONTRACTED, NOT EXPENDED | G7: UNDER(OVER) Budget
B8: Budget | C8: =FINANCIAL!G17 -> 450000
B10: VendorA | D10: ='#9547.00 Vendor A '!D23 -> 0 | E10: ='#9547.00 Vendor A '!F23 -> 0 | F10: ='#9547.00 Vendor A '!H23 -> 0
B11: PM TIME | D11: ='#9547.00 PM TIME'!E23 -> 20000 | E11: ='#9547.00 PM TIME'!G23 -> 0 | F11: ='#9547.00 PM TIME'!I23 -> 20000
B12: Misc. | D12: ='#9548.00 Misc '!G22 -> 0 | E12: ='#9548.00 Misc '!H22 -> 0 | F12: =D12-E12 -> 0
B14: Total Project Cost | C14: =SUM(C8:C13) -> 450000 | D14: =SUM(D8:D13) -> 20000 | E14: =SUM(E8:E13) -> 0 | F14: =SUM(D14-E14) -> 20000 | G14: =C8-D14 -> 430000

Sheet #9547.00 Vendor A 
A1: ='RECAP #9547.00'!B1 -> DOC 2JD FDCCC Metal Roof Replacement
A2: ='RECAP #9547.00'!B2 -> Project # 9547.00
A3: ='RECAP #9547.00'!B3 -> Program code 954700 | D3: ='RECAP #9547.00'!E3 -> Major Program 4B01
A4: Vendor A | D4: Vendor:
A5: Acct. Codes-0017-335-MM24-xxxx
A6: ='RECAP #9547.00'!B6 -> Project Manager - Brad T. | D6: Activity code:
A8: Doc # | B8: Date | C8: Activity | D8: Contract & C.O.'s | E8: Contract Total | F8: Payment Amount | G8: Total Paid | H8: Balance
E9: =D9 -> 0 | H9: =E9 -> 0
E10: =E9+D10 -> 0 | G10: =G9+F10 -> 0 | H10: =H9-F10+D10 -> 0
E11: =E10+D11 -> 0 | G11: =G10+F11 -> 0 | H11: =H10-F11+D11 -> 0
E12: =E11+D12 -> 0 | G12: =G11+F12 -> 0 | H12: =H11-F12+D12 -> 0
E13: =E12+D13 -> 0 | G13: =G12+F13 -> 0 | H13: =H12-F13+D13 -> 0
E14: =E13+D14 -> 0 | G14: =G13+F14 -> 0 | H14: =H13-F14+D14 -> 0
E15: =E14+D15 -> 0 | G15: =G14+F15 -> 0 | H15: =H14-F15+D15 -> 0
E16: =E15+D16 -> 0 | G16: =G15+F16 -> 0 | H16: =H15-F16+D16 -> 0
E17: =E16+D17 -> 0 | G17: =G16+F17 -> 0 | H17: =H16-F17+D17 -> 0
E18: =E17+D18 -> 0 | G18: =G17+F18 -> 0 | H18: =H17-F18+D18 -> 0
E19: =E18+D19 -> 0 | G19: =G18+F19 -> 0 | H19: =H18-F19+D19 -> 0
E20: =E19+D20 -> 0 | G20: =G19+F20 -> 0 | H20: =H19-F20+D20 -> 0
E21: =E20+D21 -> 0 | G21: =G20+F21 -> 0 | H21: =H20-F21+D21 -> 0
C23: Totals: | D23: =SUM(D9:D22) -> 0 | F23: =SUM(F9:F22) -> 0 | H23: =D23-F23 -> 0

Sheet #9547.00 PM TIME
A1: ='RECAP #9547.00'!B1 -> DOC 2JD FDCCC Metal Roof Replacement
A2: ='RECAP #9547.00'!B2 -> Project # 9547.00
A3: ='RECAP #9547.00'!B3 -> Program code 954700 | E3: ='RECAP #9547.00'!E3 -> Major Program 4B01
A4: PM TIME | E4: Internal documents
A6: Acct. Codes-0017-335-MM24-xxxx | E6: eDAS: E017
A7: ='RECAP #9547.00'!B6 -> Project Manager - Brad T.
A8: Doc # | B8: Date | C8: Object Code | D8: Activity Code | E8: Contract & C.O.'s | F8: Contract Total | G8: Payment Amount | H8: Total Paid | I8: Balance
D9: Budget amount | E9: 20000 | F9: =E9 -> 20000 | I9: =F9 -> 20000
F10: =F9+E10 -> 20000 | H10: =H9+G10 -> 0 | I10: =I9-G10+E10 -> 20000
F11: =F10+E11 -> 20000 | H11: =H10+G11 -> 0 | I11: =I10-G11+E11 -> 20000
F12: =F11+E12 -> 20000 | H12: =H11+G12 -> 0 | I12: =I11-G12+E12 -> 20000
F13: =F12+E13 -> 20000 | H13: =H12+G13 -> 0 | I13: =I12-G13+E13 -> 20000
F14: =F13+E14 -> 20000 | H14: =H13+G14 -> 0 | I14: =I13-G14+E14 -> 20000
F15: =F14+E15 -> 20000 | H15: =H14+G15 -> 0 | I15: =I14-G15+E15 -> 20000
F16: =F15+E16 -> 20000 | H16: =H15+G16 -> 0 | I16: =I15-G16+E16 -> 20000
F17: =F16+E17 -> 20000 | H17: =H16+G17 -> 0 | I17: =I16-G17+E17 -> 20000
F18: =F17+E18 -> 20000 | H18: =H17+G18 -> 0 | I18: =I17-G18+E18 -> 20000
F19: =F18+E19 -> 20000 | H19: =H18+G19 -> 0 | I19: =I18-G19+E19 -> 20000
F20: =F19+E20 -> 20000 | H20: =H19+G20 -> 0 | I20: =I19-G20+E20 -> 20000
F21: =F20+E21 -> 20000 | H21: =H20+G21 -> 0 | I21: =I20-G21+E21 -> 20000
D23: Totals: | E23: =SUM(E9:E22) -> 20000 | G23: =SUM(G9:G22) -> 0 | I23: =E23-G23 -> 20000

Sheet #9547.00 Misc 
A1: ='RECAP #9547.00'!B1 -> DOC 2JD FDCCC Metal Roof Replacement
A2: ='RECAP #9547.00'!B2 -> Project # 9547.00
A3: ='RECAP #9547.00'!B3 -> Program code 954700 | E3: ='RECAP #9547.00'!E3 -> Major Program 4B01
A4: Misc
A6: Acct. Codes-0017-335-MM24-xxxx | E6: Shipping Code:
A7: ='RECAP #9547.00'!B6 -> Project Manager - Brad T.
A8: Doc # | B8: Date | C8: Object Code | D8: Activity Code | E8: Activity | F8: Invoice | G8: Payment Amount | H8: Total Paid
H9: =G9 -> 0
H10: =H9+G10 -> 0
H11: =H10+G11 -> 0
H12: =H11+G12 -> 0
H13: =H12+G13 -> 0
H14: =H13+G14 -> 0
H15: =H14+G15 -> 0
H16: =H15+G16 -> 0
H17: =H16+G17 -> 0
H18: =H17+G18 -> 0
H19: =H18+G19 -> 0
H20: =H19+G20 -> 0
E22: Totals: | G22: =SUM(G9:G21) -> 0

Sheet RECAP #9548.00
B1: DAS CC Historical Building HVAC Replacement Design
B2: Project # 9548.00
B3: Program code 954800 | E3: Major Program xxxx
B4: Recap
B5: Acct. Codes-0017-335-MM24 | E5: Close Date:
B6: Project Manager - Jennie E
C7: TRANSFERS | D7: CONTRACTED | E7: EXPENDED | F7: CONTRACTED, NOT EXPENDED | G7: UNDER(OVER) Budget
B8: Budget | C8: =FINANCIAL!G18 -> 300000
B10: VendorA | D10: ='#9548.00 Vendor A'!D23 -> 0 | E10: ='#9548.00 Vendor A'!F23 -> 0 | F10: ='#9548.00 Vendor A'!H23 -> 0
B11: PM TIME | D11: ='#9548.00 PM TIME '!E23 -> 0 | E11: ='#9548.00 PM TIME '!G23 -> 0 | F11: ='#9548.00 PM TIME '!I23 -> 0
B12: Misc. | D12: ='#9548.00 Misc '!G22 -> 0 | E12: ='#9548.00 Misc '!H22 -> 0 | F12: =D12-E12 -> 0
B14: Total Project Cost | C14: =SUM(C8:C13) -> 300000 | D14: =SUM(D8:D13) -> 0 | E14: =SUM(E8:E13) -> 0 | F14: =SUM(D14-E14) -> 0 | G14: =C8-D14 -> 300000

Sheet #9548.00 Vendor A
A1: ='RECAP #9548.00'!B1 -> DAS CC Historical Building HVAC Replacement Design
A2: ='RECAP #9548.00'!B2 -> Project # 9548.00
A3: ='RECAP #9548.00'!B3 -> Program code 954800 | D3: ='RECAP #9548.00'!E3 -> Major Program xxxx
A4: Vendor A | D4: Vendor:
A5: Acct. Codes-0017-335-MM24-xxxx
A6: ='RECAP #9548.00'!B6 -> Project Manager - Jennie E | D6: Activity code:
A8: Doc # | B8: Date | C8: Activity | D8: Contract & C.O.'s | E8: Contract Total | F8: Payment Amount | G8: Total Paid | H8: Balance
E9: =D9 -> 0 | H9: =E9 -> 0
E10: =E9+D10 -> 0 | G10: =G9+F10 -> 0 | H10: =H9-F10+D10 -> 0
E11: =E10+D11 -> 0 | G11: =G10+F11 -> 0 | H11: =H10-F11+D11 -> 0
E12: =E11+D12 -> 0 | G12: =G11+F12 -> 0 | H12: =H11-F12+D12 -> 0
E13: =E12+D13 -> 0 | G13: =G12+F13 -> 0 | H13: =H12-F13+D13 -> 0
E14: =E13+D14 -> 0 | G14: =G13+F14 -> 0 | H14: =H13-F14+D14 -> 0
E15: =E14+D15 -> 0 | G15: =G14+F15 -> 0 | H15: =H14-F15+D15 -> 0
E16: =E15+D16 -> 0 | G16: =G15+F16 -> 0 | H16: =H15-F16+D16 -> 0
E17: =E16+D17 -> 0 | G17: =G16+F17 -> 0 | H17: =H16-F17+D17 -> 0
E18: =E17+D18 -> 0 | G18: =G17+F18 -> 0 | H18: =H17-F18+D18 -> 0
E19: =E18+D19 -> 0 | G19: =G18+F19 -> 0 | H19: =H18-F19+D19 -> 0
E20: =E19+D20 -> 0 | G20: =G19+F20 -> 0 | H20: =H19-F20+D20 -> 0
E21: =E20+D21 -> 0 | G21: =G20+F21 -> 0 | H21: =H20-F21+D21 -> 0
C23: Totals: | D23: =SUM(D9:D22) -> 0 | F23: =SUM(F9:F22) -> 0 | H23: =D23-F23 -> 0

Sheet #9548.00 PM TIME 
A1: ='RECAP #9548.00'!B1 -> DAS CC Historical Building HVAC Replacement Design
A2: ='RECAP #9548.00'!B2 -> Project # 9548.00
A3: ='RECAP #9548.00'!B3 -> Program code 954800 | E3: ='RECAP #9548.00'!E3 -> Major Program xxxx
A4: PM TIME | E4: Internal documents
A6: Acct. Codes-0017-335-MM24-xxxx | E6: eDAS: E01B
A7: ='RECAP #9548.00'!B6 -> Project Manager - Jennie E
A8: Doc # | B8: Date | C8: Object Code | D8: Activity Code | E8: Contract & C.O.'s | F8: Contract Total | G8: Payment Amount | H8: Total Paid | I8: Balance
D9: Budget amount | F9: =E9 -> 0 | I9: =F9 -> 0
F10: =F9+E10 -> 0 | H10: =H9+G10 -> 0 | I10: =I9-G10+E10 -> 0
F11: =F10+E11 -> 0 | H11: =H10+G11 -> 0 | I11: =I10-G11+E11 -> 0
F12: =F11+E12 -> 0 | H12: =H11+G12 -> 0 | I12: =I11-G12+E12 -> 0
F13: =F12+E13 -> 0 | H13: =H12+G13 -> 0 | I13: =I12-G13+E13 -> 0
F14: =F13+E14 -> 0 | H14: =H13+G14 -> 0 | I14: =I13-G14+E14 -> 0
F15: =F14+E15 -> 0 | H15: =H14+G15 -> 0 | I15: =I14-G15+E15 -> 0
F16: =F15+E16 -> 0 | H16: =H15+G16 -> 0 | I16: =I15-G16+E16 -> 0
F17: =F16+E17 -> 0 | H17: =H16+G17 -> 0 | I17: =I16-G17+E17 -> 0
F18: =F17+E18 -> 0 | H18: =H17+G18 -> 0 | I18: =I17-G18+E18 -> 0
F19: =F18+E19 -> 0 | H19: =H18+G19 -> 0 | I19: =I18-G19+E19 -> 0
F20: =F19+E20 -> 0 | H20: =H19+G20 -> 0 | I20: =I19-G20+E20 -> 0
F21: =F20+E21 -> 0 | H21: =H20+G21 -> 0 | I21: =I20-G21+E21 -> 0
D23: Totals: | E23: =SUM(E9:E22) -> 0 | G23: =SUM(G9:G22) -> 0 | I23: =E23-G23 -> 0

Sheet #9548.00 Misc 
A1: ='RECAP #9548.00'!B1 -> DAS CC Historical Building HVAC Replacement Design
A2: ='RECAP #9548.00'!B2 -> Project # 9548.00
A3: ='RECAP #9548.00'!B3 -> Program code 954800 | E3: ='RECAP #9548.00'!E3 -> Major Program xxxx
A4: Misc
A6: Acct. Codes-0017-335-MM24-xxxx | E6: Shipping Code:
A7: ='RECAP #9548.00'!B6 -> Project Manager - Jennie E
A8: Doc # | B8: Date | C8: Object Code | D8: Activity Code | E8: Activity | F8: Invoice | G8: Payment Amount | H8: Total Paid
H9: =G9 -> 0
H10: =H9+G10 -> 0
H11: =H10+G11 -> 0
H12: =H11+G12 -> 0
H13: =H12+G13 -> 0
H14: =H13+G14 -> 0
H15: =H14+G15 -> 0
H16: =H15+G16 -> 0
H17: =H16+G17 -> 0
H18: =H17+G18 -> 0
H19: =H18+G19 -> 0
H20: =H19+G20 -> 0
E22: Totals: | G22: =SUM(G9:G21) -> 0

Sheet RECAP #9549.00
B1: HHS CHMHI Administration Building Window Replacement Phase 1 and 2
B2: Project # 9549.00
B3: Program code 954900 | E3: Major Program 4E19
B4: Recap
B5: Acct. Codes-0017-335-MM24 | E5: Close Date:
B6: Project Manager - Jennie E
C7: TRANSFERS | D7: CONTRACTED | E7: EXPENDED | F7: CONTRACTED, NOT EXPENDED | G7: UNDER(OVER) Budget
B8: Budget | C8: =FINANCIAL!G19 -> 2736000
B10: VendorA | D10: ='#9549.00 Vendor A'!D23 -> 0 | E10: ='#9549.00 Vendor A'!F23 -> 0 | F10: ='#9549.00 Vendor A'!H23 -> 0
B11: PM TIME | D11: ='#9549.00 PM TIME'!E23 -> 0 | E11: ='#9549.00 PM TIME'!G23 -> 0 | F11: ='#9549.00 PM TIME'!I23 -> 0
B12: Misc. | D12: ='#9549.00 Misc'!G22 -> 0 | E12: ='#9549.00 Misc'!H22 -> 0 | F12: =D12-E12 -> 0
B14: Total Project Cost | C14: =SUM(C8:C13) -> 2736000 | D14: =SUM(D8:D13) -> 0 | E14: =SUM(E8:E13) -> 0 | F14: =SUM(D14-E14) -> 0 | G14: =C8-D14 -> 2736000

Sheet #9549.00 Vendor A
A1: ='RECAP #9549.00'!B1 -> HHS CHMHI Administration Building Window Replacement Phase 1 and 2
A2: ='RECAP #9549.00'!B2 -> Project # 9549.00
A3: ='RECAP #9549.00'!B3 -> Program code 954900 | D3: ='RECAP #9549.00'!E3 -> Major Program 4E19
A4: Vendor A | D4: Vendor:
A5: Acct. Codes-0017-335-MM24-xxxx
A6: ='RECAP #9549.00'!B6 -> Project Manager - Jennie E | D6: Activity code:
A8: Doc # | B8: Date | C8: Activity | D8: Contract & C.O.'s | E8: Contract Total | F8: Payment Amount | G8: Total Paid | H8: Balance
E9: =D9 -> 0 | H9: =E9 -> 0
E10: =E9+D10 -> 0 | G10: =G9+F10 -> 0 | H10: =H9-F10+D10 -> 0
E11: =E10+D11 -> 0 | G11: =G10+F11 -> 0 | H11: =H10-F11+D11 -> 0
E12: =E11+D12 -> 0 | G12: =G11+F12 -> 0 | H12: =H11-F12+D12 -> 0
E13: =E12+D13 -> 0 | G13: =G12+F13 -> 0 | H13: =H12-F13+D13 -> 0
E14: =E13+D14 -> 0 | G14: =G13+F14 -> 0 | H14: =H13-F14+D14 -> 0
E15: =E14+D15 -> 0 | G15: =G14+F15 -> 0 | H15: =H14-F15+D15 -> 0
E16: =E15+D16 -> 0 | G16: =G15+F16 -> 0 | H16: =H15-F16+D16 -> 0
E17: =E16+D17 -> 0 | G17: =G16+F17 -> 0 | H17: =H16-F17+D17 -> 0
E18: =E17+D18 -> 0 | G18: =G17+F18 -> 0 | H18: =H17-F18+D18 -> 0
E19: =E18+D19 -> 0 | G19: =G18+F19 -> 0 | H19: =H18-F19+D19 -> 0
E20: =E19+D20 -> 0 | G20: =G19+F20 -> 0 | H20: =H19-F20+D20 -> 0
E21: =E20+D21 -> 0 | G21: =G20+F21 -> 0 | H21: =H20-F21+D21 -> 0
C23: Totals: | D23: =SUM(D9:D22) -> 0 | F23: =SUM(F9:F22) -> 0 | H23: =D23-F23 -> 0

Sheet #9549.00 PM TIME
A1: ='RECAP #9549.00'!B1 -> HHS CHMHI Administration Building Window Replacement Phase 1 and 2
A2: ='RECAP #9549.00'!B2 -> Project # 9549.00
A3: ='RECAP #9549.00'!B3 -> Program code 954900 | E3: ='RECAP #9549.00'!E3 -> Major Program 4E19
A4: PM TIME | E4: Internal documents
A6: Acct. Codes-0017-335-MM24-xxxx | E6: eDAS: E01D
A7: ='RECAP #9549.00'!B6 -> Project Manager - Jennie E
A8: Doc # | B8: Date | C8: Object Code | D8: Activity Code | E8: Contract & C.O.'s | F8: Contract Total | G8: Payment Amount | H8: Total Paid | I8: Balance
D9: Budget amount | F9: =E9 -> 0 | I9: =F9 -> 0
F10: =F9+E10 -> 0 | H10: =H9+G10 -> 0 | I10: =I9-G10+E10 -> 0
F11: =F10+E11 -> 0 | H11: =H10+G11 -> 0 | I11: =I10-G11+E11 -> 0
F12: =F11+E12 -> 0 | H12: =H11+G12 -> 0 | I12: =I11-G12+E12 -> 0
F13: =F12+E13 -> 0 | H13: =H12+G13 -> 0 | I13: =I12-G13+E13 -> 0
F14: =F13+E14 -> 0 | H14: =H13+G14 -> 0 | I14: =I13-G14+E14 -> 0
F15: =F14+E15 -> 0 | H15: =H14+G15 -> 0 | I15: =I14-G15+E15 -> 0
F16: =F15+E16 -> 0 | H16: =H15+G16 -> 0 | I16: =I15-G16+E16 -> 0
F17: =F16+E17 -> 0 | H17: =H16+G17 -> 0 | I17: =I16-G17+E17 -> 0
F18: =F17+E18 -> 0 | H18: =H17+G18 -> 0 | I18: =I17-G18+E18 -> 0
F19: =F18+E19 -> 0 | H19: =H18+G19 -> 0 | I19: =I18-G19+E19 -> 0
F20: =F19+E20 -> 0 | H20: =H19+G20 -> 0 | I20: =I19-G20+E20 -> 0
F21: =F20+E21 -> 0 | H21: =H20+G21 -> 0 | I21: =I20-G21+E21 -> 0
D23: Totals: | E23: =SUM(E9:E22) -> 0 | G23: =SUM(G9:G22) -> 0 | I23: =E23-G23 -> 0

Sheet #9549.00 Misc
A1: ='RECAP #9549.00'!B1 -> HHS CHMHI Administration Building Window Replacement Phase 1 and 2
A2: ='RECAP #9549.00'!B2 -> Project # 9549.00
A3: ='RECAP #9549.00'!B3 -> Program code 954900 | E3: ='RECAP #9549.00'!E3 -> Major Program 4E19
A4: Misc
A6: Acct. Codes-0017-335-MM24-xxxx | E6: Shipping Code:
A7: ='RECAP #9549.00'!B6 -> Project Manager - Jennie E
A8: Doc # | B8: Date | C8: Object Code | D8: Activity Code | E8: Activity | F8: Invoice | G8: Payment Amount | H8: Total Paid
H9: =G9 -> 0
H10: =H9+G10 -> 0
H11: =H10+G11 -> 0
H12: =H11+G12 -> 0
H13: =H12+G13 -> 0
H14: =H13+G14 -> 0
H15: =H14+G15 -> 0
H16: =H15+G16 -> 0
H17: =H16+G17 -> 0
H18: =H17+G18 -> 0
H19: =H18+G19 -> 0
H20: =H19+G20 -> 0
E22: Totals: | G22: =SUM(G9:G21) -> 0

Sheet RECAP #9550.00
B1: DOC FDCF Replace Power Plant and Warehouse Roofs
B2: Project # 9550.00
B3: Program code 955000 | E3: Major Program 4B01
B4: Recap
B5: Acct. Codes-0017-335-MM24 | E5: Close Date:
B6: Project Manager - Jennie E
C7: TRANSFERS | D7: CONTRACTED | E7: EXPENDED | F7: CONTRACTED, NOT EXPENDED | G7: UNDER(OVER) Budget
B8: Budget | C8: =FINANCIAL!G20 -> 858500
B10: VendorA | D10: ='#9550.00 Vendor A'!D23 -> 0 | E10: ='#9550.00 Vendor A'!F23 -> 0 | F10: ='#9550.00 Vendor A'!H23 -> 0
B11: PM TIME | D11: ='#9550.00 PM TIME '!E23 -> 0 | E11: ='#9550.00 PM TIME '!G23 -> 0 | F11: ='#9550.00 PM TIME '!I23 -> 0
B12: Misc. | D12: ='#9550.00 Misc'!G22 -> 0 | E12: ='#9550.00 Misc'!H22 -> 0 | F12: =D12-E12 -> 0
B14: Total Project Cost | C14: =SUM(C8:C13) -> 858500 | D14: =SUM(D8:D13) -> 0 | E14: =SUM(E8:E13) -> 0 | F14: =SUM(D14-E14) -> 0 | G14: =C8-D14 -> 858500

Sheet #9550.00 Vendor A
A1: ='RECAP #9550.00'!B1 -> DOC FDCF Replace Power Plant and Warehouse Roofs
A2: ='RECAP #9550.00'!B2 -> Project # 9550.00
A3: ='RECAP #9550.00'!B3 -> Program code 955000 | D3: ='RECAP #9550.00'!E3 -> Major Program 4B01
A4: Vendor A | D4: Vendor:
A5: Acct. Codes-0017-335-MM24-xxxx
A6: ='RECAP #9550.00'!B6 -> Project Manager - Jennie E | D6: Activity code:
A8: Doc # | B8: Date | C8: Activity | D8: Contract & C.O.'s | E8: Contract Total | F8: Payment Amount | G8: Total Paid | H8: Balance
E9: =D9 -> 0 | H9: =E9 -> 0
E10: =E9+D10 -> 0 | G10: =G9+F10 -> 0 | H10: =H9-F10+D10 -> 0
E11: =E10+D11 -> 0 | G11: =G10+F11 -> 0 | H11: =H10-F11+D11 -> 0
E12: =E11+D12 -> 0 | G12: =G11+F12 -> 0 | H12: =H11-F12+D12 -> 0
E13: =E12+D13 -> 0 | G13: =G12+F13 -> 0 | H13: =H12-F13+D13 -> 0
E14: =E13+D14 -> 0 | G14: =G13+F14 -> 0 | H14: =H13-F14+D14 -> 0
E15: =E14+D15 -> 0 | G15: =G14+F15 -> 0 | H15: =H14-F15+D15 -> 0
E16: =E15+D16 -> 0 | G16: =G15+F16 -> 0 | H16: =H15-F16+D16 -> 0
E17: =E16+D17 -> 0 | G17: =G16+F17 -> 0 | H17: =H16-F17+D17 -> 0
E18: =E17+D18 -> 0 | G18: =G17+F18 -> 0 | H18: =H17-F18+D18 -> 0
E19: =E18+D19 -> 0 | G19: =G18+F19 -> 0 | H19: =H18-F19+D19 -> 0
E20: =E19+D20 -> 0 | G20: =G19+F20 -> 0 | H20: =H19-F20+D20 -> 0
E21: =E20+D21 -> 0 | G21: =G20+F21 -> 0 | H21: =H20-F21+D21 -> 0
C23: Totals: | D23: =SUM(D9:D22) -> 0 | F23: =SUM(F9:F22) -> 0 | H23: =D23-F23 -> 0

Sheet #9550.00 PM TIME 
A1: ='RECAP #9550.00'!B1 -> DOC FDCF Replace Power Plant and Warehouse Roofs
A2: ='RECAP #9550.00'!B2 -> Project # 9550.00
A3: ='RECAP #9550.00'!B3 -> Program code 955000 | E3: ='RECAP #9550.00'!E3 -> Major Program 4B01
A4: PM TIME | E4: Internal documents
A6: Acct. Codes-0017-335-MM24-xxxx | E6: eDAS:E01E
A7: ='RECAP #9550.00'!B6 -> Project Manager - Jennie E
A8: Doc # | B8: Date | C8: Object Code | D8: Activity Code | E8: Contract & C.O.'s | F8: Contract Total | G8: Payment Amount | H8: Total Paid | I8: Balance
D9: Budget amount | F9: =E9 -> 0 | I9: =F9 -> 0
F10: =F9+E10 -> 0 | H10: =H9+G10 -> 0 | I10: =I9-G10+E10 -> 0
F11: =F10+E11 -> 0 | H11: =H10+G11 -> 0 | I11: =I10-G11+E11 -> 0
F12: =F11+E12 -> 0 | H12: =H11+G12 -> 0 | I12: =I11-G12+E12 -> 0
F13: =F12+E13 -> 0 | H13: =H12+G13 -> 0 | I13: =I12-G13+E13 -> 0
F14: =F13+E14 -> 0 | H14: =H13+G14 -> 0 | I14: =I13-G14+E14 -> 0
F15: =F14+E15 -> 0 | H15: =H14+G15 -> 0 | I15: =I14-G15+E15 -> 0
F16: =F15+E16 -> 0 | H16: =H15+G16 -> 0 | I16: =I15-G16+E16 -> 0
F17: =F16+E17 -> 0 | H17: =H16+G17 -> 0 | I17: =I16-G17+E17 -> 0
F18: =F17+E18 -> 0 | H18: =H17+G18 -> 0 | I18: =I17-G18+E18 -> 0
F19: =F18+E19 -> 0 | H19: =H18+G19 -> 0 | I19: =I18-G19+E19 -> 0
F20: =F19+E20 -> 0 | H20: =H19+G20 -> 0 | I20: =I19-G20+E20 -> 0
F21: =F20+E21 -> 0 | H21: =H20+G21 -> 0 | I21: =I20-G21+E21 -> 0
D23: Totals: | E23: =SUM(E9:E22) -> 0 | G23: =SUM(G9:G22) -> 0 | I23: =E23-G23 -> 0

Sheet #9550.00 Misc
A1: ='RECAP #9550.00'!B1 -> DOC FDCF Replace Power Plant and Warehouse Roofs
A2: ='RECAP #9550.00'!B2 -> Project # 9550.00
A3: ='RECAP #9550.00'!B3 -> Program code 955000 | E3: ='RECAP #9550.00'!E3 -> Major Program 4B01
A4: Misc
A6: Acct. Codes-0017-335-MM24-xxxx | E6: Shipping Code:
A7: ='RECAP #9550.00'!B6 -> Project Manager - Jennie E
A8: Doc # | B8: Date | C8: Object Code | D8: Activity Code | E8: Activity | F8: Invoice | G8: Payment Amount | H8: Total Paid
H9: =G9 -> 0
H10: =H9+G10 -> 0
H11: =H10+G11 -> 0
H12: =H11+G12 -> 0
H13: =H12+G13 -> 0
H14: =H13+G14 -> 0
H15: =H14+G15 -> 0
H16: =H15+G16 -> 0
H17: =H16+G17 -> 0
H18: =H17+G18 -> 0
H19: =H18+G19 -> 0
H20: =H19+G20 -> 0
E22: Totals: | G22: =SUM(G9:G21) -> 0

Sheet RECAP #9551.00
B1: DOC ICIW IPI Building Heating Unit Replacements
B2: Project # 9551.00
B3: Program code 955100 | E3: Major Program 4B01
B4: Recap
B5: Acct. Codes-0017-335-MM24 | E5: Close Date:
B6: Project Manager - Brandon A
C7: TRANSFERS | D7: CONTRACTED | E7: EXPENDED | F7: CONTRACTED, NOT EXPENDED | G7: UNDER(OVER) Budget
B8: Budget | C8: =FINANCIAL!G21 -> 800000
B10: VendorA | D10: ='#9551.00 Vendor A '!D23 -> 0 | E10: ='#9551.00 Vendor A '!F23 -> 0 | F10: ='#9551.00 Vendor A '!H23 -> 0
B11: PM TIME | D11: ='#9551.00 PM TIME'!E23 -> 25000 | E11: ='#9551.00 PM TIME'!G23 -> 0 | F11: ='#9551.00 PM TIME'!I23 -> 25000
B12: Misc. | D12: ='#9551.00 Misc'!G22 -> 0 | E12: ='#9551.00 Misc'!H22 -> 0 | F12: =D12-E12 -> 0
B14: Total Project Cost | C14: =SUM(C8:C13) -> 800000 | D14: =SUM(D8:D13) -> 25000 | E14: =SUM(E8:E13) -> 0 | F14: =SUM(D14-E14) -> 25000 | G14: =C8-D14 -> 775000

Sheet #9551.00 Vendor A 
A1: ='RECAP #9551.00'!B1 -> DOC ICIW IPI Building Heating Unit Replacements
A2: ='RECAP #9551.00'!B2 -> Project # 9551.00
A3: ='RECAP #9551.00'!B3 -> Program code 955100 | D3: ='RECAP #9551.00'!E3 -> Major Program 4B01
A4: Vendor A | D4: Vendor:
A5: Acct. Codes-0017-335-MM24-xxxx
A6: ='RECAP #9551.00'!B6 -> Project Manager - Brandon A | D6: Activity code:
A8: Doc # | B8: Date | C8: Activity | D8: Contract & C.O.'s | E8: Contract Total | F8: Payment Amount | G8: Total Paid | H8: Balance
E9: =D9 -> 0 | H9: =E9 -> 0
E10: =E9+D10 -> 0 | G10: =G9+F10 -> 0 | H10: =H9-F10+D10 -> 0
E11: =E10+D11 -> 0 | G11: =G10+F11 -> 0 | H11: =H10-F11+D11 -> 0
E12: =E11+D12 -> 0 | G12: =G11+F12 -> 0 | H12: =H11-F12+D12 -> 0
E13: =E12+D13 -> 0 | G13: =G12+F13 -> 0 | H13: =H12-F13+D13 -> 0
E14: =E13+D14 -> 0 | G14: =G13+F14 -> 0 | H14: =H13-F14+D14 -> 0
E15: =E14+D15 -> 0 | G15: =G14+F15 -> 0 | H15: =H14-F15+D15 -> 0
E16: =E15+D16 -> 0 | G16: =G15+F16 -> 0 | H16: =H15-F16+D16 -> 0
E17: =E16+D17 -> 0 | G17: =G16+F17 -> 0 | H17: =H16-F17+D17 -> 0
E18: =E17+D18 -> 0 | G18: =G17+F18 -> 0 | H18: =H17-F18+D18 -> 0
E19: =E18+D19 -> 0 | G19: =G18+F19 -> 0 | H19: =H18-F19+D19 -> 0
E20: =E19+D20 -> 0 | G20: =G19+F20 -> 0 | H20: =H19-F20+D20 -> 0
E21: =E20+D21 -> 0 | G21: =G20+F21 -> 0 | H21: =H20-F21+D21 -> 0
C23: Totals: | D23: =SUM(D9:D22) -> 0 | F23: =SUM(F9:F22) -> 0 | H23: =D23-F23 -> 0

Sheet #9551.00 PM TIME
A1: ='RECAP #9551.00'!B1 -> DOC ICIW IPI Building Heating Unit Replacements
A2: ='RECAP #9551.00'!B2 -> Project # 9551.00
A3: ='RECAP #9551.00'!B3 -> Program code 955100 | E3: ='RECAP #9551.00'!E3 -> Major Program 4B01
A4: PM TIME | E4: Internal documents
A6: Acct. Codes-0017-335-MM24-xxxx | E6: eDAS: E01F
A7: ='RECAP #9551.00'!B6 -> Project Manager - Brandon A
A8: Doc # | B8: Date | C8: Object Code | D8: Activity Code | E8: Contract & C.O.'s | F8: Contract Total | G8: Payment Amount | H8: Total Paid | I8: Balance
D9: Budget amount | E9: 25000 | F9: =E9 -> 25000 | I9: =F9 -> 25000
F10: =F9+E10 -> 25000 | H10: =H9+G10 -> 0 | I10: =I9-G10+E10 -> 25000
F11: =F10+E11 -> 25000 | H11: =H10+G11 -> 0 | I11: =I10-G11+E11 -> 25000
F12: =F11+E12 -> 25000 | H12: =H11+G12 -> 0 | I12: =I11-G12+E12 -> 25000
F13: =F12+E13 -> 25000 | H13: =H12+G13 -> 0 | I13: =I12-G13+E13 -> 25000
F14: =F13+E14 -> 25000 | H14: =H13+G14 -> 0 | I14: =I13-G14+E14 -> 25000
F15: =F14+E15 -> 25000 | H15: =H14+G15 -> 0 | I15: =I14-G15+E15 -> 25000
F16: =F15+E16 -> 25000 | H16: =H15+G16 -> 0 | I16: =I15-G16+E16 -> 25000
F17: =F16+E17 -> 25000 | H17: =H16+G17 -> 0 | I17: =I16-G17+E17 -> 25000
F18: =F17+E18 -> 25000 | H18: =H17+G18 -> 0 | I18: =I17-G18+E18 -> 25000
F19: =F18+E19 -> 25000 | H19: =H18+G19 -> 0 | I19: =I18-G19+E19 -> 25000
F20: =F19+E20 -> 25000 | H20: =H19+G20 -> 0 | I20: =I19-G20+E20 -> 25000
F21: =F20+E21 -> 25000 | H21: =H20+G21 -> 0 | I21: =I20-G21+E21 -> 25000
D23: Totals: | E23: =SUM(E9:E22) -> 25000 | G23: =SUM(G9:G22) -> 0 | I23: =E23-G23 -> 25000

Sheet #9551.00 Misc
A1: ='RECAP #9551.00'!B1 -> DOC ICIW IPI Building Heating Unit Replacements
A2: ='RECAP #9551.00'!B2 -> Project # 9551.00
A3: ='RECAP #9551.00'!B3 -> Program code 955100 | E3: ='RECAP #9551.00'!E3 -> Major Program 4B01
A4: Misc
A6: Acct. Codes-0017-335-MM24-xxxx | E6: Shipping Code:
A7: ='RECAP #9551.00'!B6 -> Project Manager - Brandon A
A8: Doc # | B8: Date | C8: Object Code | D8: Activity Code | E8: Activity | F8: Invoice | G8: Payment Amount | H8: Total Paid
H9: =G9 -> 0
H10: =H9+G10 -> 0
H11: =H10+G11 -> 0
H12: =H11+G12 -> 0
H13: =H12+G13 -> 0
H14: =H13+G14 -> 0
H15: =H14+G15 -> 0
H16: =H15+G16 -> 0
H17: =H16+G17 -> 0
H18: =H17+G18 -> 0
H19: =H18+G19 -> 0
H20: =H19+G20 -> 0
E22: Totals: | G22: =SUM(G9:G21) -> 0

Sheet RECAP #9554.00
B1: DOC IMCC Tunnel Waterproofing
B2: Project # 9554.00
B3: Program code 955400 | E3: Major Program 4E17
B4: Recap
B5: Acct. Codes-0017-335-MM24 | E5: Close Date:
B6: Project Manager - Jennifer K
C7: TRANSFERS | D7: CONTRACTED | E7: EXPENDED | F7: CONTRACTED, NOT EXPENDED | G7: UNDER(OVER) Budget
B8: Budget | C8: =FINANCIAL!G22 -> 850000
B10: VendorA | D10: ='#9554.00 Vendor A '!D23 -> 0 | E10: ='#9554.00 Vendor A '!F23 -> 0 | F10: ='#9554.00 Vendor A '!H23 -> 0
B11: PM TIME | D11: ='#9554.00 PM TIME'!E23 -> 0 | E11: ='#9554.00 PM TIME'!G23 -> 0 | F11: ='#9554.00 PM TIME'!I23 -> 0
B12: Misc. | D12: ='#9554.00 Misc'!G22 -> 0 | E12: ='#9554.00 Misc'!H22 -> 0 | F12: =D12-E12 -> 0
B14: Total Project Cost | C14: =SUM(C8:C13) -> 850000 | D14: =SUM(D8:D13) -> 0 | E14: =SUM(E8:E13) -> 0 | F14: =SUM(D14-E14) -> 0 | G14: =C8-D14 -> 850000

Sheet #9554.00 Vendor A 
A1: ='RECAP #9554.00'!B1 -> DOC IMCC Tunnel Waterproofing
A2: ='RECAP #9554.00'!B2 -> Project # 9554.00
A3: ='RECAP #9554.00'!B3 -> Program code 955400 | D3: ='RECAP #9554.00'!E3 -> Major Program 4E17
A4: Vendor A | D4: Vendor:
A5: Acct. Codes-0017-335-MM24-xxxx
A6: ='RECAP #9554.00'!B6 -> Project Manager - Jennifer K | D6: Activity code:
A8: Doc # | B8: Date | C8: Activity | D8: Contract & C.O.'s | E8: Contract Total | F8: Payment Amount | G8: Total Paid | H8: Balance
E9: =D9 -> 0 | H9: =E9 -> 0
E10: =E9+D10 -> 0 | G10: =G9+F10 -> 0 | H10: =H9-F10+D10 -> 0
E11: =E10+D11 -> 0 | G11: =G10+F11 -> 0 | H11: =H10-F11+D11 -> 0
E12: =E11+D12 -> 0 | G12: =G11+F12 -> 0 | H12: =H11-F12+D12 -> 0
E13: =E12+D13 -> 0 | G13: =G12+F13 -> 0 | H13: =H12-F13+D13 -> 0
E14: =E13+D14 -> 0 | G14: =G13+F14 -> 0 | H14: =H13-F14+D14 -> 0
E15: =E14+D15 -> 0 | G15: =G14+F15 -> 0 | H15: =H14-F15+D15 -> 0
E16: =E15+D16 -> 0 | G16: =G15+F16 -> 0 | H16: =H15-F16+D16 -> 0
E17: =E16+D17 -> 0 | G17: =G16+F17 -> 0 | H17: =H16-F17+D17 -> 0
E18: =E17+D18 -> 0 | G18: =G17+F18 -> 0 | H18: =H17-F18+D18 -> 0
E19: =E18+D19 -> 0 | G19: =G18+F19 -> 0 | H19: =H18-F19+D19 -> 0
E20: =E19+D20 -> 0 | G20: =G19+F20 -> 0 | H20: =H19-F20+D20 -> 0
E21: =E20+D21 -> 0 | G21: =G20+F21 -> 0 | H21: =H20-F21+D21 -> 0
C23: Totals: | D23: =SUM(D9:D22) -> 0 | F23: =SUM(F9:F22) -> 0 | H23: =D23-F23 -> 0

Sheet #9554.00 PM TIME
A1: ='RECAP #9554.00'!B1 -> DOC IMCC Tunnel Waterproofing
A2: ='RECAP #9554.00'!B2 -> Project # 9554.00
A3: ='RECAP #9554.00'!B3 -> Program code 955400 | E3: ='RECAP #9554.00'!E3 -> Major Program 4E17
A4: PM TIME | E4: Internal documents
A6: Acct. Codes-0017-335-MM24-xxxx | E6: eDAS: E01J
A7: ='RECAP #9554.00'!B6 -> Project Manager - Jennifer K
A8: Doc # | B8: Date | C8: Object Code | D8: Activity Code | E8: Contract & C.O.'s | F8: Contract Total | G8: Payment Amount | H8: Total Paid | I8: Balance
D9: Budget amount | F9: =E9 -> 0 | I9: =F9 -> 0
F10: =F9+E10 -> 0 | H10: =H9+G10 -> 0 | I10: =I9-G10+E10 -> 0
F11: =F10+E11 -> 0 | H11: =H10+G11 -> 0 | I11: =I10-G11+E11 -> 0
F12: =F11+E12 -> 0 | H12: =H11+G12 -> 0 | I12: =I11-G12+E12 -> 0
F13: =F12+E13 -> 0 | H13: =H12+G13 -> 0 | I13: =I12-G13+E13 -> 0
F14: =F13+E14 -> 0 | H14: =H13+G14 -> 0 | I14: =I13-G14+E14 -> 0
F15: =F14+E15 -> 0 | H15: =H14+G15 -> 0 | I15: =I14-G15+E15 -> 0
F16: =F15+E16 -> 0 | H16: =H15+G16 -> 0 | I16: =I15-G16+E16 -> 0
F17: =F16+E17 -> 0 | H17: =H16+G17 -> 0 | I17: =I16-G17+E17 -> 0
F18: =F17+E18 -> 0 | H18: =H17+G18 -> 0 | I18: =I17-G18+E18 -> 0
F19: =F18+E19 -> 0 | H19: =H18+G19 -> 0 | I19: =I18-G19+E19 -> 0
F20: =F19+E20 -> 0 | H20: =H19+G20 -> 0 | I20: =I19-G20+E20 -> 0
F21: =F20+E21 -> 0 | H21: =H20+G21 -> 0 | I21: =I20-G21+E21 -> 0
D23: Totals: | E23: =SUM(E9:E22) -> 0 | G23: =SUM(G9:G22) -> 0 | I23: =E23-G23 -> 0

Sheet #9554.00 Misc
A1: ='RECAP #9554.00'!B1 -> DOC IMCC Tunnel Waterproofing
A2: ='RECAP #9554.00'!B2 -> Project # 9554.00
A3: ='RECAP #9554.00'!B3 -> Program code 955400 | E3: ='RECAP #9554.00'!E3 -> Major Program 4E17
A4: Misc
A6: Acct. Codes-0017-335-MM24-xxxx | E6: Shipping Code:
A7: ='RECAP #9554.00'!B6 -> Project Manager - Jennifer K
A8: Doc # | B8: Date | C8: Object Code | D8: Activity Code | E8: Activity | F8: Invoice | G8: Payment Amount | H8: Total Paid
H9: =G9 -> 0
H10: =H9+G10 -> 0
H11: =H10+G11 -> 0
H12: =H11+G12 -> 0
H13: =H12+G13 -> 0
H14: =H13+G14 -> 0
H15: =H14+G15 -> 0
H16: =H15+G16 -> 0
H17: =H16+G17 -> 0
H18: =H17+G18 -> 0
H19: =H18+G19 -> 0
H20: =H19+G20 -> 0
E22: Totals: | G22: =SUM(G9:G21) -> 0

Sheet RECAP #9555.00
B1: DOC IMCC Vehicle Gate VG1, 1A and VG18 Replacements
B2: Project # 9555.00
B3: Program code 955500 | E3: Major Program 4B01
B4: Recap
B5: Acct. Codes-0017-335-MM24 | E5: Close Date:
B6: Project Manager - Jennifer K
C7: TRANSFERS | D7: CONTRACTED | E7: EXPENDED | F7: CONTRACTED, NOT EXPENDED | G7: UNDER(OVER) Budget
B8: Budget | C8: =FINANCIAL!G23 -> 875000
B10: VendorA | D10: ='#9555.00 Vendor A'!D23 -> 0 | E10: ='#9555.00 Vendor A'!F23 -> 0 | F10: ='#9555.00 Vendor A'!H23 -> 0
B11: PM TIME | D11: ='#9555.00 PM TIME'!E23 -> 26250 | E11: ='#9555.00 PM TIME'!G23 -> 0 | F11: ='#9555.00 PM TIME'!I23 -> 26250
B12: Misc. | D12: ='#9555.00 Misc'!G22 -> 0 | E12: ='#9555.00 Misc'!H22 -> 0 | F12: =D12-E12 -> 0
B14: Total Project Cost | C14: =SUM(C8:C13) -> 875000 | D14: =SUM(D8:D13) -> 26250 | E14: =SUM(E8:E13) -> 0 | F14: =SUM(D14-E14) -> 26250 | G14: =C8-D14 -> 848750

Sheet #9555.00 Vendor A
A1: ='RECAP #9555.00'!B1 -> DOC IMCC Vehicle Gate VG1, 1A and VG18 Replacements
A2: ='RECAP #9555.00'!B2 -> Project # 9555.00
A3: ='RECAP #9555.00'!B3 -> Program code 955500 | D3: ='RECAP #9555.00'!E3 -> Major Program 4B01
A4: Vendor A | D4: Vendor:
A5: Acct. Codes-0017-335-MM24-xxxx
A6: ='RECAP #9555.00'!B6 -> Project Manager - Jennifer K | D6: Activity code:
A8: Doc # | B8: Date | C8: Activity | D8: Contract & C.O.'s | E8: Contract Total | F8: Payment Amount | G8: Total Paid | H8: Balance
E9: =D9 -> 0 | H9: =E9 -> 0
E10: =E9+D10 -> 0 | G10: =G9+F10 -> 0 | H10: =H9-F10+D10 -> 0
E11: =E10+D11 -> 0 | G11: =G10+F11 -> 0 | H11: =H10-F11+D11 -> 0
E12: =E11+D12 -> 0 | G12: =G11+F12 -> 0 | H12: =H11-F12+D12 -> 0
E13: =E12+D13 -> 0 | G13: =G12+F13 -> 0 | H13: =H12-F13+D13 -> 0
E14: =E13+D14 -> 0 | G14: =G13+F14 -> 0 | H14: =H13-F14+D14 -> 0
E15: =E14+D15 -> 0 | G15: =G14+F15 -> 0 | H15: =H14-F15+D15 -> 0
E16: =E15+D16 -> 0 | G16: =G15+F16 -> 0 | H16: =H15-F16+D16 -> 0
E17: =E16+D17 -> 0 | G17: =G16+F17 -> 0 | H17: =H16-F17+D17 -> 0
E18: =E17+D18 -> 0 | G18: =G17+F18 -> 0 | H18: =H17-F18+D18 -> 0
E19: =E18+D19 -> 0 | G19: =G18+F19 -> 0 | H19: =H18-F19+D19 -> 0
E20: =E19+D20 -> 0 | G20: =G19+F20 -> 0 | H20: =H19-F20+D20 -> 0
E21: =E20+D21 -> 0 | G21: =G20+F21 -> 0 | H21: =H20-F21+D21 -> 0
C23: Totals: | D23: =SUM(D9:D22) -> 0 | F23: =SUM(F9:F22) -> 0 | H23: =D23-F23 -> 0

Sheet #9555.00 PM TIME
A1: ='RECAP #9555.00'!B1 -> DOC IMCC Vehicle Gate VG1, 1A and VG18 Replacements
A2: ='RECAP #9555.00'!B2 -> Project # 9555.00
A3: ='RECAP #9555.00'!B3 -> Program code 955500 | E3: ='RECAP #9555.00'!E3 -> Major Program 4B01
A4: PM TIME | E4: Internal documents
A6: Acct. Codes-0017-335-MM24-xxxx | E6: eDAS: E01W
A7: ='RECAP #9555.00'!B6 -> Project Manager - Jennifer K
A8: Doc # | B8: Date | C8: Object Code | D8: Activity Code | E8: Contract & C.O.'s | F8: Contract Total | G8: Payment Amount | H8: Total Paid | I8: Balance
D9: Budget amount | E9: 26250 | F9: =E9 -> 26250 | I9: =F9 -> 26250
F10: =F9+E10 -> 26250 | H10: =H9+G10 -> 0 | I10: =I9-G10+E10 -> 26250
F11: =F10+E11 -> 26250 | H11: =H10+G11 -> 0 | I11: =I10-G11+E11 -> 26250
F12: =F11+E12 -> 26250 | H12: =H11+G12 -> 0 | I12: =I11-G12+E12 -> 26250
F13: =F12+E13 -> 26250 | H13: =H12+G13 -> 0 | I13: =I12-G13+E13 -> 26250
F14: =F13+E14 -> 26250 | H14: =H13+G14 -> 0 | I14: =I13-G14+E14 -> 26250
F15: =F14+E15 -> 26250 | H15: =H14+G15 -> 0 | I15: =I14-G15+E15 -> 26250
F16: =F15+E16 -> 26250 | H16: =H15+G16 -> 0 | I16: =I15-G16+E16 -> 26250
F17: =F16+E17 -> 26250 | H17: =H16+G17 -> 0 | I17: =I16-G17+E17 -> 26250
F18: =F17+E18 -> 26250 | H18: =H17+G18 -> 0 | I18: =I17-G18+E18 -> 26250
F19: =F18+E19 -> 26250 | H19: =H18+G19 -> 0 | I19: =I18-G19+E19 -> 26250
F20: =F19+E20 -> 26250 | H20: =H19+G20 -> 0 | I20: =I19-G20+E20 -> 26250
F21: =F20+E21 -> 26250 | H21: =H20+G21 -> 0 | I21: =I20-G21+E21 -> 26250
D23: Totals: | E23: =SUM(E9:E22) -> 26250 | G23: =SUM(G9:G22) -> 0 | I23: =E23-G23 -> 26250

Sheet #9555.00 Misc
A1: ='RECAP #9555.00'!B1 -> DOC IMCC Vehicle Gate VG1, 1A and VG18 Replacements
A2: ='RECAP #9555.00'!B2 -> Project # 9555.00
A3: ='RECAP #9555.00'!B3 -> Program code 955500 | E3: ='RECAP #9555.00'!E3 -> Major Program 4B01
A4: Misc
A6: Acct. Codes-0017-335-MM24-xxxx | E6: Shipping Code:
A7: ='RECAP #9555.00'!B6 -> Project Manager - Jennifer K
A8: Doc # | B8: Date | C8: Object Code | D8: Activity Code | E8: Activity | F8: Invoice | G8: Payment Amount | H8: Total Paid
H9: =G9 -> 0
H10: =H9+G10 -> 0
H11: =H10+G11 -> 0
H12: =H11+G12 -> 0
H13: =H12+G13 -> 0
H14: =H13+G14 -> 0
H15: =H14+G15 -> 0
H16: =H15+G16 -> 0
H17: =H16+G17 -> 0
H18: =H17+G18 -> 0
H19: =H18+G19 -> 0
H20: =H19+G20 -> 0
E22: Totals: | G22: =SUM(G9:G21) -> 0

Sheet RECAP #9556.00
B1: DOC IMCC Main Building AHU Control and Old Boiler Room Condensate Tank Replacements
B2: Project # 9556.00
B3: Program code 955600 | E3: Major Program 4B01
B4: Recap
B5: Acct. Codes-0017-335-MM24 | E5: Close Date:
B6: Project Manager - Jennifer K
C7: TRANSFERS | D7: CONTRACTED | E7: EXPENDED | F7: CONTRACTED, NOT EXPENDED | G7: UNDER(OVER) Budget
B8: Budget | C8: =FINANCIAL!G24 -> 1130000
B10: VendorA | D10: ='#9556.00 Vendor A'!D23 -> 0 | E10: ='#9556.00 Vendor A'!F23 -> 0 | F10: ='#9556.00 Vendor A'!H23 -> 0
B11: PM TIME | D11: ='#9556.00 PM TIME'!E23 -> 25000 | E11: ='#9556.00 PM TIME'!G23 -> 0 | F11: ='#9556.00 PM TIME'!I23 -> 25000
B12: Misc. | D12: ='#9556.00 Misc'!G22 -> 0 | E12: ='#9556.00 Misc'!H22 -> 0 | F12: =D12-E12 -> 0
B14: Total Project Cost | C14: =SUM(C8:C13) -> 1130000 | D14: =SUM(D8:D13) -> 25000 | E14: =SUM(E8:E13) -> 0 | F14: =SUM(D14-E14) -> 25000 | G14: =C8-D14 -> 1105000

Sheet #9556.00 Vendor A
A1: ='RECAP #9556.00'!B1 -> DOC IMCC Main Building AHU Control and Old Boiler Room Condensate Tank Replacements
A2: ='RECAP #9556.00'!B2 -> Project # 9556.00
A3: ='RECAP #9556.00'!B3 -> Program code 955600 | D3: ='RECAP #9556.00'!E3 -> Major Program 4B01
A4: Vendor A | D4: Vendor:
A5: Acct. Codes-0017-335-MM24-xxxx
A6: ='RECAP #9556.00'!B6 -> Project Manager - Jennifer K | D6: Activity code:
A8: Doc # | B8: Date | C8: Activity | D8: Contract & C.O.'s | E8: Contract Total | F8: Payment Amount | G8: Total Paid | H8: Balance
E9: =D9 -> 0 | H9: =E9 -> 0
E10: =E9+D10 -> 0 | G10: =G9+F10 -> 0 | H10: =H9-F10+D10 -> 0
E11: =E10+D11 -> 0 | G11: =G10+F11 -> 0 | H11: =H10-F11+D11 -> 0
E12: =E11+D12 -> 0 | G12: =G11+F12 -> 0 | H12: =H11-F12+D12 -> 0
E13: =E12+D13 -> 0 | G13: =G12+F13 -> 0 | H13: =H12-F13+D13 -> 0
E14: =E13+D14 -> 0 | G14: =G13+F14 -> 0 | H14: =H13-F14+D14 -> 0
E15: =E14+D15 -> 0 | G15: =G14+F15 -> 0 | H15: =H14-F15+D15 -> 0
E16: =E15+D16 -> 0 | G16: =G15+F16 -> 0 | H16: =H15-F16+D16 -> 0
E17: =E16+D17 -> 0 | G17: =G16+F17 -> 0 | H17: =H16-F17+D17 -> 0
E18: =E17+D18 -> 0 | G18: =G17+F18 -> 0 | H18: =H17-F18+D18 -> 0
E19: =E18+D19 -> 0 | G19: =G18+F19 -> 0 | H19: =H18-F19+D19 -> 0
E20: =E19+D20 -> 0 | G20: =G19+F20 -> 0 | H20: =H19-F20+D20 -> 0
E21: =E20+D21 -> 0 | G21: =G20+F21 -> 0 | H21: =H20-F21+D21 -> 0
C23: Totals: | D23: =SUM(D9:D22) -> 0 | F23: =SUM(F9:F22) -> 0 | H23: =D23-F23 -> 0

Sheet #9556.00 PM TIME
A1: ='RECAP #9556.00'!B1 -> DOC IMCC Main Building AHU Control and Old Boiler Room Condensate Tank Replacements
A2: ='RECAP #9556.00'!B2 -> Project # 9556.00
A3: ='RECAP #9556.00'!B3 -> Program code 955600 | E3: ='RECAP #9556.00'!E3 -> Major Program 4B01
A4: PM TIME | E4: Internal documents
A6: Acct. Codes-0017-335-MM24-xxxx | E6: eDAS: E024
A7: ='RECAP #9556.00'!B6 -> Project Manager - Jennifer K
A8: Doc # | B8: Date | C8: Object Code | D8: Activity Code | E8: Contract & C.O.'s | F8: Contract Total | G8: Payment Amount | H8: Total Paid | I8: Balance
D9: Budget amount | E9: 25000 | F9: =E9 -> 25000 | I9: =F9 -> 25000
F10: =F9+E10 -> 25000 | H10: =H9+G10 -> 0 | I10: =I9-G10+E10 -> 25000
F11: =F10+E11 -> 25000 | H11: =H10+G11 -> 0 | I11: =I10-G11+E11 -> 25000
F12: =F11+E12 -> 25000 | H12: =H11+G12 -> 0 | I12: =I11-G12+E12 -> 25000
F13: =F12+E13 -> 25000 | H13: =H12+G13 -> 0 | I13: =I12-G13+E13 -> 25000
F14: =F13+E14 -> 25000 | H14: =H13+G14 -> 0 | I14: =I13-G14+E14 -> 25000
F15: =F14+E15 -> 25000 | H15: =H14+G15 -> 0 | I15: =I14-G15+E15 -> 25000
F16: =F15+E16 -> 25000 | H16: =H15+G16 -> 0 | I16: =I15-G16+E16 -> 25000
F17: =F16+E17 -> 25000 | H17: =H16+G17 -> 0 | I17: =I16-G17+E17 -> 25000
F18: =F17+E18 -> 25000 | H18: =H17+G18 -> 0 | I18: =I17-G18+E18 -> 25000
F19: =F18+E19 -> 25000 | H19: =H18+G19 -> 0 | I19: =I18-G19+E19 -> 25000
F20: =F19+E20 -> 25000 | H20: =H19+G20 -> 0 | I20: =I19-G20+E20 -> 25000
F21: =F20+E21 -> 25000 | H21: =H20+G21 -> 0 | I21: =I20-G21+E21 -> 25000
D23: Totals: | E23: =SUM(E9:E22) -> 25000 | G23: =SUM(G9:G22) -> 0 | I23: =E23-G23 -> 25000

Sheet #9556.00 Misc
A1: ='RECAP #9556.00'!B1 -> DOC IMCC Main Building AHU Control and Old Boiler Room Condensate Tank Replacements
A2: ='RECAP #9556.00'!B2 -> Project # 9556.00
A3: ='RECAP #9556.00'!B3 -> Program code 955600 | E3: ='RECAP #9556.00'!E3 -> Major Program 4B01
A4: Misc
A6: Acct. Codes-0017-335-MM24-xxxx | E6: Shipping Code:
A7: ='RECAP #9556.00'!B6 -> Project Manager - Jennifer K
A8: Doc # | B8: Date | C8: Object Code | D8: Activity Code | E8: Activity | F8: Invoice | G8: Payment Amount | H8: Total Paid
H9: =G9 -> 0
H10: =H9+G10 -> 0
H11: =H10+G11 -> 0
H12: =H11+G12 -> 0
H13: =H12+G13 -> 0
H14: =H13+G14 -> 0
H15: =H14+G15 -> 0
H16: =H15+G16 -> 0
H17: =H16+G17 -> 0
H18: =H17+G18 -> 0
H19: =H18+G19 -> 0
H20: =H19+G20 -> 0
E22: Totals: | G22: =SUM(G9:G21) -> 0

Sheet RECAP #9557.00
B1: HHS IMHI Infirmary Tuckpointing and Window Replacement
B2: Project # 9557.00
B3: Program code 955700 | E3: Major Program 4E10
B4: Recap
B5: Acct. Codes-0017-335-MM24 | E5: Close Date:
B6: Project Manager - James T
C7: TRANSFERS | D7: CONTRACTED | E7: EXPENDED | F7: CONTRACTED, NOT EXPENDED | G7: UNDER(OVER) Budget
B8: Budget | C8: =FINANCIAL!G25 -> 3258036.9
B10: VendorA | D10: ='#9557.00 Vendor A'!D23 -> 0 | E10: ='#9557.00 Vendor A'!F23 -> 0 | F10: ='#9557.00 Vendor A'!H23 -> 0
B11: PM TIME | D11: ='#9557.00 PM TIME'!E23 -> 0 | E11: ='#9557.00 PM TIME'!G23 -> 0 | F11: ='#9557.00 PM TIME'!I23 -> 0
B12: Misc. | D12: ='#9557.00 Misc '!G22 -> 0 | E12: ='#9557.00 Misc '!H22 -> 0 | F12: =D12-E12 -> 0
B14: Total Project Cost | C14: =SUM(C8:C13) -> 3258036.9 | D14: =SUM(D8:D13) -> 0 | E14: =SUM(E8:E13) -> 0 | F14: =SUM(D14-E14) -> 0 | G14: =C8-D14 -> 3258036.9

Sheet #9557.00 Vendor A
A1: ='RECAP #9557.00'!B1 -> HHS IMHI Infirmary Tuckpointing and Window Replacement
A2: ='RECAP #9557.00'!B2 -> Project # 9557.00
A3: ='RECAP #9557.00'!B3 -> Program code 955700 | D3: ='RECAP #9557.00'!E3 -> Major Program 4E10
A4: Vendor A | D4: Vendor:
A5: Acct. Codes-0017-335-MM24-xxxx
A6: ='RECAP #9557.00'!B6 -> Project Manager - James T | D6: Activity code:
A8: Doc # | B8: Date | C8: Activity | D8: Contract & C.O.'s | E8: Contract Total | F8: Payment Amount | G8: Total Paid | H8: Balance
E9: =D9 -> 0 | H9: =E9 -> 0
E10: =E9+D10 -> 0 | G10: =G9+F10 -> 0 | H10: =H9-F10+D10 -> 0
E11: =E10+D11 -> 0 | G11: =G10+F11 -> 0 | H11: =H10-F11+D11 -> 0
E12: =E11+D12 -> 0 | G12: =G11+F12 -> 0 | H12: =H11-F12+D12 -> 0
E13: =E12+D13 -> 0 | G13: =G12+F13 -> 0 | H13: =H12-F13+D13 -> 0
E14: =E13+D14 -> 0 | G14: =G13+F14 -> 0 | H14: =H13-F14+D14 -> 0
E15: =E14+D15 -> 0 | G15: =G14+F15 -> 0 | H15: =H14-F15+D15 -> 0
E16: =E15+D16 -> 0 | G16: =G15+F16 -> 0 | H16: =H15-F16+D16 -> 0
E17: =E16+D17 -> 0 | G17: =G16+F17 -> 0 | H17: =H16-F17+D17 -> 0
E18: =E17+D18 -> 0 | G18: =G17+F18 -> 0 | H18: =H17-F18+D18 -> 0
E19: =E18+D19 -> 0 | G19: =G18+F19 -> 0 | H19: =H18-F19+D19 -> 0
E20: =E19+D20 -> 0 | G20: =G19+F20 -> 0 | H20: =H19-F20+D20 -> 0
E21: =E20+D21 -> 0 | G21: =G20+F21 -> 0 | H21: =H20-F21+D21 -> 0
C23: Totals: | D23: =SUM(D9:D22) -> 0 | F23: =SUM(F9:F22) -> 0 | H23: =D23-F23 -> 0

Sheet #9557.00 PM TIME
A1: ='RECAP #9557.00'!B1 -> HHS IMHI Infirmary Tuckpointing and Window Replacement
A2: ='RECAP #9557.00'!B2 -> Project # 9557.00
A3: ='RECAP #9557.00'!B3 -> Program code 955700 | E3: ='RECAP #9557.00'!E3 -> Major Program 4E10
A4: PM TIME | E4: Internal documents
A6: Acct. Codes-0017-335-MM24-xxxx | E6: eDAS: E028
A7: ='RECAP #9557.00'!B6 -> Project Manager - James T
A8: Doc # | B8: Date | C8: Object Code | D8: Activity Code | E8: Contract & C.O.'s | F8: Contract Total | G8: Payment Amount | H8: Total Paid | I8: Balance
D9: Budget amount | F9: =E9 -> 0 | I9: =F9 -> 0
F10: =F9+E10 -> 0 | H10: =H9+G10 -> 0 | I10: =I9-G10+E10 -> 0
F11: =F10+E11 -> 0 | H11: =H10+G11 -> 0 | I11: =I10-G11+E11 -> 0
F12: =F11+E12 -> 0 | H12: =H11+G12 -> 0 | I12: =I11-G12+E12 -> 0
F13: =F12+E13 -> 0 | H13: =H12+G13 -> 0 | I13: =I12-G13+E13 -> 0
F14: =F13+E14 -> 0 | H14: =H13+G14 -> 0 | I14: =I13-G14+E14 -> 0
F15: =F14+E15 -> 0 | H15: =H14+G15 -> 0 | I15: =I14-G15+E15 -> 0
F16: =F15+E16 -> 0 | H16: =H15+G16 -> 0 | I16: =I15-G16+E16 -> 0
F17: =F16+E17 -> 0 | H17: =H16+G17 -> 0 | I17: =I16-G17+E17 -> 0
F18: =F17+E18 -> 0 | H18: =H17+G18 -> 0 | I18: =I17-G18+E18 -> 0
F19: =F18+E19 -> 0 | H19: =H18+G19 -> 0 | I19: =I18-G19+E19 -> 0
F20: =F19+E20 -> 0 | H20: =H19+G20 -> 0 | I20: =I19-G20+E20 -> 0
F21: =F20+E21 -> 0 | H21: =H20+G21 -> 0 | I21: =I20-G21+E21 -> 0
D23: Totals: | E23: =SUM(E9:E22) -> 0 | G23: =SUM(G9:G22) -> 0 | I23: =E23-G23 -> 0

Sheet #9557.00 Misc 
A1: ='RECAP #9557.00'!B1 -> HHS IMHI Infirmary Tuckpointing and Window Replacement
A2: ='RECAP #9557.00'!B2 -> Project # 9557.00
A3: ='RECAP #9557.00'!B3 -> Program code 955700 | E3: ='RECAP #9557.00'!E3 -> Major Program 4E10
A4: Misc
A6: Acct. Codes-0017-335-MM24-xxxx | E6: Shipping Code:
A7: ='RECAP #9557.00'!B6 -> Project Manager - James T
A8: Doc # | B8: Date | C8: Object Code | D8: Activity Code | E8: Activity | F8: Invoice | G8: Payment Amount | H8: Total Paid
H9: =G9 -> 0
H10: =H9+G10 -> 0
H11: =H10+G11 -> 0
H12: =H11+G12 -> 0
H13: =H12+G13 -> 0
H14: =H13+G14 -> 0
H15: =H14+G15 -> 0
H16: =H15+G16 -> 0
H17: =H16+G17 -> 0
H18: =H17+G18 -> 0
H19: =H18+G19 -> 0
H20: =H19+G20 -> 0
E22: Totals: | G22: =SUM(G9:G21) -> 0

Sheet RECAP #9558.00
B1: IDOE IPBS 6535 Building Tuckpointing
B2: Project # 9558.00
B3: Program code 955800 | E3: Major Program 4E10
B4: Recap
B5: Acct. Codes-0017-335-MM24 | E5: Close Date:
B6: Project Manager - Brandon A
C7: TRANSFERS | D7: CONTRACTED | E7: EXPENDED | F7: CONTRACTED, NOT EXPENDED | G7: UNDER(OVER) Budget
B8: Budget | C8: =FINANCIAL!G26 -> 250000
B10: VendorA | D10: ='#9558.00 Vendor A'!D23 -> 0 | E10: ='#9558.00 Vendor A'!F23 -> 0 | F10: ='#9558.00 Vendor A'!H23 -> 0
B11: PM TIME | D11: ='#9558.00 PM TIME '!E23 -> 8000 | E11: ='#9558.00 PM TIME '!G23 -> 0 | F11: ='#9558.00 PM TIME '!I23 -> 8000
B12: Misc. | D12: ='#9558.00 Misc'!G22 -> 0 | E12: ='#9558.00 Misc'!H22 -> 0 | F12: =D12-E12 -> 0
B14: Total Project Cost | C14: =SUM(C8:C13) -> 250000 | D14: =SUM(D8:D13) -> 8000 | E14: =SUM(E8:E13) -> 0 | F14: =SUM(D14-E14) -> 8000 | G14: =C8-D14 -> 242000

Sheet #9558.00 Vendor A
A1: ='RECAP #9558.00'!B1 -> IDOE IPBS 6535 Building Tuckpointing
A2: ='RECAP #9558.00'!B2 -> Project # 9558.00
A3: ='RECAP #9558.00'!B3 -> Program code 955800 | D3: ='RECAP #9558.00'!E3 -> Major Program 4E10
A4: Vendor A | D4: Vendor:
A5: Acct. Codes-0017-335-MM24-xxxx
A6: ='RECAP #9558.00'!B6 -> Project Manager - Brandon A | D6: Activity code:
A8: Doc # | B8: Date | C8: Activity | D8: Contract & C.O.'s | E8: Contract Total | F8: Payment Amount | G8: Total Paid | H8: Balance
E9: =D9 -> 0 | H9: =E9 -> 0
E10: =E9+D10 -> 0 | G10: =G9+F10 -> 0 | H10: =H9-F10+D10 -> 0
E11: =E10+D11 -> 0 | G11: =G10+F11 -> 0 | H11: =H10-F11+D11 -> 0
E12: =E11+D12 -> 0 | G12: =G11+F12 -> 0 | H12: =H11-F12+D12 -> 0
E13: =E12+D13 -> 0 | G13: =G12+F13 -> 0 | H13: =H12-F13+D13 -> 0
E14: =E13+D14 -> 0 | G14: =G13+F14 -> 0 | H14: =H13-F14+D14 -> 0
E15: =E14+D15 -> 0 | G15: =G14+F15 -> 0 | H15: =H14-F15+D15 -> 0
E16: =E15+D16 -> 0 | G16: =G15+F16 -> 0 | H16: =H15-F16+D16 -> 0
E17: =E16+D17 -> 0 | G17: =G16+F17 -> 0 | H17: =H16-F17+D17 -> 0
E18: =E17+D18 -> 0 | G18: =G17+F18 -> 0 | H18: =H17-F18+D18 -> 0
E19: =E18+D19 -> 0 | G19: =G18+F19 -> 0 | H19: =H18-F19+D19 -> 0
E20: =E19+D20 -> 0 | G20: =G19+F20 -> 0 | H20: =H19-F20+D20 -> 0
E21: =E20+D21 -> 0 | G21: =G20+F21 -> 0 | H21: =H20-F21+D21 -> 0
C23: Totals: | D23: =SUM(D9:D22) -> 0 | F23: =SUM(F9:F22) -> 0 | H23: =D23-F23 -> 0

Sheet #9558.00 PM TIME 
A1: ='RECAP #9558.00'!B1 -> IDOE IPBS 6535 Building Tuckpointing
A2: ='RECAP #9558.00'!B2 -> Project # 9558.00
A3: ='RECAP #9558.00'!B3 -> Program code 955800 | E3: ='RECAP #9558.00'!E3 -> Major Program 4E10
A4: PM TIME | E4: Internal documents
A6: Acct. Codes-0017-335-MM24-xxxx | E6: eDAS: E02C
A7: ='RECAP #9558.00'!B6 -> Project Manager - Brandon A
A8: Doc # | B8: Date | C8: Object Code | D8: Activity Code | E8: Contract & C.O.'s | F8: Contract Total | G8: Payment Amount | H8: Total Paid | I8: Balance
D9: Budget amount | E9: 8000 | F9: =E9 -> 8000 | I9: =F9 -> 8000
