Workbook

Sheet FINANCIAL
A1: .
A2: Status | B2: PROJECT NUMBER | C2: PROJECT TITLE | D2: Project Mgr. | E2: 506 Project Budget | F2: 506 Project Funds Received | G2: Total Project Budget | H2: Contracted Amount | I2: Expended Amount | J2: Encumbered Not Expended | K2: Not Encumbered
C3: Vertical Infrastructure Funds | D3: =F40 -> 7429628
C4: Additional Funds
C5: Sales Tax Refunds | E5: 0
C6: Total Funds & Sales Tax Refunds | E6: =D3+D4-E5 -> 7429628
C7: Less: Total Assigned
C8: Total Unassigned / Unallocated | E8: =E6-E7 -> 7429628
C12: DA24 (MOU) Projects
E13: hard code | F13: link to project recap | G13: link to this page budget column | H13: link to project recap | I13: link to project recap | J13: link to project recap | K13: link to project recap
B14: 9455.00 | C14: IDOE ISD Giangreco Hall Water Infiltration Mitigation | D14: Jennie E. | E14: 0 | F14: ='RECAP #9455.00'!C16 -> 4430000 | G14: =E14+F14 -> 4430000 | H14: ='RECAP #9455.00'!D16 -> 1069931.4 | I14: ='RECAP #9455.00'!E16 -> 220792.61 | J14: ='RECAP #9455.00'!F16 -> 849138.83 | K14: ='RECAP #9455.00'!G16 -> 3360068.6
B15: 9516.01 | C15: IDR State of Iowa Building Renovation | D15: Jennie E. | E15: 0 | F15: ='RECAP #9516.01'!C20 -> 1206500 | G15: =E15+F15 -> 1206500 | H15: ='RECAP #9516.01'!D20 -> 1037478.1 | I15: ='RECAP #9516.01'!E20 -> 121478.51 | J15: ='RECAP #9516.01'!F20 -> 915999.57 | K15: ='RECAP #9516.01'!G20 -> 169021.92
B16: 9522.00 | C16: DOC NCF Dietary and Laundry Hot Water Tank Replacement | D16: Brad T. | E16: 0 | F16: ='RECAP #9522.00'!C14 -> 10000 | G16: =E16+F16 -> 10000 | H16: ='RECAP #9522.00'!D14 -> 0 | I16: ='RECAP #9522.00'!E14 -> 0 | J16: ='RECAP #9522.00'!F14 -> 0 | K16: ='RECAP #9522.00'!G14 -> 10000
B17: 9534.01 | C17: IDR ATOD Will call Ramp Replacement | D17: Jennie E. | E17: 0 | F17: ='RECAP #9534.01'!C15 -> 291000 | G17: =E17+F17 -> 291000 | H17: ='RECAP #9534.01'!D15 -> 253603.2 | I17: ='RECAP #9534.01'!E15 -> 0 | J17: ='RECAP #9534.01'!F15 -> 253603.2 | K17: ='RECAP #9534.01'!G15 -> 37396.8
B18: 9543.00 | C18: DOC 6JD IC Hope-Stratton HVAC Phase 2 | D18: Jennifer K. | E18: 0 | F18: ='RECAP #9543.00'!C14 -> 212127.97 | G18: =E18+F18 -> 212127.97 | H18: ='RECAP #9543.00'!D14 -> 19783.15 | I18: ='RECAP #9543.00'!E14 -> 314.27 | J18: ='RECAP #9543.00'!F14 -> 19468.88 | K18: ='RECAP #9543.00'!G14 -> 192344.82
B19: 9545.00 | C19: HHS WRC Campus Generator Study | D19: Jennifer K. | E19: 0 | F19: ='RECAP #9545.00'!C15 -> 50000 | G19: =E19+F19 -> 50000 | H19: ='RECAP #9545.00'!D15 -> 31180.4 | I19: ='RECAP #9545.00'!E15 -> 1068.78 | J19: ='RECAP #9545.00'!F15 -> 30111.62 | K19: ='RECAP #9545.00'!G15 -> 18819.6
B20: 9546.00 | C20: ATOD Server Room Pre-Action Clean Agent System | D20: Jennie E. | E20: 0 | F20: ='RECAP #9546.00'!C14 -> 230000 | G20: =E20+F20 -> 230000 | H20: ='RECAP #9546.00'!D14 -> 13318.02 | I20: ='RECAP #9546.00'!E14 -> 0 | J20: ='RECAP #9546.00'!F14 -> 13318.02 | K20: ='RECAP #9546.00'!G14 -> 216681.98
B21: 9571.00 | C21: DVA IVH Sheeler Entrance Improvements | D21: Brad T. | E21: 0 | F21: ='RECAP #9571.00'!C14 -> 1000000 | G21: =E21+F21 -> 1000000 | H21: ='RECAP #9571.00'!D14 -> 35000 | I21: ='RECAP #9571.00'!E14 -> 0 | J21: ='RECAP #9571.00'!F14 -> 35000 | K21: ='RECAP #9571.00'!G14 -> 965000
C40: DA27 (MOU) Totals | E40: =SUM(E25:E39) -> 0 | F40: =SUM(F13:F39) -> 7429628 | G40: =SUM(G13:G39) -> 7429628 | H40: =SUM(H13:H39) -> 2460294.3 | I40: =SUM(I13:I39) -> 343654.17 | J40: =SUM(J13:J39) -> 2116640.1 | K40: =SUM(K13:K39) -> 4969333.7
K43: =J40+K40 -> 7085973.8

Sheet RECAP #9455.00
B1: IDOE ISD Giangreco Hall Water Infiltration Mitigation
B2: Project # 9455.00
B3: Program code 945500 | E3: Major Program 4F04
B4: Recap
B5: Acct. Codes-0506-335-DA27 | E5: Closing Date:
B6: Project Manager - Jennie E.
C7: TRANSFERS | D7: CONTRACTED | E7: EXPENDED | F7: CONTRACTED, NOT EXPENDED | G7: UNDER(OVER) Budget | H7: Pending Reimbursements
B8: Funds received per MOU | C8: ='#9455.00 Funds Rec''d '!H24 -> 4430000
B10: OPN Architects | D10: ='#9455.00 OPN Architects'!D23 -> 55359.8 | E10: ='#9455.00 OPN Architects'!F23 -> 24501.6 | F10: ='#9455.00 OPN Architects'!H23 -> 30858.2
B11: PM TIME | D11: ='#9455.00 PM TIME'!E23 -> 175000 | E11: ='#9455.00 PM TIME'!G23 -> 2547.06 | F11: ='#9455.00 PM TIME'!I23 -> 172452.94
B12: Misc. | D12: ='#9455.00 Misc'!G22 -> 0 | E12: ='#9455.00 Misc'!G22 -> 0 | F12: =D12-E12 -> 0
B13: Samuels Group | D13: ='#9455.00 Samuels Group'!D23 -> 683763.29 | E13: ='#9455.00 Samuels Group'!F23 -> 37935.6 | F13: ='#9455.00 Samuels Group'!H23 -> 645827.69
B14: McKinnis Roofing | D14: ='#9455.00 McKinnis'!D23 -> 155808.35 | E14: ='#9455.00 McKinnis'!F23 -> 155808.35 | F14: ='#9455.00 McKinnis'!H23 -> 0 | H14: ='#9455.00 McKinnis'!H28 -> 4731736.5
B16: Total Project Cost | C16: =SUM(C8:C15) -> 4430000 | D16: =SUM(D8:D15) -> 1069931.4 | E16: =SUM(E8:E15) -> 220792.61 | F16: =SUM(D16-E16) -> 849138.83 | G16: =C8-D16 -> 3360068.6 | H16: =SUM(H9:H15) -> 4731736.5

Sheet #9455.00 Funds Rec'd 
A1: ='RECAP #9455.00'!B1 -> IDOE ISD Giangreco Hall Water Infiltration Mitigation
A2: ='RECAP #9455.00'!B2 -> Project # 9455.00
A3: ='RECAP #9455.00'!B3 -> Program code 945500 | D3: ='RECAP #9455.00'!E3 -> Major Program 4F04
A4: Funds Rec'd
A5: Acct Code: 0506-335-DA27-0304
A6: ='RECAP #9455.00'!B6 -> Project Manager - Jennie E.
A8: Date | B8: DAS Document # | C8: Amount | D8: Vendor | E8: Document # | F8: Date of Transfer | G8: Amount | H8: Total amount of transfer
D9: MOU | E9: IET 070126CK008 | F9: 46205 | G9: 4430000 | H9: 4430000
B24: Total Requested | C24: =SUM(C9:C23) -> 0 | D24: Total Transferred | G24: =SUM(G9:G23) -> 4430000 | H24: =SUM(H9:H23) -> 4430000

Sheet #9455.00 OPN Architects
A1: ='RECAP #9455.00'!B1 -> IDOE ISD Giangreco Hall Water Infiltration Mitigation
A2: ='RECAP #9455.00'!B2 -> Project # 9455.00
A3: ='RECAP #9455.00'!B3 -> Program code 945500 | D3: ='RECAP #9455.00'!E3 -> Major Program 4F04
A4: OPN Architects | D4: Vendor: 00003035830
A5: Acct. Codes-0506-335-DA27-9260 | D5: RFP945500-01
A6: ='RECAP #9455.00'!B6 -> Project Manager - Jennie E. | D6: Activity code: DSGN
D7: Split w/MM25
A8: Doc # | B8: Date | C8: Activity | D8: Contract & C.O.'s | E8: Contract Total | F8: Payment Amount | G8: Total Paid | H8: Balance
A9: PO 33527114900 | B9: 46226 | C9: CO #1 Splitting w/MM25 | D9: 55359.8 | E9: =D9 -> 55359.8 | H9: =E9 -> 55359.8
A10: PRC 3352711PK4900 | B10: 46251 | C10: Inv. 24843001-11 | E10: =E9+D10 -> 55359.8 | F10: 12250.8 | G10: =G9+F10 -> 12250.8 | H10: =H9-F10+D10 -> 43109
A11: PRC 3352711PL4900 | B11: 46279 | C11: Inv. 24843001-12 | E11: =E10+D11 -> 55359.8 | F11: 12250.8 | G11: =G10+F11 -> 24501.6 | H11: =H10-F11+D11 -> 30858.2
E12: =E11+D12 -> 55359.8 | G12: =G11+F12 -> 24501.6 | H12: =H11-F12+D12 -> 30858.2
E13: =E12+D13 -> 55359.8 | G13: =G12+F13 -> 24501.6 | H13: =H12-F13+D13 -> 30858.2
E14: =E13+D14 -> 55359.8 | G14: =G13+F14 -> 24501.6 | H14: =H13-F14+D14 -> 30858.2
E15: =E14+D15 -> 55359.8 | G15: =G14+F15 -> 24501.6 | H15: =H14-F15+D15 -> 30858.2
E16: =E15+D16 -> 55359.8 | G16: =G15+F16 -> 24501.6 | H16: =H15-F16+D16 -> 30858.2
E17: =E16+D17 -> 55359.8 | G17: =G16+F17 -> 24501.6 | H17: =H16-F17+D17 -> 30858.2
E18: =E17+D18 -> 55359.8 | G18: =G17+F18 -> 24501.6 | H18: =H17-F18+D18 -> 30858.2
E19: =E18+D19 -> 55359.8 | G19: =G18+F19 -> 24501.6 | H19: =H18-F19+D19 -> 30858.2
E20: =E19+D20 -> 55359.8 | G20: =G19+F20 -> 24501.6 | H20: =H19-F20+D20 -> 30858.2
E21: =E20+D21 -> 55359.8 | G21: =G20+F21 -> 24501.6 | H21: =H20-F21+D21 -> 30858.2
C23: Totals: | D23: =SUM(D9:D22) -> 55359.8 | F23: =SUM(F9:F22) -> 24501.6 | H23: =D23-F23 -> 30858.2
C26: MM25 Closed 07/23/26 | D26: 288420.2 | F26: 288420.2 | H26: =D26-F26 -> 0
C27: Total: | D27: =SUM(D23:D26) -> 343780 | F27: =SUM(F23:F26) -> 312921.8 | H27: =SUM(H23:H26) -> 30858.2

Sheet #9455.00 PM TIME
A1: ='RECAP #9455.00'!B1 -> IDOE ISD Giangreco Hall Water Infiltration Mitigation
A2: ='RECAP #9455.00'!B2 -> Project # 9455.00
A3: ='RECAP #9455.00'!B3 -> Program code 945500 | E3: ='RECAP #9455.00'!E3 -> Major Program 4F04
A4: PM TIME | E4: Internal documents
A5: Acct. Codes-0506-335-DA27-xxxx
A6: ='RECAP #9455.00'!B6 -> Project Manager - Jennie E. | E6: edas: 736W
A8: Doc # | B8: Date | C8: Object Code | D8: Activity Code | E8: Contract & C.O.'s | F8: Contract Total | G8: Payment Amount | H8: Total Paid | I8: Balance
D9: Budget | E9: 175000 | F9: =E9 -> 175000 | I9: =F9 -> 175000
A10: IET DAS202701115300001 | B10: 46241 | C10: 2507 | D10: Finance Support for July 01-31, 2026 | F10: =F9+E10 -> 175000 | G10: 101.66 | H10: =H9+G10 -> 101.66 | I10: =I9-G10+E10 -> 174898.34
A11: IET DAS202701115300001 | B11: 46241 | C11: 9500 | D11: DAS Support for July 01-31, 2026 | F11: =F10+E11 -> 175000 | G11: 1311.7 | H11: =H10+G11 -> 1413.36 | I11: =I10-G11+E11 -> 173586.64
A12: IET DAS202702115300001 | B12: 46272 | C12: 2507 | D12: Finance Support for August 01-31, 2026 | F12: =F11+E12 -> 175000 | G12: 105.9 | H12: =H11+G12 -> 1519.26 | I12: =I11-G12+E12 -> 173480.74
A13: IET DAS202702115300001 | B13: 46272 | C13: 9500 | D13: DAS Support for August 01-31, 2026 | F13: =F12+E13 -> 175000 | G13: 1027.8 | H13: =H12+G13 -> 2547.06 | I13: =I12-G13+E13 -> 172452.94
F14: =F13+E14 -> 175000 | H14: =H13+G14 -> 2547.06 | I14: =I13-G14+E14 -> 172452.94
F15: =F14+E15 -> 175000 | H15: =H14+G15 -> 2547.06 | I15: =I14-G15+E15 -> 172452.94
F16: =F15+E16 -> 175000 | H16: =H15+G16 -> 2547.06 | I16: =I15-G16+E16 -> 172452.94
F17: =F16+E17 -> 175000 | H17: =H16+G17 -> 2547.06 | I17: =I16-G17+E17 -> 172452.94
F18: =F17+E18 -> 175000 | H18: =H17+G18 -> 2547.06 | I18: =I17-G18+E18 -> 172452.94
F19: =F18+E19 -> 175000 | H19: =H18+G19 -> 2547.06 | I19: =I18-G19+E19 -> 172452.94
F20: =F19+E20 -> 175000 | H20: =H19+G20 -> 2547.06 | I20: =I19-G20+E20 -> 172452.94
F21: =F20+E21 -> 175000 | H21: =H20+G21 -> 2547.06 | I21: =I20-G21+E21 -> 172452.94
D23: Totals: | E23: =SUM(E9:E22) -> 175000 | G23: =SUM(G9:G22) -> 2547.06 | I23: =E23-G23 -> 172452.94

Sheet #9455.00 Misc
A1: ='RECAP #9455.00'!B1 -> IDOE ISD Giangreco Hall Water Infiltration Mitigation
A2: ='RECAP #9455.00'!B2 -> Project # 9455.00
A3: ='RECAP #9455.00'!B3 -> Program code 945500 | E3: ='RECAP #9455.00'!E3 -> Major Program 4F04
A4: Misc
A5: Acct. Codes-0506-335-DA27-xxxx
A6: ='RECAP #9455.00'!B6 -> Project Manager - Jennie E. | E6: Shipping Code:
A8: Doc # | B8: Date | C8: Object Code | D8: Activity Code | E8: Activity | F8: Invoice | G8: Payment Amount | H8: Total Paid
H9: =G9 -> 0
H10: =H9+G10 -> 0
H11: =H10+G11 -> 0
H12: =H11+G12 -> 0
H13: =H12+G13 -> 0
H14: =H13+G14 -> 0
H15: =H14+G15 -> 0
H16: =H15+G16 -> 0
H17: =H16+G17 -> 0
H18: =H17+G18 -> 0
H19: =H18+G19 -> 0
H20: =H19+G20 -> 0
E22: Totals: | G22: =SUM(G9:G21) -> 0

Sheet #9455.00 Samuels Group
A1: ='RECAP #9455.00'!B1 -> IDOE ISD Giangreco Hall Water Infiltration Mitigation
A2: ='RECAP #9455.00'!B2 -> Project # 9455.00
A3: ='RECAP #9455.00'!B3 -> Program code 945500 | D3: ='RECAP #9455.00'!E3 -> Major Program 4F04
A4: Samuels Group | D4: Vendor: 00003033402
A5: Acct. Codes-0506-335-DA27-9255 | D5: RFP1821335228-Samuels11012021
A6: ='RECAP #9455.00'!B6 -> Project Manager - Jennie E. | D6: Activity code: CMGR
D7: Split w/MM26
A8: Doc # | B8: Date | C8: Activity | D8: Contract & C.O.'s | E8: Contract Total | F8: Payment Amount | G8: Total Paid | H8: Balance
A9: PO 33527029913 | B9: 46226 | C9: CO #1 Splitting w/MM26 | D9: 683763.29 | E9: =D9 -> 683763.29 | H9: =E9 -> 683763.29
A10: PRC 3352702PG9913 | B10: 46245 | C10: Inv. 7850.57945500 | E10: =E9+D10 -> 683763.29 | F10: 15156.45 | G10: =G9+F10 -> 15156.45 | H10: =H9-F10+D10 -> 668606.84
A11: PRC 3352702PH9913 | B11: 46279 | C11: Inv. 7850.58945500 | E11: =E10+D11 -> 683763.29 | F11: 22779.15 | G11: =G10+F11 -> 37935.6 | H11: =H10-F11+D11 -> 645827.69
E12: =E11+D12 -> 683763.29 | G12: =G11+F12 -> 37935.6 | H12: =H11-F12+D12 -> 645827.69
E13: =E12+D13 -> 683763.29 | G13: =G12+F13 -> 37935.6 | H13: =H12-F13+D13 -> 645827.69
E14: =E13+D14 -> 683763.29 | G14: =G13+F14 -> 37935.6 | H14: =H13-F14+D14 -> 645827.69
E15: =E14+D15 -> 683763.29 | G15: =G14+F15 -> 37935.6 | H15: =H14-F15+D15 -> 645827.69
E16: =E15+D16 -> 683763.29 | G16: =G15+F16 -> 37935.6 | H16: =H15-F16+D16 -> 645827.69
E17: =E16+D17 -> 683763.29 | G17: =G16+F17 -> 37935.6 | H17: =H16-F17+D17 -> 645827.69
E18: =E17+D18 -> 683763.29 | G18: =G17+F18 -> 37935.6 | H18: =H17-F18+D18 -> 645827.69
E19: =E18+D19 -> 683763.29 | G19: =G18+F19 -> 37935.6 | H19: =H18-F19+D19 -> 645827.69
E20: =E19+D20 -> 683763.29 | G20: =G19+F20 -> 37935.6 | H20: =H19-F20+D20 -> 645827.69
E21: =E20+D21 -> 683763.29 | G21: =G20+F21 -> 37935.6 | H21: =H20-F21+D21 -> 645827.69
C23: Totals: | D23: =SUM(D9:D22) -> 683763.29 | F23: =SUM(F9:F22) -> 37935.6 | H23: =D23-F23 -> 645827.69
C26: MM26 Closed 07/23/26 | D26: ='[1]#9455.00 Samuels Group'!$D$23 -> 66862.39 | F26: ='[1]#9455.00 Samuels Group'!$F$23 -> 66862.39 | H26: =D26-F26 -> 0
C27: Total: | D27: =SUM(D23:D26) -> 750625.68 | F27: =SUM(F23:F26) -> 104797.99 | H27: =SUM(H23:H26) -> 645827.69

Sheet #9455.00 McKinnis
A1: ='RECAP #9455.00'!B1 -> IDOE ISD Giangreco Hall Water Infiltration Mitigation
A2: ='RECAP #9455.00'!B2 -> Project # 9455.00
A3: ='RECAP #9455.00'!B3 -> Program code 945500 | D3: ='[1]RECAP #9455.00'!E3 -> Major Program 4F04
A4: McKinnis Roofing | D4: Vendor: 00003217305
A5: Acct. Codes-0506-335-DA27-9255 | D5: RFB945500-01
A6: ='RECAP #9455.00'!B6 -> Project Manager - Jennie E. | D6: Activity code: BRIN
D7: Spilt w/MM26
A8: Doc # | B8: Date | C8: Activity | D8: Contract & C.O.'s | E8: Contract Total | F8: Payment Amount | G8: Total Paid | H8: Balance | I8: Retainage
A9: PO 33527002900 | B9: 46238 | C9: CO #1 Splitting w/MM26 | D9: =155808.35 -> 155808.35 | E9: =D9 -> 155808.35 | H9: =E9 -> 155808.35
A10: PO 33527002900 | B10: 46238 | C10: CO #1 Adding Funds | E10: =E9+D10 -> 155808.35 | G10: =G9+F10 -> 0 | H10: =H9-F10+D10 -> 155808.35
A11: PRC 3352700PB2900 | B11: 46273 | C11: Inv. 49434(100% to DA27) | E11: =E10+D11 -> 155808.35 | F11: 155808.35 | G11: =G10+F11 -> 155808.35 | H11: =H10-F11+D11 -> 0 | I11: 4818.82
E12: =E11+D12 -> 155808.35 | G12: =G11+F12 -> 155808.35 | H12: =H11-F12+D12 -> 0
E13: =E12+D13 -> 155808.35 | G13: =G12+F13 -> 155808.35 | H13: =H12-F13+D13 -> 0
E14: =E13+D14 -> 155808.35 | G14: =G13+F14 -> 155808.35 | H14: =H13-F14+D14 -> 0
E15: =E14+D15 -> 155808.35 | G15: =G14+F15 -> 155808.35 | H15: =H14-F15+D15 -> 0
E16: =E15+D16 -> 155808.35 | G16: =G15+F16 -> 155808.35 | H16: =H15-F16+D16 -> 0
E17: =E16+D17 -> 155808.35 | G17: =G16+F17 -> 155808.35 | H17: =H16-F17+D17 -> 0
E18: =E17+D18 -> 155808.35 | G18: =G17+F18 -> 155808.35 | H18: =H17-F18+D18 -> 0
E19: =E18+D19 -> 155808.35 | G19: =G18+F19 -> 155808.35 | H19: =H18-F19+D19 -> 0
E20: =E19+D20 -> 155808.35 | G20: =G19+F20 -> 155808.35 | H20: =H19-F20+D20 -> 0
E21: =E20+D21 -> 155808.35 | G21: =G20+F21 -> 155808.35 | H21: =H20-F21+D21 -> 0
C23: Totals: | D23: =SUM(D9:D22) -> 155808.35 | F23: =SUM(F9:F22) -> 155808.35 | H23: =D23-F23 -> 0
A25: PO number above is assigned to Procore PO, and created in IA Advantage as Unencumbered on Unit DA27 line due to Paper Contract for FY27
A26: Will create payments as funds become available to charge against this project.
C28: DA27 Contract Total: | D28: 4887544.9 | F28: 155808.35 | H28: =D28-F28 -> 4731736.5
C32: MM26 Retainage Only | D32: ='[1]#9455.00 McKinnis Roofing'!$D$23 -> 220346.03 | F32: ='[1]#9455.00 McKinnis Roofing'!$F$23 -> 213735.65 | H32: =D32-F32 -> 6610.38
C33: Total: | D33: =SUM(D27:D32) -> 5107890.9 | F33: =SUM(F27:F32) -> 369544 | H33: =SUM(H27:H32) -> 4738346.9

Sheet RECAP #9516.01
B1: IDR State of Iowa Building Renovation
B2: Project # 9516.01
B3: Program code 951601 | E3: Major Program 4E19
B4: Recap
B5: Acct. Codes-0506-335-DA27 | E5: Closing Date:
B6: Project Manager - Jennie E.
C7: TRANSFERS | D7: CONTRACTED | E7: EXPENDED | F7: CONTRACTED, NOT EXPENDED | G7: UNDER(OVER) Budget
B8: Funds received per MOU | C8: ='#9516.01 Funds Rec''d '!H24 -> 1206500
B10: Bergstrom Construction | D10: ='#9516.01 Bergstrom Construction'!D23 -> 196010 | E10: ='#9516.01 Bergstrom Construction'!F23 -> 110200.77 | F10: ='#9516.01 Bergstrom Construction'!H23 -> 85809.23
B11: PM TIME | D11: ='#9516.01 PM TIME'!E23 -> 0 | E11: ='#9516.01 PM TIME'!G23 -> 0 | F11: ='#9516.01 PM TIME'!I23 -> 0
B12: Misc. | D12: ='#9516.01 Misc'!G22 -> 0 | E12: ='#9516.01 Misc'!G22 -> 0 | F12: =D12-E12 -> 0
B13: Proctor Mechanical | D13: ='#9516.01 Proctor Mechanical'!D23 -> 87612 | E13: ='#9516.01 Proctor Mechanical'!F23 -> 0 | F13: ='#9516.01 Proctor Mechanical'!H23 -> 87612
B14: Mahoney Fire | D14: ='#9516.01 Mahoney Fire'!D28 -> 17300 | E14: ='#9516.01 Mahoney Fire'!F23 -> 0 | F14: ='#9516.01 Mahoney Fire'!H23 -> 17300
B15: Waldinger Electrical | D15: ='#9516.01 Waldinger Electrical'!D23 -> 205556 | E15: ='#9516.01 Waldinger Electrical'!F23 -> 0 | F15: ='#9516.01 Waldinger Electrical'!H23 -> 205556
B16: Iowa Illinois Office Solutions (Paragon Interior) | D16: ='#9516.01 Paragon Interiors '!D23 -> 382520.29 | E16: ='#9516.01 Paragon Interiors '!F23 -> 0 | F16: ='#9516.01 Paragon Interiors '!H23 -> 382520.29
B17: DCI Group | D17: ='#9516.01 DCI Group'!D23 -> 67533.49 | E17: ='#9516.01 DCI Group'!F23 -> 11277.74 | F17: ='#9516.01 DCI Group'!H23 -> 56255.75
B18: CTI | D18: ='#9516.01 CTI'!D23 -> 80946.3 | E18: ='#9516.01 CTI'!F23 -> 0 | F18: ='#9516.01 CTI'!H23 -> 80946.3
B20: Total Project Cost | C20: =SUM(C8:C19) -> 1206500 | D20: =SUM(D8:D19) -> 1037478.1 | E20: =SUM(E8:E19) -> 121478.51 | F20: =SUM(D20-E20) -> 915999.57 | G20: =C8-D20 -> 169021.92

Sheet #9516.01 Funds Rec'd 
A1: ='RECAP #9516.01'!B1 -> IDR State of Iowa Building Renovation
A2: ='RECAP #9516.01'!B2 -> Project # 9516.01
A3: ='RECAP #9516.01'!B3 -> Program code 951601 | D3: ='RECAP #9516.01'!E3 -> Major Program 4E19
A4: Funds Rec'd
A5: Acct Code: 0506-335-DA27-xxxx
A6: ='RECAP #9516.01'!B6 -> Project Manager - Jennie E.
A8: Date | B8: DAS Document # | C8: Amount | D8: Vendor | E8: Document # | F8: Date of Transfer | G8: Amount | H8: Total amount of transfer
D9: MOU | E9: IET 627JP2719501 | F9: 46218 | G9: 1055000 | H9: 1055000
D10: MOU Amendment #1 | E10: IET 627DB2723002 | F10: 46253 | G10: 151500 | H10: 151500
B24: Total Requested | C24: =SUM(C9:C23) -> 0 | D24: Total Transferred | G24: =SUM(G9:G23) -> 1206500 | H24: =SUM(H9:H23) -> 1206500

Sheet #9516.01 Bergstrom Construction
A1: ='RECAP #9516.01'!B1 -> IDR State of Iowa Building Renovation
A2: ='RECAP #9516.01'!B2 -> Project # 9516.01
A3: ='RECAP #9516.01'!B3 -> Program code 951601 | D3: ='RECAP #9516.01'!E3 -> Major Program 4E19
A4: Bergstrom Construction | D4: Vendor: 00002110114
A5: Acct. Codes-0506-335-DA27-9255 | D5: MA 23199B
A6: ='RECAP #9516.01'!B6 -> Project Manager - Jennie E. | D6: Activity code: CNST
A8: Doc # | B8: Date | C8: Activity | D8: Contract & C.O.'s | E8: Contract Total | F8: Payment Amount | G8: Total Paid | H8: Balance
A9: DO 33527204907 | B9: 46226 | C9: DO Procore | D9: 196010 | E9: =D9 -> 196010 | H9: =E9 -> 196010
A10: PRC 3352720PA4907 | B10: 46287 | C10: Inv. 8921-1 | E10: =E9+D10 -> 196010 | F10: 110200.77 | G10: =G9+F10 -> 110200.77 | H10: =H9-F10+D10 -> 85809.23
E11: =E10+D11 -> 196010 | G11: =G10+F11 -> 110200.77 | H11: =H10-F11+D11 -> 85809.23
E12: =E11+D12 -> 196010 | G12: =G11+F12 -> 110200.77 | H12: =H11-F12+D12 -> 85809.23
E13: =E12+D13 -> 196010 | G13: =G12+F13 -> 110200.77 | H13: =H12-F13+D13 -> 85809.23
E14: =E13+D14 -> 196010 | G14: =G13+F14 -> 110200.77 | H14: =H13-F14+D14 -> 85809.23
E15: =E14+D15 -> 196010 | G15: =G14+F15 -> 110200.77 | H15: =H14-F15+D15 -> 85809.23
E16: =E15+D16 -> 196010 | G16: =G15+F16 -> 110200.77 | H16: =H15-F16+D16 -> 85809.23
E17: =E16+D17 -> 196010 | G17: =G16+F17 -> 110200.77 | H17: =H16-F17+D17 -> 85809.23
E18: =E17+D18 -> 196010 | G18: =G17+F18 -> 110200.77 | H18: =H17-F18+D18 -> 85809.23
E19: =E18+D19 -> 196010 | G19: =G18+F19 -> 110200.77 | H19: =H18-F19+D19 -> 85809.23
E20: =E19+D20 -> 196010 | G20: =G19+F20 -> 110200.77 | H20: =H19-F20+D20 -> 85809.23
E21: =E20+D21 -> 196010 | G21: =G20+F21 -> 110200.77 | H21: =H20-F21+D21 -> 85809.23
C23: Totals: | D23: =SUM(D9:D22) -> 196010 | F23: =SUM(F9:F22) -> 110200.77 | H23: =D23-F23 -> 85809.23
C26: Labor | D26: 34236 | F26: =7649.7 -> 7649.7 | H26: =D26-F26 -> 26586.3
C27: Materials | D27: 161774 | F27: =102551.07 -> 102551.07 | H27: =D27-F27 -> 59222.93
C28: Total: | D28: =SUM(D26:D27) -> 196010 | F28: =SUM(F26:F27) -> 110200.77 | H28: =SUM(H26:H27) -> 85809.23

Sheet #9516.01 PM TIME
A1: ='RECAP #9516.01'!B1 -> IDR State of Iowa Building Renovation
A2: ='RECAP #9516.01'!B2 -> Project # 9516.01
A3: ='RECAP #9516.01'!B3 -> Program code 951601 | E3: ='RECAP #9516.01'!E3 -> Major Program 4E19
A4: PM TIME | E4: Internal documents
A5: Acct. Codes-0506-335-DA27-xxxx
A6: ='RECAP #9516.01'!B6 -> Project Manager - Jennie E. | E6: edas:736X
A8: Doc # | B8: Date | C8: Object Code | D8: Activity Code | E8: Contract & C.O.'s | F8: Contract Total | G8: Payment Amount | H8: Total Paid | I8: Balance
F9: =E9 -> 0 | I9: =F9 -> 0
F10: =F9+E10 -> 0 | H10: =H9+G10 -> 0 | I10: =I9-G10+E10 -> 0
F11: =F10+E11 -> 0 | H11: =H10+G11 -> 0 | I11: =I10-G11+E11 -> 0
F12: =F11+E12 -> 0 | H12: =H11+G12 -> 0 | I12: =I11-G12+E12 -> 0
F13: =F12+E13 -> 0 | H13: =H12+G13 -> 0 | I13: =I12-G13+E13 -> 0
F14: =F13+E14 -> 0 | H14: =H13+G14 -> 0 | I14: =I13-G14+E14 -> 0
F15: =F14+E15 -> 0 | H15: =H14+G15 -> 0 | I15: =I14-G15+E15 -> 0
F16: =F15+E16 -> 0 | H16: =H15+G16 -> 0 | I16: =I15-G16+E16 -> 0
F17: =F16+E17 -> 0 | H17: =H16+G17 -> 0 | I17: =I16-G17+E17 -> 0
F18: =F17+E18 -> 0 | H18: =H17+G18 -> 0 | I18: =I17-G18+E18 -> 0
F19: =F18+E19 -> 0 | H19: =H18+G19 -> 0 | I19: =I18-G19+E19 -> 0
F20: =F19+E20 -> 0 | H20: =H19+G20 -> 0 | I20: =I19-G20+E20 -> 0
F21: =F20+E21 -> 0 | H21: =H20+G21 -> 0 | I21: =I20-G21+E21 -> 0
D23: Totals: | E23: =SUM(E9:E22) -> 0 | G23: =SUM(G9:G22) -> 0 | I23: =E23-G23 -> 0

Sheet #9516.01 Misc
A1: ='RECAP #9516.01'!B1 -> IDR State of Iowa Building Renovation
A2: ='RECAP #9516.01'!B2 -> Project # 9516.01
A3: ='RECAP #9516.01'!B3 -> Program code 951601 | E3: ='RECAP #9516.01'!E3 -> Major Program 4E19
A4: Misc
A5: Acct. Codes-0506-335-DA27-xxxx
A6: ='RECAP #9516.01'!B6 -> Project Manager - Jennie E. | E6: Shipping Code: 035
A8: Doc # | B8: Date | C8: Object Code | D8: Activity Code | E8: Activity | F8: Invoice | G8: Payment Amount | H8: Total Paid
H9: =G9 -> 0
H10: =H9+G10 -> 0
H11: =H10+G11 -> 0
H12: =H11+G12 -> 0
H13: =H12+G13 -> 0
H14: =H13+G14 -> 0
H15: =H14+G15 -> 0
H16: =H15+G16 -> 0
H17: =H16+G17 -> 0
H18: =H17+G18 -> 0
H19: =H18+G19 -> 0
H20: =H19+G20 -> 0
E22: Totals: | G22: =SUM(G9:G21) -> 0

Sheet #9516.01 Proctor Mechanical
A1: ='RECAP #9516.01'!B1 -> IDR State of Iowa Building Renovation
A2: ='RECAP #9516.01'!B2 -> Project # 9516.01
A3: ='RECAP #9516.01'!B3 -> Program code 951601 | D3: ='RECAP #9516.01'!E3 -> Major Program 4E19
A4: Proctor Mechanical | D4: Vendor: 00003166259
A5: Acct. Codes-0506-335-DA27-9255 | D5: MA 21010A
A6: ='RECAP #9516.01'!B6 -> Project Manager - Jennie E. | D6: Activity code: CNST
A8: Doc # | B8: Date | C8: Activity | D8: Contract & C.O.'s | E8: Contract Total | F8: Payment Amount | G8: Total Paid | H8: Balance
A9: DO 33527204908 | B9: 46226 | C9: DO Procore | D9: 87612 | E9: =D9 -> 87612 | H9: =E9 -> 87612
E10: =E9+D10 -> 87612 | G10: =G9+F10 -> 0 | H10: =H9-F10+D10 -> 87612
E11: =E10+D11 -> 87612 | G11: =G10+F11 -> 0 | H11: =H10-F11+D11 -> 87612
E12: =E11+D12 -> 87612 | G12: =G11+F12 -> 0 | H12: =H11-F12+D12 -> 87612
E13: =E12+D13 -> 87612 | G13: =G12+F13 -> 0 | H13: =H12-F13+D13 -> 87612
E14: =E13+D14 -> 87612 | G14: =G13+F14 -> 0 | H14: =H13-F14+D14 -> 87612
E15: =E14+D15 -> 87612 | G15: =G14+F15 -> 0 | H15: =H14-F15+D15 -> 87612
E16: =E15+D16 -> 87612 | G16: =G15+F16 -> 0 | H16: =H15-F16+D16 -> 87612
E17: =E16+D17 -> 87612 | G17: =G16+F17 -> 0 | H17: =H16-F17+D17 -> 87612
E18: =E17+D18 -> 87612 | G18: =G17+F18 -> 0 | H18: =H17-F18+D18 -> 87612
E19: =E18+D19 -> 87612 | G19: =G18+F19 -> 0 | H19: =H18-F19+D19 -> 87612
E20: =E19+D20 -> 87612 | G20: =G19+F20 -> 0 | H20: =H19-F20+D20 -> 87612
E21: =E20+D21 -> 87612 | G21: =G20+F21 -> 0 | H21: =H20-F21+D21 -> 87612
C23: Totals: | D23: =SUM(D9:D22) -> 87612 | F23: =SUM(F9:F22) -> 0 | H23: =D23-F23 -> 87612
C26: Labor | D26: 64262 | H26: =D26-F26 -> 64262
C27: Materials | D27: 23350 | H27: =D27-F27 -> 23350
C28: Total: | D28: =SUM(D26:D27) -> 87612 | F28: =SUM(F26:F27) -> 0 | H28: =SUM(H26:H27) -> 87612

Sheet #9516.01 Mahoney Fire
A1: ='RECAP #9516.01'!B1 -> IDR State of Iowa Building Renovation
A2: ='RECAP #9516.01'!B2 -> Project # 9516.01
A3: ='RECAP #9516.01'!B3 -> Program code 951601 | D3: ='RECAP #9516.01'!E3 -> Major Program 4E19
A4: Mahoney Fire | D4: Vendor: 00003035382
A5: Acct. Codes-0506-335-DA27-9255 | D5: MA 230050570A
A6: ='RECAP #9516.01'!B6 -> Project Manager - Jennie E. | D6: Activity code: CNST
A8: Doc # | B8: Date | C8: Activity | D8: Contract & C.O.'s | E8: Contract Total | F8: Payment Amount | G8: Total Paid | H8: Balance
A9: DO 33527204909 | B9: 46226 | C9: DO Procore | D9: 17300 | E9: =D9 -> 17300 | H9: =E9 -> 17300
E10: =E9+D10 -> 17300 | G10: =G9+F10 -> 0 | H10: =H9-F10+D10 -> 17300
E11: =E10+D11 -> 17300 | G11: =G10+F11 -> 0 | H11: =H10-F11+D11 -> 17300
E12: =E11+D12 -> 17300 | G12: =G11+F12 -> 0 | H12: =H11-F12+D12 -> 17300
E13: =E12+D13 -> 17300 | G13: =G12+F13 -> 0 | H13: =H12-F13+D13 -> 17300
E14: =E13+D14 -> 17300 | G14: =G13+F14 -> 0 | H14: =H13-F14+D14 -> 17300
E15: =E14+D15 -> 17300 | G15: =G14+F15 -> 0 | H15: =H14-F15+D15 -> 17300
E16: =E15+D16 -> 17300 | G16: =G15+F16 -> 0 | H16: =H15-F16+D16 -> 17300
E17: =E16+D17 -> 17300 | G17: =G16+F17 -> 0 | H17: =H16-F17+D17 -> 17300
E18: =E17+D18 -> 17300 | G18: =G17+F18 -> 0 | H18: =H17-F18+D18 -> 17300
E19: =E18+D19 -> 17300 | G19: =G18+F19 -> 0 | H19: =H18-F19+D19 -> 17300
E20: =E19+D20 -> 17300 | G20: =G19+F20 -> 0 | H20: =H19-F20+D20 -> 17300
E21: =E20+D21 -> 17300 | G21: =G20+F21 -> 0 | H21: =H20-F21+D21 -> 17300
C23: Totals: | D23: =SUM(D9:D22) -> 17300 | F23: =SUM(F9:F22) -> 0 | H23: =D23-F23 -> 17300
C26: Labor | D26: 12110 | H26: =D26-F26 -> 12110
C27: Materials | D27: 5190 | H27: =D27-F27 -> 5190
C28: Total: | D28: =SUM(D26:D27) -> 17300 | F28: =SUM(F26:F27) -> 0 | H28: =SUM(H26:H27) -> 17300

Sheet #9516.01 Waldinger Electrical
A1: ='RECAP #9516.01'!B1 -> IDR State of Iowa Building Renovation
A2: ='RECAP #9516.01'!B2 -> Project # 9516.01
A3: ='RECAP #9516.01'!B3 -> Program code 951601 | D3: ='RECAP #9516.01'!E3 -> Major Program 4E19
A4: Waldinger Electrical | D4: Vendor: 00002116105
A5: Acct. Codes-0506-335-DA27-9255 | D5: MA26349
A6: ='RECAP #9516.01'!B6 -> Project Manager - Jennie E. | D6: Activity code: CNST
A8: Doc # | B8: Date | C8: Activity | D8: Contract & C.O.'s | E8: Contract Total | F8: Payment Amount | G8: Total Paid | H8: Balance
A9: DO 33527204910 | B9: 46226 | C9: DO Procore | D9: 205556 | E9: =D9 -> 205556 | H9: =E9 -> 205556
E10: =E9+D10 -> 205556 | G10: =G9+F10 -> 0 | H10: =H9-F10+D10 -> 205556
E11: =E10+D11 -> 205556 | G11: =G10+F11 -> 0 | H11: =H10-F11+D11 -> 205556
E12: =E11+D12 -> 205556 | G12: =G11+F12 -> 0 | H12: =H11-F12+D12 -> 205556
E13: =E12+D13 -> 205556 | G13: =G12+F13 -> 0 | H13: =H12-F13+D13 -> 205556
E14: =E13+D14 -> 205556 | G14: =G13+F14 -> 0 | H14: =H13-F14+D14 -> 205556
E15: =E14+D15 -> 205556 | G15: =G14+F15 -> 0 | H15: =H14-F15+D15 -> 205556
E16: =E15+D16 -> 205556 | G16: =G15+F16 -> 0 | H16: =H15-F16+D16 -> 205556
E17: =E16+D17 -> 205556 | G17: =G16+F17 -> 0 | H17: =H16-F17+D17 -> 205556
E18: =E17+D18 -> 205556 | G18: =G17+F18 -> 0 | H18: =H17-F18+D18 -> 205556
E19: =E18+D19 -> 205556 | G19: =G18+F19 -> 0 | H19: =H18-F19+D19 -> 205556
E20: =E19+D20 -> 205556 | G20: =G19+F20 -> 0 | H20: =H19-F20+D20 -> 205556
E21: =E20+D21 -> 205556 | G21: =G20+F21 -> 0 | H21: =H20-F21+D21 -> 205556
C23: Totals: | D23: =SUM(D9:D22) -> 205556 | F23: =SUM(F9:F22) -> 0 | H23: =D23-F23 -> 205556
C26: Labor | D26: 125540 | H26: =D26-F26 -> 125540
C27: Materials | D27: 73050 | H27: =D27-F27 -> 73050
C28: Equipment | D28: 6966 | H28: =D28-F28 -> 6966
C29: Total: | D29: =SUM(D26:D28) -> 205556 | F29: =SUM(F26:F28) -> 0 | H29: =SUM(H26:H28) -> 205556

Sheet #9516.01 Paragon Interiors 
A1: ='RECAP #9516.01'!B1 -> IDR State of Iowa Building Renovation
A2: ='RECAP #9516.01'!B2 -> Project # 9516.01
A3: ='RECAP #9516.01'!B3 -> Program code 951601 | D3: ='RECAP #9516.01'!E3 -> Major Program 4E19
A4: Paragon Interiors | D4: Vendor: 00003209438
A5: Acct. Codes-0506-335-DA27-9255 | D5: MA
A6: ='RECAP #9516.01'!B6 -> Project Manager - Jennie E. | D6: Activity code: CNST
A8: Doc # | B8: Date | C8: Activity | D8: Contract & C.O.'s | E8: Contract Total | F8: Payment Amount | G8: Total Paid | H8: Balance
A9: PO 33527045900 | B9: 46226 | C9: PO Procore | D9: 382520.29 | E9: =D9 -> 382520.29 | H9: =E9 -> 382520.29
E10: =E9+D10 -> 382520.29 | G10: =G9+F10 -> 0 | H10: =H9-F10+D10 -> 382520.29
E11: =E10+D11 -> 382520.29 | G11: =G10+F11 -> 0 | H11: =H10-F11+D11 -> 382520.29
E12: =E11+D12 -> 382520.29 | G12: =G11+F12 -> 0 | H12: =H11-F12+D12 -> 382520.29
E13: =E12+D13 -> 382520.29 | G13: =G12+F13 -> 0 | H13: =H12-F13+D13 -> 382520.29
E14: =E13+D14 -> 382520.29 | G14: =G13+F14 -> 0 | H14: =H13-F14+D14 -> 382520.29
E15: =E14+D15 -> 382520.29 | G15: =G14+F15 -> 0 | H15: =H14-F15+D15 -> 382520.29
E16: =E15+D16 -> 382520.29 | G16: =G15+F16 -> 0 | H16: =H15-F16+D16 -> 382520.29
E17: =E16+D17 -> 382520.29 | G17: =G16+F17 -> 0 | H17: =H16-F17+D17 -> 382520.29
E18: =E17+D18 -> 382520.29 | G18: =G17+F18 -> 0 | H18: =H17-F18+D18 -> 382520.29
E19: =E18+D19 -> 382520.29 | G19: =G18+F19 -> 0 | H19: =H18-F19+D19 -> 382520.29
E20: =E19+D20 -> 382520.29 | G20: =G19+F20 -> 0 | H20: =H19-F20+D20 -> 382520.29
E21: =E20+D21 -> 382520.29 | G21: =G20+F21 -> 0 | H21: =H20-F21+D21 -> 382520.29
C23: Totals: | D23: =SUM(D9:D22) -> 382520.29 | F23: =SUM(F9:F22) -> 0 | H23: =D23-F23 -> 382520.29

Sheet #9516.01 DCI Group
A1: ='RECAP #9516.01'!B1 -> IDR State of Iowa Building Renovation
A2: ='RECAP #9516.01'!B2 -> Project # 9516.01
A3: ='RECAP #9516.01'!B3 -> Program code 951601 | D3: ='RECAP #9516.01'!E3 -> Major Program 4E19
A4: DCI Group | D4: Vendor: 00003025029
A5: Acct. Codes-0506-335-DA27-9255 | D5: RFP1821335228-DCI11012021
A6: ='RECAP #9516.01'!B6 -> Project Manager - Jennie E. | D6: Activity code: CMGR
A8: Doc # | B8: Date | C8: Activity | D8: Contract & C.O.'s | E8: Contract Total | F8: Payment Amount | G8: Total Paid | H8: Balance
A9: PO 33527232915 | B9: 46254 | C9: PO Procore | D9: 67533.49 | E9: =D9 -> 67533.49 | H9: =E9 -> 67533.49
A10: PRC 3352723PA2915 | B10: 46279 | C10: Inv. 9516.00 CA 01 | E10: =E9+D10 -> 67533.49 | F10: 11277.74 | G10: =G9+F10 -> 11277.74 | H10: =H9-F10+D10 -> 56255.75
E11: =E10+D11 -> 67533.49 | G11: =G10+F11 -> 11277.74 | H11: =H10-F11+D11 -> 56255.75
E12: =E11+D12 -> 67533.49 | G12: =G11+F12 -> 11277.74 | H12: =H11-F12+D12 -> 56255.75
E13: =E12+D13 -> 67533.49 | G13: =G12+F13 -> 11277.74 | H13: =H12-F13+D13 -> 56255.75
E14: =E13+D14 -> 67533.49 | G14: =G13+F14 -> 11277.74 | H14: =H13-F14+D14 -> 56255.75
E15: =E14+D15 -> 67533.49 | G15: =G14+F15 -> 11277.74 | H15: =H14-F15+D15 -> 56255.75
E16: =E15+D16 -> 67533.49 | G16: =G15+F16 -> 11277.74 | H16: =H15-F16+D16 -> 56255.75
E17: =E16+D17 -> 67533.49 | G17: =G16+F17 -> 11277.74 | H17: =H16-F17+D17 -> 56255.75
E18: =E17+D18 -> 67533.49 | G18: =G17+F18 -> 11277.74 | H18: =H17-F18+D18 -> 56255.75
E19: =E18+D19 -> 67533.49 | G19: =G18+F19 -> 11277.74 | H19: =H18-F19+D19 -> 56255.75
E20: =E19+D20 -> 67533.49 | G20: =G19+F20 -> 11277.74 | H20: =H19-F20+D20 -> 56255.75
E21: =E20+D21 -> 67533.49 | G21: =G20+F21 -> 11277.74 | H21: =H20-F21+D21 -> 56255.75
C23: Totals: | D23: =SUM(D9:D22) -> 67533.49 | F23: =SUM(F9:F22) -> 11277.74 | H23: =D23-F23 -> 56255.75
C26: CM Staff | D26: 65533.49 | F26: =11277.74 -> 11277.74 | H26: =D26-F26 -> 54255.75
C27: Reimbursables | D27: 2000 | H27: =D27-F27 -> 2000
C28: Total: | D28: =SUM(D25:D27) -> 67533.49 | F28: =SUM(F25:F27) -> 11277.74 | H28: =SUM(H25:H27) -> 56255.75

Sheet #9516.01 CTI
A1: ='RECAP #9516.01'!B1 -> IDR State of Iowa Building Renovation
A2: ='RECAP #9516.01'!B2 -> Project # 9516.01
A3: ='RECAP #9516.01'!B3 -> Program code 951601 | D3: ='RECAP #9516.01'!E3 -> Major Program 4E19
A4: CTI | D4: Vendor: 00002133110
A5: Acct. Codes-0506-335-DA27-9255 | D5: MA#005 22036E
A6: ='RECAP #9516.01'!B6 -> Project Manager - Jennie E. | D6: Activity code: CNST
A8: Doc # | B8: Date | C8: Activity | D8: Contract & C.O.'s | E8: Contract Total | F8: Payment Amount | G8: Total Paid | H8: Balance
A9: DO 33527273915 | B9: 46254 | C9: DO Procore | D9: 80946.3 | E9: =D9 -> 80946.3 | H9: =E9 -> 80946.3
E10: =E9+D10 -> 80946.3 | G10: =G9+F10 -> 0 | H10: =H9-F10+D10 -> 80946.3
E11: =E10+D11 -> 80946.3 | G11: =G10+F11 -> 0 | H11: =H10-F11+D11 -> 80946.3
E12: =E11+D12 -> 80946.3 | G12: =G11+F12 -> 0 | H12: =H11-F12+D12 -> 80946.3
E13: =E12+D13 -> 80946.3 | G13: =G12+F13 -> 0 | H13: =H12-F13+D13 -> 80946.3
E14: =E13+D14 -> 80946.3 | G14: =G13+F14 -> 0 | H14: =H13-F14+D14 -> 80946.3
E15: =E14+D15 -> 80946.3 | G15: =G14+F15 -> 0 | H15: =H14-F15+D15 -> 80946.3
E16: =E15+D16 -> 80946.3 | G16: =G15+F16 -> 0 | H16: =H15-F16+D16 -> 80946.3
E17: =E16+D17 -> 80946.3 | G17: =G16+F17 -> 0 | H17: =H16-F17+D17 -> 80946.3
E18: =E17+D18 -> 80946.3 | G18: =G17+F18 -> 0 | H18: =H17-F18+D18 -> 80946.3
E19: =E18+D19 -> 80946.3 | G19: =G18+F19 -> 0 | H19: =H18-F19+D19 -> 80946.3
E20: =E19+D20 -> 80946.3 | G20: =G19+F20 -> 0 | H20: =H19-F20+D20 -> 80946.3
E21: =E20+D21 -> 80946.3 | G21: =G20+F21 -> 0 | H21: =H20-F21+D21 -> 80946.3
C23: Totals: | D23: =SUM(D9:D22) -> 80946.3 | F23: =SUM(F9:F22) -> 0 | H23: =D23-F23 -> 80946.3
C26: Equipment | D26: 41812.2 | H26: =D26-F26 -> 41812.2
C27: Implementation Services | D27: 39134.1 | H27: =D27-F27 -> 39134.1
C28: Total: | D28: =SUM(D25:D27) -> 80946.3 | F28: =SUM(F25:F27) -> 0 | H28: =SUM(H25:H27) -> 80946.3

Sheet RECAP #9522.00
B1: DOC NCF Dietary and Laundry Hot Water Tank Replacement
B2: Project # 9522.00
B3: Program code 952200 | E3: Major Program 4E01
B4: Recap
B5: Acct. Codes-0506-335-DA27 | E5: Closing Date:
B6: Project Manager - Brad T.
C7: TRANSFERS | D7: CONTRACTED | E7: EXPENDED | F7: CONTRACTED, NOT EXPENDED | G7: UNDER(OVER) Budget
B8: Funds received per MOU | C8: ='#9522.00 Funds Rec''d '!H24 -> 10000
B10: Vendor A | D10: ='#9522.00 Vendor A'!D23 -> 0 | E10: ='#xxxx.xx Vendor A '!F23 -> 0 | F10: ='#xxxx.xx Vendor A '!H23 -> 0
B11: PM TIME | D11: ='#xxxx.xx PM TIME '!E23 -> 0 | E11: ='#xxxx.xx PM TIME '!G23 -> 0 | F11: ='#xxxx.xx PM TIME '!I23 -> 0
B12: Misc. | D12: ='#xxxx.xx Misc'!G22 -> 0 | E12: ='#xxxx.xx Misc'!G22 -> 0 | F12: =D12-E12 -> 0
B14: Total Project Cost | C14: =SUM(C8:C13) -> 10000 | D14: =SUM(D8:D13) -> 0 | E14: =SUM(E8:E13) -> 0 | F14: =SUM(D14-E14) -> 0 | G14: =C8-D14 -> 10000

Sheet #9522.00 Funds Rec'd 
A1: ='RECAP #9522.00'!B1 -> DOC NCF Dietary and Laundry Hot Water Tank Replacement
A2: ='RECAP #9522.00'!B2 -> Project # 9522.00
A3: ='RECAP #9522.00'!B3 -> Program code 952200 | D3: ='RECAP #9522.00'!E3 -> Major Program 4E01
A4: Funds Rec'd
A5: Acct Code: 0506-335-DA27-xxxx
A6: ='RECAP #9522.00'!B6 -> Project Manager - Brad T.
A8: Date | B8: DAS Document # | C8: Amount | D8: Vendor | E8: Document # | F8: Date of Transfer | G8: Amount | H8: Total amount of transfer
D9: MOU | E9: IET 24579522 | F9: 46253 | G9: 10000 | H9: 10000
B24: Total Requested | C24: =SUM(C9:C23) -> 0 | D24: Total Transferred | G24: =SUM(G9:G23) -> 10000 | H24: =SUM(H9:H23) -> 10000

Sheet #9522.00 Vendor A
A1: ='RECAP #9522.00'!B1 -> DOC NCF Dietary and Laundry Hot Water Tank Replacement
A2: ='RECAP #9522.00'!B2 -> Project # 9522.00
A3: ='RECAP #9522.00'!B3 -> Program code 952200 | D3: ='RECAP #9522.00'!E3 -> Major Program 4E01
A4: Vendor A | D4: Vendor:
A5: Acct. Codes-0506-335-DA27-XXXX
A6: ='RECAP #9522.00'!B6 -> Project Manager - Brad T. | D6: Activity code:
A8: Doc # | B8: Date | C8: Activity | D8: Contract & C.O.'s | E8: Contract Total | F8: Payment Amount | G8: Total Paid | H8: Balance
E9: =D9 -> 0 | H9: =E9 -> 0
E10: =E9+D10 -> 0 | G10: =G9+F10 -> 0 | H10: =H9-F10+D10 -> 0
E11: =E10+D11 -> 0 | G11: =G10+F11 -> 0 | H11: =H10-F11+D11 -> 0
E12: =E11+D12 -> 0 | G12: =G11+F12 -> 0 | H12: =H11-F12+D12 -> 0
E13: =E12+D13 -> 0 | G13: =G12+F13 -> 0 | H13: =H12-F13+D13 -> 0
E14: =E13+D14 -> 0 | G14: =G13+F14 -> 0 | H14: =H13-F14+D14 -> 0
E15: =E14+D15 -> 0 | G15: =G14+F15 -> 0 | H15: =H14-F15+D15 -> 0
E16: =E15+D16 -> 0 | G16: =G15+F16 -> 0 | H16: =H15-F16+D16 -> 0
E17: =E16+D17 -> 0 | G17: =G16+F17 -> 0 | H17: =H16-F17+D17 -> 0
E18: =E17+D18 -> 0 | G18: =G17+F18 -> 0 | H18: =H17-F18+D18 -> 0
E19: =E18+D19 -> 0 | G19: =G18+F19 -> 0 | H19: =H18-F19+D19 -> 0
E20: =E19+D20 -> 0 | G20: =G19+F20 -> 0 | H20: =H19-F20+D20 -> 0
E21: =E20+D21 -> 0 | G21: =G20+F21 -> 0 | H21: =H20-F21+D21 -> 0
C23: Totals: | D23: =SUM(D9:D22) -> 0 | F23: =SUM(F9:F22) -> 0 | H23: =D23-F23 -> 0

Sheet #9522.00 PM TIME
A1: ='RECAP #9522.00'!B1 -> DOC NCF Dietary and Laundry Hot Water Tank Replacement
A2: ='RECAP #9522.00'!B2 -> Project # 9522.00
A3: ='RECAP #9522.00'!B3 -> Program code 952200 | E3: ='RECAP #9522.00'!E3 -> Major Program 4E01
A4: PM TIME | E4: Internal documents
A5: Acct. Codes-0506-335-DA27-xxxx
A6: ='RECAP #9522.00'!B6 -> Project Manager - Brad T. | E6: edas: 736Z
A8: Doc # | B8: Date | C8: Object Code | D8: Activity Code | E8: Contract & C.O.'s | F8: Contract Total | G8: Payment Amount | H8: Total Paid | I8: Balance
F9: =E9 -> 0 | I9: =F9 -> 0
F10: =F9+E10 -> 0 | H10: =H9+G10 -> 0 | I10: =I9-G10+E10 -> 0
F11: =F10+E11 -> 0 | H11: =H10+G11 -> 0 | I11: =I10-G11+E11 -> 0
F12: =F11+E12 -> 0 | H12: =H11+G12 -> 0 | I12: =I11-G12+E12 -> 0
F13: =F12+E13 -> 0 | H13: =H12+G13 -> 0 | I13: =I12-G13+E13 -> 0
F14: =F13+E14 -> 0 | H14: =H13+G14 -> 0 | I14: =I13-G14+E14 -> 0
F15: =F14+E15 -> 0 | H15: =H14+G15 -> 0 | I15: =I14-G15+E15 -> 0
F16: =F15+E16 -> 0 | H16: =H15+G16 -> 0 | I16: =I15-G16+E16 -> 0
F17: =F16+E17 -> 0 | H17: =H16+G17 -> 0 | I17: =I16-G17+E17 -> 0
F18: =F17+E18 -> 0 | H18: =H17+G18 -> 0 | I18: =I17-G18+E18 -> 0
F19: =F18+E19 -> 0 | H19: =H18+G19 -> 0 | I19: =I18-G19+E19 -> 0
F20: =F19+E20 -> 0 | H20: =H19+G20 -> 0 | I20: =I19-G20+E20 -> 0
F21: =F20+E21 -> 0 | H21: =H20+G21 -> 0 | I21: =I20-G21+E21 -> 0
D23: Totals: | E23: =SUM(E9:E22) -> 0 | G23: =SUM(G9:G22) -> 0 | I23: =E23-G23 -> 0

Sheet #9522.00 Misc
A1: ='RECAP #9522.00'!B1 -> DOC NCF Dietary and Laundry Hot Water Tank Replacement
A2: ='RECAP #9522.00'!B2 -> Project # 9522.00
A3: ='RECAP #9522.00'!B3 -> Program code 952200 | E3: ='RECAP #9522.00'!E3 -> Major Program 4E01
A4: Misc
A5: Acct. Codes-0506-335-DA27-xxxx
A6: ='RECAP #9522.00'!B6 -> Project Manager - Brad T. | E6: Shipping Code:
A8: Doc # | B8: Date | C8: Object Code | D8: Activity Code | E8: Activity | F8: Invoice | G8: Payment Amount | H8: Total Paid
H9: =G9 -> 0
H10: =H9+G10 -> 0
H11: =H10+G11 -> 0
H12: =H11+G12 -> 0
H13: =H12+G13 -> 0
H14: =H13+G14 -> 0
H15: =H14+G15 -> 0
H16: =H15+G16 -> 0
H17: =H16+G17 -> 0
H18: =H17+G18 -> 0
H19: =H18+G19 -> 0
H20: =H19+G20 -> 0
E22: Totals: | G22: =SUM(G9:G21) -> 0

Sheet RECAP #9534.01
B1: IDR ATOD Will call Ramp Replacement
B2: Project # 9534.01
B3: Program code 953401 | E3: Major Program 4H06
B4: Recap
B5: Acct. Codes-0506-335-DA27 | E5: Closing Date:
B6: Project Manager - Jennie E
C7: TRANSFERS | D7: CONTRACTED | E7: EXPENDED | F7: CONTRACTED, NOT EXPENDED | G7: UNDER(OVER) Budget
B8: Funds received per MOU | C8: ='#9534.01 Funds Rec''d '!H23 -> 291000
B10: Absolute Group | D10: ='#9534.01 Absolute Group'!D23 -> 198662 | E10: ='#9534.01 Absolute Group'!F23 -> 0 | F10: ='#9534.01 Absolute Group'!H23 -> 198662
B11: PM TIME | D11: ='#9534.01 PM TIME'!E23 -> 0 | E11: ='#9534.01 PM TIME'!G23 -> 0 | F11: ='#9534.01 PM TIME'!I23 -> 0
B12: Misc. | D12: ='#9534.01 Misc'!G22 -> 0 | E12: ='#9534.01 Misc'!G22 -> 0 | F12: =D12-E12 -> 0
B13: Samuels Group | D13: ='#9534.01 Samuels Group'!D23 -> 54941.2 | E13: ='#9534.01 Samuels Group'!F23 -> 0 | F13: ='#9534.01 Samuels Group'!H23 -> 54941.2
B15: Total Project Cost | C15: =SUM(C8:C14) -> 291000 | D15: =SUM(D8:D14) -> 253603.2 | E15: =SUM(E8:E14) -> 0 | F15: =SUM(D15-E15) -> 253603.2 | G15: =C8-D15 -> 37396.8

Sheet #9534.01 Funds Rec'd 
A1: ='RECAP #9534.01'!B1 -> IDR ATOD Will call Ramp Replacement
A2: ='RECAP #9534.01'!B2 -> Project # 9534.01
A3: ='RECAP #9534.01'!B3 -> Program code 953401 | D3: ='RECAP #9534.01'!E3 -> Major Program 4H06
A4: Funds Rec'd
A5: Acct Code: 0506-335-DA27-0304
A6: ='RECAP #9534.01'!B6 -> Project Manager - Jennie E
A8: Date | B8: DAS Document # | C8: Amount | D8: Vendor | E8: Document # | F8: Date of Transfer | G8: Amount | H8: Total amount of transfer
D9: Funds recvd incorrectly to 9534.00-Moving funds From 9534.00 to 9534.01 | E9: CDR 33527230900 | F9: 46252 | G9: 291000 | H9: 291000
B23: Total Requested | C23: =SUM(C9:C22) -> 0 | D23: Total Transferred | G23: =SUM(G9:G22) -> 291000 | H23: =SUM(H9:H22) -> 291000

Sheet #9534.01 Absolute Group
A1: ='RECAP #9534.01'!B1 -> IDR ATOD Will call Ramp Replacement
A2: ='RECAP #9534.01'!B2 -> Project # 9534.01
A3: ='RECAP #9534.01'!B3 -> Program code 953401 | D3: ='RECAP #9534.01'!E3 -> Major Program 4H06
A4: Absolute Group | D4: Vendor: 00003022169
A5: Acct. Codes-0506-335-DA27-9255 | D5: RFB954300-01
A6: ='RECAP #9534.01'!B6 -> Project Manager - Jennie E | D6: Activity code: BRUM
A8: Doc # | B8: Date | C8: Activity | D8: Contract & C.O.'s | E8: Contract Total | F8: Payment Amount | G8: Total Paid | H8: Balance
A9: PO 33527246923 | B9: 46268 | C9: PO Procore | D9: 198662 | E9: =D9 -> 198662 | H9: =E9 -> 198662
E10: =E9+D10 -> 198662 | G10: =G9+F10 -> 0 | H10: =H9-F10+D10 -> 198662
E11: =E10+D11 -> 198662 | G11: =G10+F11 -> 0 | H11: =H10-F11+D11 -> 198662
E12: =E11+D12 -> 198662 | G12: =G11+F12 -> 0 | H12: =H11-F12+D12 -> 198662
E13: =E12+D13 -> 198662 | G13: =G12+F13 -> 0 | H13: =H12-F13+D13 -> 198662
E14: =E13+D14 -> 198662 | G14: =G13+F14 -> 0 | H14: =H13-F14+D14 -> 198662
E15: =E14+D15 -> 198662 | G15: =G14+F15 -> 0 | H15: =H14-F15+D15 -> 198662
E16: =E15+D16 -> 198662 | G16: =G15+F16 -> 0 | H16: =H15-F16+D16 -> 198662
E17: =E16+D17 -> 198662 | G17: =G16+F17 -> 0 | H17: =H16-F17+D17 -> 198662
E18: =E17+D18 -> 198662 | G18: =G17+F18 -> 0 | H18: =H17-F18+D18 -> 198662
E19: =E18+D19 -> 198662 | G19: =G18+F19 -> 0 | H19: =H18-F19+D19 -> 198662
E20: =E19+D20 -> 198662 | G20: =G19+F20 -> 0 | H20: =H19-F20+D20 -> 198662
E21: =E20+D21 -> 198662 | G21: =G20+F21 -> 0 | H21: =H20-F21+D21 -> 198662
C23: Totals: | D23: =SUM(D9:D22) -> 198662 | F23: =SUM(F9:F22) -> 0 | H23: =D23-F23 -> 198662

Sheet #9534.01 PM TIME
A1: ='RECAP #9534.01'!B1 -> IDR ATOD Will call Ramp Replacement
A2: ='RECAP #9534.01'!B2 -> Project # 9534.01
A3: ='RECAP #9534.01'!B3 -> Program code 953401 | E3: ='RECAP #9534.01'!E3 -> Major Program 4H06
A4: PM TIME | E4: Internal documents
A5: Acct. Codes-0506-335-DA27-xxxx
A6: ='RECAP #9534.01'!B6 -> Project Manager - Jennie E | E6: edas: 737D
A8: Doc # | B8: Date | C8: Object Code | D8: Activity Code | E8: Contract & C.O.'s | F8: Contract Total | G8: Payment Amount | H8: Total Paid | I8: Balance
F9: =E9 -> 0 | I9: =F9 -> 0
F10: =F9+E10 -> 0 | H10: =H9+G10 -> 0 | I10: =I9-G10+E10 -> 0
F11: =F10+E11 -> 0 | H11: =H10+G11 -> 0 | I11: =I10-G11+E11 -> 0
F12: =F11+E12 -> 0 | H12: =H11+G12 -> 0 | I12: =I11-G12+E12 -> 0
F13: =F12+E13 -> 0 | H13: =H12+G13 -> 0 | I13: =I12-G13+E13 -> 0
F14: =F13+E14 -> 0 | H14: =H13+G14 -> 0 | I14: =I13-G14+E14 -> 0
F15: =F14+E15 -> 0 | H15: =H14+G15 -> 0 | I15: =I14-G15+E15 -> 0
F16: =F15+E16 -> 0 | H16: =H15+G16 -> 0 | I16: =I15-G16+E16 -> 0
F17: =F16+E17 -> 0 | H17: =H16+G17 -> 0 | I17: =I16-G17+E17 -> 0
F18: =F17+E18 -> 0 | H18: =H17+G18 -> 0 | I18: =I17-G18+E18 -> 0
F19: =F18+E19 -> 0 | H19: =H18+G19 -> 0 | I19: =I18-G19+E19 -> 0
F20: =F19+E20 -> 0 | H20: =H19+G20 -> 0 | I20: =I19-G20+E20 -> 0
F21: =F20+E21 -> 0 | H21: =H20+G21 -> 0 | I21: =I20-G21+E21 -> 0
D23: Totals: | E23: =SUM(E9:E22) -> 0 | G23: =SUM(G9:G22) -> 0 | I23: =E23-G23 -> 0

Sheet #9534.01 Misc
A1: ='RECAP #9534.01'!B1 -> IDR ATOD Will call Ramp Replacement
A2: ='RECAP #9534.01'!B2 -> Project # 9534.01
A3: ='RECAP #9534.01'!B3 -> Program code 953401 | E3: ='RECAP #9534.01'!E3 -> Major Program 4H06
A4: Misc
A5: Acct. Codes-0506-335-DA27-xxxx
A6: ='RECAP #9534.01'!B6 -> Project Manager - Jennie E | E6: Shipping Code: 137
A8: Doc # | B8: Date | C8: Object Code | D8: Activity Code | E8: Activity | F8: Invoice | G8: Payment Amount | H8: Total Paid
H9: =G9 -> 0
H10: =H9+G10 -> 0
H11: =H10+G11 -> 0
H12: =H11+G12 -> 0
H13: =H12+G13 -> 0
H14: =H13+G14 -> 0
H15: =H14+G15 -> 0
H16: =H15+G16 -> 0
H17: =H16+G17 -> 0
H18: =H17+G18 -> 0
H19: =H18+G19 -> 0
H20: =H19+G20 -> 0
E22: Totals: | G22: =SUM(G9:G21) -> 0

Sheet #9534.01 Samuels Group
A1: ='RECAP #9534.01'!B1 -> IDR ATOD Will call Ramp Replacement
A2: ='RECAP #9534.01'!B2 -> Project # 9534.01
A3: ='RECAP #9534.01'!B3 -> Program code 953401 | D3: ='RECAP #9534.01'!E3 -> Major Program 4H06
A4: Samuels Group | D4: Vendor: 00003033402
A5: Acct. Codes-0506-335-DA27-9255 | D5: RFP1821335228-Samuels11012021
A6: ='RECAP #9534.01'!B6 -> Project Manager - Jennie E | D6: Activity code: CMGR
A8: Doc # | B8: Date | C8: Activity | D8: Contract & C.O.'s | E8: Contract Total | F8: Payment Amount | G8: Total Paid | H8: Balance
A9: PO 33527257919 | B9: 46279 | C9: PO Procore | D9: 54941.2 | E9: =D9 -> 54941.2 | H9: =E9 -> 54941.2
E10: =E9+D10 -> 54941.2 | G10: =G9+F10 -> 0 | H10: =H9-F10+D10 -> 54941.2
E11: =E10+D11 -> 54941.2 | G11: =G10+F11 -> 0 | H11: =H10-F11+D11 -> 54941.2
E12: =E11+D12 -> 54941.2 | G12: =G11+F12 -> 0 | H12: =H11-F12+D12 -> 54941.2
E13: =E12+D13 -> 54941.2 | G13: =G12+F13 -> 0 | H13: =H12-F13+D13 -> 54941.2
E14: =E13+D14 -> 54941.2 | G14: =G13+F14 -> 0 | H14: =H13-F14+D14 -> 54941.2
E15: =E14+D15 -> 54941.2 | G15: =G14+F15 -> 0 | H15: =H14-F15+D15 -> 54941.2
E16: =E15+D16 -> 54941.2 | G16: =G15+F16 -> 0 | H16: =H15-F16+D16 -> 54941.2
E17: =E16+D17 -> 54941.2 | G17: =G16+F17 -> 0 | H17: =H16-F17+D17 -> 54941.2
E18: =E17+D18 -> 54941.2 | G18: =G17+F18 -> 0 | H18: =H17-F18+D18 -> 54941.2
E19: =E18+D19 -> 54941.2 | G19: =G18+F19 -> 0 | H19: =H18-F19+D19 -> 54941.2
E20: =E19+D20 -> 54941.2 | G20: =G19+F20 -> 0 | H20: =H19-F20+D20 -> 54941.2
E21: =E20+D21 -> 54941.2 | G21: =G20+F21 -> 0 | H21: =H20-F21+D21 -> 54941.2
C23: Totals: | D23: =SUM(D9:D22) -> 54941.2 | F23: =SUM(F9:F22) -> 0 | H23: =D23-F23 -> 54941.2
C26: CM Services | D26: 51941.2 | H26: =D26-F26 -> 51941.2
C27: Reimbursables-Temp | D27: 2500 | H27: =D27-F27 -> 2500
C28: Reimbursables-Miles | D28: 500 | H28: =D28-F28 -> 500
C29: Total: | D29: =SUM(D26:D28) -> 54941.2 | F29: =SUM(F26:F28) -> 0 | H29: =SUM(H26:H28) -> 54941.2

Sheet RECAP #9543.00
B1: DOC 6JD IC Hope-Stratton HVAC Phase 2
B2: Project # 9543.00
B3: Program code 954300 | E3: Major Program 4B01
B4: Recap
B5: Acct. Codes-0506-335-DA27 | E5: Closing Date:
B6: Project Manager - Jennifer K.
C7: TRANSFERS | D7: CONTRACTED | E7: EXPENDED | F7: CONTRACTED, NOT EXPENDED | G7: UNDER(OVER) Budget
B8: Funds received per MOU | C8: ='#9543.00 Funds Rec''d'!H24 -> 212127.97
B10: McGough Construction | D10: ='#9543.00 McGough Construction'!D23 -> 11783.15 | E10: ='#9543.00 McGough Construction'!F23 -> 0 | F10: ='#9543.00 McGough Construction'!H23 -> 11783.15
B11: PM TIME | D11: ='#9543.00 PM TIME'!E23 -> 8000 | E11: ='#9543.00 PM TIME'!G23 -> 314.27 | F11: ='#9543.00 PM TIME'!I23 -> 7685.73
B12: Misc. | D12: ='#9543.00 Misc'!G22 -> 0 | E12: ='#9543.00 Misc'!G22 -> 0 | F12: =D12-E12 -> 0
B14: Total Project Cost | C14: =SUM(C8:C13) -> 212127.97 | D14: =SUM(D8:D13) -> 19783.15 | E14: =SUM(E8:E13) -> 314.27 | F14: =SUM(D14-E14) -> 19468.88 | G14: =C8-D14 -> 192344.82

Sheet #9543.00 Funds Rec'd
A1: ='RECAP #9543.00'!B1 -> DOC 6JD IC Hope-Stratton HVAC Phase 2
A2: ='RECAP #9543.00'!B2 -> Project # 9543.00
A3: ='RECAP #9543.00'!B3 -> Program code 954300 | D3: ='RECAP #9543.00'!E3 -> Major Program 4B01
A4: Funds Rec'd
A5: Acct Code: 0506-335-DA27-0304
A6: ='RECAP #9543.00'!B6 -> Project Manager - Jennifer K.
A8: Date | B8: DAS Document # | C8: Amount | D8: Vendor | E8: Document # | F8: Date of Transfer | G8: Amount | H8: Total amount of transfer
D9: MOU | E9: IET 23813U27004 | F9: 46259 | G9: 150000 | H9: 150000
D10: MOU 2nd Transfer | E10: IET 226A062700278 | F10: 46265 | G10: 62127.97 | H10: 62127.97
B24: Total Requested | C24: =SUM(C9:C23) -> 0 | D24: Total Transferred | G24: =SUM(G9:G23) -> 212127.97 | H24: =SUM(H9:H23) -> 212127.97

Sheet #9543.00 McGough Construction
A1: ='RECAP #9543.00'!B1 -> DOC 6JD IC Hope-Stratton HVAC Phase 2
A2: ='RECAP #9543.00'!B2 -> Project # 9543.00
A3: ='RECAP #9543.00'!B3 -> Program code 954300 | D3: ='RECAP #9543.00'!E3 -> Major Program 4B01
A4: McGough Construction | D4: Vendor: 00003193334
A5: Acct. Codes-0506-335-DA27-9255 | D5: RFP1821335228-McGough11012021
A6: ='RECAP #9543.00'!B6 -> Project Manager - Jennifer K. | D6: Activity code: CMGR
A8: Doc # | B8: Date | C8: Activity | D8: Contract & C.O.'s | E8: Contract Total | F8: Payment Amount | G8: Total Paid | H8: Balance
A9: PO 33527251921 | B9: 46273 | C9: PO Procore | D9: 11783.15 | E9: =D9 -> 11783.15 | H9: =E9 -> 11783.15
E10: =E9+D10 -> 11783.15 | G10: =G9+F10 -> 0 | H10: =H9-F10+D10 -> 11783.15
E11: =E10+D11 -> 11783.15 | G11: =G10+F11 -> 0 | H11: =H10-F11+D11 -> 11783.15
E12: =E11+D12 -> 11783.15 | G12: =G11+F12 -> 0 | H12: =H11-F12+D12 -> 11783.15
E13: =E12+D13 -> 11783.15 | G13: =G12+F13 -> 0 | H13: =H12-F13+D13 -> 11783.15
E14: =E13+D14 -> 11783.15 | G14: =G13+F14 -> 0 | H14: =H13-F14+D14 -> 11783.15
E15: =E14+D15 -> 11783.15 | G15: =G14+F15 -> 0 | H15: =H14-F15+D15 -> 11783.15
E16: =E15+D16 -> 11783.15 | G16: =G15+F16 -> 0 | H16: =H15-F16+D16 -> 11783.15
E17: =E16+D17 -> 11783.15 | G17: =G16+F17 -> 0 | H17: =H16-F17+D17 -> 11783.15
E18: =E17+D18 -> 11783.15 | G18: =G17+F18 -> 0 | H18: =H17-F18+D18 -> 11783.15
E19: =E18+D19 -> 11783.15 | G19: =G18+F19 -> 0 | H19: =H18-F19+D19 -> 11783.15
E20: =E19+D20 -> 11783.15 | G20: =G19+F20 -> 0 | H20: =H19-F20+D20 -> 11783.15
E21: =E20+D21 -> 11783.15 | G21: =G20+F21 -> 0 | H21: =H20-F21+D21 -> 11783.15
C23: Totals: | D23: =SUM(D9:D22) -> 11783.15 | F23: =SUM(F9:F22) -> 0 | H23: =D23-F23 -> 11783.15
C26: CM Services | D26: 11468.15 | H26: =D26-F26 -> 11468.15
C27: Reimbursables | D27: 315 | H27: =D27-F27 -> 315
C28: Total: | D28: =SUM(D26:D27) -> 11783.15 | F28: =SUM(F26:F27) -> 0 | H28: =SUM(H26:H27) -> 11783.15

Sheet #9543.00 PM TIME
A1: ='RECAP #9543.00'!B1 -> DOC 6JD IC Hope-Stratton HVAC Phase 2
A2: ='RECAP #9543.00'!B2 -> Project # 9543.00
A3: ='RECAP #9543.00'!B3 -> Program code 954300 | E3: ='RECAP #9543.00'!E3 -> Major Program 4B01
A4: PM TIME | E4: Internal documents
A5: Acct. Codes-0506-335-DA27-xxxx
A6: ='RECAP #9543.00'!B6 -> Project Manager - Jennifer K. | E6: edas: 737A
A8: Doc # | B8: Date | C8: Object Code | D8: Activity Code | E8: Contract & C.O.'s | F8: Contract Total | G8: Payment Amount | H8: Total Paid | I8: Balance
D9: Budget | E9: 8000 | F9: =E9 -> 8000 | I9: =F9 -> 8000
A10: IET DAS202702115300001 | B10: 46272 | C10: 2507 | D10: Finance Support for August 01-31, 2026 | F10: =F9+E10 -> 8000 | G10: 29.57 | H10: =H9+G10 -> 29.57 | I10: =I9-G10+E10 -> 7970.43
A11: IET DAS202702115300001 | B11: 46272 | C11: 9500 | D11: DAS Support for August 01-31, 2026 | F11: =F10+E11 -> 8000 | G11: 284.7 | H11: =H10+G11 -> 314.27 | I11: =I10-G11+E11 -> 7685.73
F12: =F11+E12 -> 8000 | H12: =H11+G12 -> 314.27 | I12: =I11-G12+E12 -> 7685.73
F13: =F12+E13 -> 8000 | H13: =H12+G13 -> 314.27 | I13: =I12-G13+E13 -> 7685.73
F14: =F13+E14 -> 8000 | H14: =H13+G14 -> 314.27 | I14: =I13-G14+E14 -> 7685.73
F15: =F14+E15 -> 8000 | H15: =H14+G15 -> 314.27 | I15: =I14-G15+E15 -> 7685.73
F16: =F15+E16 -> 8000 | H16: =H15+G16 -> 314.27 | I16: =I15-G16+E16 -> 7685.73
F17: =F16+E17 -> 8000 | H17: =H16+G17 -> 314.27 | I17: =I16-G17+E17 -> 7685.73
F18: =F17+E18 -> 8000 | H18: =H17+G18 -> 314.27 | I18: =I17-G18+E18 -> 7685.73
F19: =F18+E19 -> 8000 | H19: =H18+G19 -> 314.27 | I19: =I18-G19+E19 -> 7685.73
F20: =F19+E20 -> 8000 | H20: =H19+G20 -> 314.27 | I20: =I19-G20+E20 -> 7685.73
F21: =F20+E21 -> 8000 | H21: =H20+G21 -> 314.27 | I21: =I20-G21+E21 -> 7685.73
D23: Totals: | E23: =SUM(E9:E22) -> 8000 | G23: =SUM(G9:G22) -> 314.27 | I23: =E23-G23 -> 7685.73

Sheet #9543.00 Misc
A1: ='RECAP #9543.00'!B1 -> DOC 6JD IC Hope-Stratton HVAC Phase 2
A2: ='RECAP #9543.00'!B2 -> Project # 9543.00
A3: ='RECAP #9543.00'!B3 -> Program code 954300 | E3: ='RECAP #9543.00'!E3 -> Major Program 4B01
A4: Misc
A5: Acct. Codes-0506-335-DA27-xxxx
A6: ='RECAP #9543.00'!B6 -> Project Manager - Jennifer K. | E6: Shipping Code: 122A
A8: Doc # | B8: Date | C8: Object Code | D8: Activity Code | E8: Activity | F8: Invoice | G8: Payment Amount | H8: Total Paid
H9: =G9 -> 0
H10: =H9+G10 -> 0
H11: =H10+G11 -> 0
H12: =H11+G12 -> 0
H13: =H12+G13 -> 0
H14: =H13+G14 -> 0
H15: =H14+G15 -> 0
H16: =H15+G16 -> 0
H17: =H16+G17 -> 0
H18: =H17+G18 -> 0
H19: =H18+G19 -> 0
H20: =H19+G20 -> 0
E22: Totals: | G22: =SUM(G9:G21) -> 0

Sheet RECAP #9545.00
B1: HHS WRC Campus Generator Study
B2: Project # 9545.00
B3: Program code 954500 | E3: Major Program 4B02
B4: Recap
B5: Acct. Codes-0506-335-DA27 | E5: Closing Date:
B6: Project Manager - Jennifer K
C7: TRANSFERS | D7: CONTRACTED | E7: EXPENDED | F7: CONTRACTED, NOT EXPENDED | G7: UNDER(OVER) Budget
B8: Funds received per MOU | C8: ='#9545.00 Funds Rec''d '!H24 -> 50000
B10: Story Construction | D10: ='#9545.00 Story Construction'!D23 -> 7295.4 | E10: ='#9545.00 Story Construction'!F23 -> 0 | F10: ='#9545.00 Story Construction'!H23 -> 7295.4
B11: PM TIME | D11: ='#9545.00 PM TIME'!E23 -> 5000 | E11: ='#9545.00 PM TIME'!G23 -> 1068.78 | F11: ='#9545.00 PM TIME'!I23 -> 3931.22
B12: Misc. | D12: ='#9545.00 Misc'!G22 -> 0 | E12: ='#9545.00 Misc'!G22 -> 0 | F12: =D12-E12 -> 0
B13: Innovative Engineers | D13: ='#9545.00 Innovative Engineers'!D23 -> 18885 | E13: ='#9545.00 Innovative Engineers'!F23 -> 0 | F13: ='#9545.00 Innovative Engineers'!H23 -> 18885
B15: Total Project Cost | C15: =SUM(C8:C14) -> 50000 | D15: =SUM(D8:D14) -> 31180.4 | E15: =SUM(E8:E14) -> 1068.78 | F15: =SUM(D15-E15) -> 30111.62 | G15: =C8-D15 -> 18819.6

Sheet #9545.00 Funds Rec'd 
A1: ='RECAP #9545.00'!B1 -> HHS WRC Campus Generator Study
A2: ='RECAP #9545.00'!B2 -> Project # 9545.00
A3: ='RECAP #9545.00'!B3 -> Program code 954500 | D3: ='RECAP #9545.00'!E3 -> Major Program 4B02
A4: Funds Rec'd
A5: Acct Code: 0506-335-DA27-xxxx
A6: ='RECAP #9545.00'!B6 -> Project Manager - Jennifer K
A8: Date | B8: DAS Document # | C8: Amount | D8: Vendor | E8: Document # | F8: Date of Transfer | G8: Amount | H8: Total amount of transfer
D9: MOU | E9: IET DASMOU954500 | F9: 46259 | G9: 50000 | H9: 50000
B24: Total Requested | C24: =SUM(C9:C23) -> 0 | D24: Total Transferred | G24: =SUM(G9:G23) -> 50000 | H24: =SUM(H9:H23) -> 50000

Sheet #9545.00 Story Construction
A1: ='RECAP #9545.00'!B1 -> HHS WRC Campus Generator Study
A2: ='RECAP #9545.00'!B2 -> Project # 9545.00
A3: ='RECAP #9545.00'!B3 -> Program code 954500 | D3: ='RECAP #9545.00'!E3 -> Major Program 4B02
A4: Story Construction | D4: Vendor: 00002110695
A5: Acct. Codes-0506-335-DA27-9255 | D5: RFP1821335228-Story11012021
A6: ='RECAP #9545.00'!B6 -> Project Manager - Jennifer K | D6: Activity code: CMGR
A8: Doc # | B8: Date | C8: Activity | D8: Contract & C.O.'s | E8: Contract Total | F8: Payment Amount | G8: Total Paid | H8: Balance
A9: PO 33527246915 | B9: 46268 | C9: PO Procore | D9: 7295.4 | E9: =D9 -> 7295.4 | H9: =E9 -> 7295.4
E10: =E9+D10 -> 7295.4 | G10: =G9+F10 -> 0 | H10: =H9-F10+D10 -> 7295.4
E11: =E10+D11 -> 7295.4 | G11: =G10+F11 -> 0 | H11: =H10-F11+D11 -> 7295.4
E12: =E11+D12 -> 7295.4 | G12: =G11+F12 -> 0 | H12: =H11-F12+D12 -> 7295.4
E13: =E12+D13 -> 7295.4 | G13: =G12+F13 -> 0 | H13: =H12-F13+D13 -> 7295.4
E14: =E13+D14 -> 7295.4 | G14: =G13+F14 -> 0 | H14: =H13-F14+D14 -> 7295.4
E15: =E14+D15 -> 7295.4 | G15: =G14+F15 -> 0 | H15: =H14-F15+D15 -> 7295.4
E16: =E15+D16 -> 7295.4 | G16: =G15+F16 -> 0 | H16: =H15-F16+D16 -> 7295.4
E17: =E16+D17 -> 7295.4 | G17: =G16+F17 -> 0 | H17: =H16-F17+D17 -> 7295.4
E18: =E17+D18 -> 7295.4 | G18: =G17+F18 -> 0 | H18: =H17-F18+D18 -> 7295.4
E19: =E18+D19 -> 7295.4 | G19: =G18+F19 -> 0 | H19: =H18-F19+D19 -> 7295.4
E20: =E19+D20 -> 7295.4 | G20: =G19+F20 -> 0 | H20: =H19-F20+D20 -> 7295.4
E21: =E20+D21 -> 7295.4 | G21: =G20+F21 -> 0 | H21: =H20-F21+D21 -> 7295.4
C23: Totals: | D23: =SUM(D9:D22) -> 7295.4 | F23: =SUM(F9:F22) -> 0 | H23: =D23-F23 -> 7295.4

Sheet #9545.00 PM TIME
A1: ='RECAP #9545.00'!B1 -> HHS WRC Campus Generator Study
A2: ='RECAP #9545.00'!B2 -> Project # 9545.00
A3: ='RECAP #9545.00'!B3 -> Program code 954500 | E3: ='RECAP #9545.00'!E3 -> Major Program 4B02
A4: PM TIME | E4: Internal documents
A5: Acct. Codes-0506-335-DA27-xxxx
A6: ='RECAP #9545.00'!B6 -> Project Manager - Jennifer K | E6: edas: 737F
A8: Doc # | B8: Date | C8: Object Code | D8: Activity Code | E8: Contract & C.O.'s | F8: Contract Total | G8: Payment Amount | H8: Total Paid | I8: Balance
D9: Budget | E9: 5000 | F9: =E9 -> 5000 | I9: =F9 -> 5000
A10: IET DAS202702115300001 | B10: 46272 | C10: 2507 | D10: Finance Support for August 01-31, 2026 | F10: =F9+E10 -> 5000 | G10: =53.61+45.87 -> 99.48 | H10: =H9+G10 -> 99.48 | I10: =I9-G10+E10 -> 4900.52
A11: IET DAS202702115300001 | B11: 46272 | C11: 9500 | D11: DAS Support for August 01-31, 2026 | F11: =F10+E11 -> 5000 | G11: =521.8+447.5 -> 969.3 | H11: =H10+G11 -> 1068.78 | I11: =I10-G11+E11 -> 3931.22
F12: =F11+E12 -> 5000 | H12: =H11+G12 -> 1068.78 | I12: =I11-G12+E12 -> 3931.22
F13: =F12+E13 -> 5000 | H13: =H12+G13 -> 1068.78 | I13: =I12-G13+E13 -> 3931.22
F14: =F13+E14 -> 5000 | H14: =H13+G14 -> 1068.78 | I14: =I13-G14+E14 -> 3931.22
F15: =F14+E15 -> 5000 | H15: =H14+G15 -> 1068.78 | I15: =I14-G15+E15 -> 3931.22
F16: =F15+E16 -> 5000 | H16: =H15+G16 -> 1068.78 | I16: =I15-G16+E16 -> 3931.22
F17: =F16+E17 -> 5000 | H17: =H16+G17 -> 1068.78 | I17: =I16-G17+E17 -> 3931.22
F18: =F17+E18 -> 5000 | H18: =H17+G18 -> 1068.78 | I18: =I17-G18+E18 -> 3931.22
F19: =F18+E19 -> 5000 | H19: =H18+G19 -> 1068.78 | I19: =I18-G19+E19 -> 3931.22
F20: =F19+E20 -> 5000 | H20: =H19+G20 -> 1068.78 | I20: =I19-G20+E20 -> 3931.22
F21: =F20+E21 -> 5000 | H21: =H20+G21 -> 1068.78 | I21: =I20-G21+E21 -> 3931.22
D23: Totals: | E23: =SUM(E9:E22) -> 5000 | G23: =SUM(G9:G22) -> 1068.78 | I23: =E23-G23 -> 3931.22

Sheet #9545.00 Misc
A1: ='RECAP #9545.00'!B1 -> HHS WRC Campus Generator Study
A2: ='RECAP #9545.00'!B2 -> Project # 9545.00
A3: ='RECAP #9545.00'!B3 -> Program code 954500 | E3: ='RECAP #9545.00'!E3 -> Major Program 4B02
A4: Misc
A5: Acct. Codes-0506-335-DA27-xxxx
A6: ='RECAP #9545.00'!B6 -> Project Manager - Jennifer K | E6: Shipping Code: 564
A8: Doc # | B8: Date | C8: Object Code | D8: Activity Code | E8: Activity | F8: Invoice | G8: Payment Amount | H8: Total Paid
H9: =G9 -> 0
H10: =H9+G10 -> 0
H11: =H10+G11 -> 0
H12: =H11+G12 -> 0
H13: =H12+G13 -> 0
H14: =H13+G14 -> 0
H15: =H14+G15 -> 0
H16: =H15+G16 -> 0
H17: =H16+G17 -> 0
H18: =H17+G18 -> 0
H19: =H18+G19 -> 0
H20: =H19+G20 -> 0
E22: Totals: | G22: =SUM(G9:G21) -> 0

Sheet #9545.00 Innovative Engineers
A1: ='RECAP #9545.00'!B1 -> HHS WRC Campus Generator Study
A2: ='RECAP #9545.00'!B2 -> Project # 9545.00
A3: ='RECAP #9545.00'!B3 -> Program code 954500 | D3: ='RECAP #9545.00'!E3 -> Major Program 4B02
A4: Innovative Engineers | D4: Vendor: 00003080298
A5: Acct. Codes-0506-335-DA27-9260 | D5: Emergency
A6: ='RECAP #9545.00'!B6 -> Project Manager - Jennifer K | D6: Activity code: DSGN
A8: Doc # | B8: Date | C8: Activity | D8: Contract & C.O.'s | E8: Contract Total | F8: Payment Amount | G8: Total Paid | H8: Balance
A9: PO 33527259921 | B9: 46281 | C9: PO Procore | D9: 18885 | E9: =D9 -> 18885 | H9: =E9 -> 18885
E10: =E9+D10 -> 18885 | G10: =G9+F10 -> 0 | H10: =H9-F10+D10 -> 18885
