Workbook

Sheet Language
A1: 2024 Iowa Acts, Chapter 1155, Section 1 (FY2025)

Sheet FINANCIAL
A1: Status | B1: PROJECT NUMBER | C1: PROJECT TITLE | D1: Project Mgr. | E1: Vertical Infrastructure Project Allocation | F1: Additional Funds | G1: Total Project Budget | H1: Contracted Amount | I1: Expended Amount | J1: Contracted Not Expended | K1: Not Encumbered
C2: Total Appropriation R52 | D2: 22000000
C3: Additional Funds
C4: Sales Tax Refunds | E4: 0
C5: Total Funds & Sales Tax Refunds | E5: =D2+D3-E4 -> 22000000
B6: . | C6: Less: Total Assigned | E6: =G45 -> 18436370
C7: Total Unassigned / Unallocated | E7: =E5-E6 -> 3563629.8
C8: Major Maintenance Projects
E9: hard code | F9: link to project recap | G9: link to this page budget column | H9: link to project recap | I9: link to project recap | J9: link to project recap | K9: link to project recap
C10: Funds Received
A11: C | B11: 9997.26 | C11: Project Management Time | D11: Geoff W. | E11: =75000-27187.7 -> 47812.3 | G11: =E11+F11 -> 47812.3 | H11: ='RECAP #9997.26'!D14 -> 47812.3 | I11: ='RECAP #9997.26'!E14 -> 47812.3 | J11: ='RECAP #9997.26'!F14 -> 2.1827873e-11 | K11: ='RECAP #9997.26'!G14 -> 0
B12: 9440.01 | C12: DAS CC Historical Building Elevators Replacement PH1 | D12: Brad T. | E12: =1550000+200000 -> 1750000 | G12: =E12+F12 -> 1750000 | H12: ='RECAP #9440.01'!D19 -> 1627413.1 | I12: ='RECAP #9440.01'!E19 -> 123996.56 | J12: ='RECAP #9440.01'!F19 -> 1503416.6 | K12: ='RECAP #9440.01'!G19 -> 122586.85 | O12: ='#9440.01 PM TIME '!I29 -> 22559.73
B13: 9455.00 | C13: IDOE ISD Giangreco Hall Water Infiltration Mitigation | D13: Jennie E | E13: =4600000-900000-3402430.58 -> 297569.42 | G13: =E13+F13 -> 297569.42 | H13: ='RECAP #9455.00'!D15 -> 297569.42 | I13: ='RECAP #9455.00'!E15 -> 290959.04 | J13: ='RECAP #9455.00'!F15 -> 6610.38 | K13: ='RECAP #9455.00'!G15 -> 0
B14: 9483.00 | C14: DVA IVH Dack and Malloy Building Roof Replacements | D14: Brad T. | E14: =2630000+100000+90000 -> 2820000 | G14: =E14+F14 -> 2820000 | H14: ='RECAP #9483.00'!D17 -> 2752691.7 | I14: ='RECAP #9483.00'!E17 -> 1934997.4 | J14: ='RECAP #9483.00'!F17 -> 817694.31 | K14: ='RECAP #9483.00'!G17 -> 67308.33 | O14: ='#9483.00 PM TIME'!I43 -> 55228.5
B15: 9484.00 | C15: ILEA JOH Hydraulic Elevator Replacement | D15: Brad T. | E15: =575000-100000 -> 475000 | G15: =E15+F15 -> 475000 | H15: ='RECAP #9484.00'!D19 -> 402440.55 | I15: ='RECAP #9484.00'!E19 -> 359784.6 | J15: ='RECAP #9484.00'!F19 -> 42655.95 | K15: ='RECAP #9484.00'!G19 -> 72559.45 | O15: ='#9484.00 PM TIME'!I43 -> 4997.82
B16: 9491.00 | C16: DOC 7 JD RTU #2 Replacement | D16: James T. | E16: =170000+300000-150000 -> 320000 | G16: =E16+F16 -> 320000 | H16: ='RECAP #9491.00'!D17 -> 276688.96 | I16: ='RECAP #9491.00'!E17 -> 46537.07 | J16: ='RECAP #9491.00'!F17 -> 230151.89 | K16: ='RECAP #9491.00'!G17 -> 43311.04 | O16: ='#9491.00 PM TIME '!I39 -> 7303.88
A17: C | B17: 9494.00 | C17: IDOE ISD Giangreco Hall Gutter, Dentil and Roof Repairs | D17: Jennie E. | E17: =4600000-4600000 -> 0 | G17: =E17+F17 -> 0 | H17: ='RECAP #9494.00'!D14 -> 0 | I17: ='RECAP #9494.00'!E14 -> 0 | J17: ='RECAP #9494.00'!F14 -> 0 | K17: ='RECAP #9494.00'!G14 -> 0
A18: C | B18: 9495.00 | C18: HHS IMHI Boiler #3 Replacement | D18: Oliver S.(JE) | E18: =1400000-1400000 -> 0 | G18: =E18+F18 -> 0 | H18: ='RECAP #9495.00'!D14 -> 0 | I18: ='RECAP #9495.00'!E14 -> 0 | J18: ='RECAP #9495.00'!F14 -> 0 | K18: ='RECAP #9495.00'!G14 -> 0
B19: 9496.00 | C19: DOC NCCF Replace Windows in Education Building | D19: Jennie E. | E19: =250000+120000 -> 370000 | G19: =E19+F19 -> 370000 | H19: ='RECAP #9496.00'!D17 -> 326173.92 | I19: ='RECAP #9496.00'!E17 -> 63909.92 | J19: ='RECAP #9496.00'!F17 -> 262264 | K19: ='RECAP #9496.00'!G17 -> 43826.08 | O19: ='#9496.00 PM TIME'!I35 -> 4151.29
B20: 9497.00 | C20: HHS IMHI Warehouse Roof Replacement | D20: James T. | E20: 495000 | G20: =E20+F20 -> 495000 | H20: ='RECAP #9497.00'!D18 -> 235116.54 | I20: ='RECAP #9497.00'!E18 -> 71968.44 | J20: ='RECAP #9497.00'!F18 -> 163148.1 | K20: ='RECAP #9497.00'!G18 -> 259883.46 | O20: ='#9497.00 PM TIME'!I37 -> 383.35
B21: 9498.00 | C21: DAS TH Parking Lot Retaining Wall Repairs | D21: James T. | E21: =105000+35000+95000 -> 235000 | G21: =E21+F21 -> 235000 | H21: ='RECAP #9498.00'!D18 -> 219050.51 | I21: ='RECAP #9498.00'!E18 -> 70275.49 | J21: ='RECAP #9498.00'!F18 -> 148775.02 | K21: ='RECAP #9498.00'!G18 -> 15949.49 | O21: ='#9498.00 PM TIME'!I39 -> 3546.04
B22: 9499.00 | C22: IPBS 6535 Corporate Drive Parking Lot Replacement | D22: Brandon A. | E22: =640965-200000 -> 440965 | G22: =E22+F22 -> 440965 | H22: ='RECAP #9499.00'!D17 -> 419314.01 | I22: ='RECAP #9499.00'!E17 -> 399998.07 | J22: ='RECAP #9499.00'!F17 -> 19315.94 | K22: ='RECAP #9499.00'!G17 -> 21650.99 | O22: ='#9499.00 PM TIME '!I37 -> 1435.46
B23: 9500.00 | C23: DOC MPCF Spill Containment for Diesel Tank | D23: Brandon A. | E23: =400000+150000 -> 550000 | G23: =E23+F23 -> 550000 | H23: ='RECAP #9500.00'!D18 -> 505936.55 | I23: ='RECAP #9500.00'!E18 -> 83781.27 | J23: ='RECAP #9500.00'!F18 -> 422155.28 | K23: ='RECAP #9500.00'!G18 -> 44063.45 | O23: ='#9500.00 PM TIME'!I39 -> 1000.06
B24: 9501.00 | C24: DOC NCCF Air Handler Replacement and Condenser Coils Unit A and B | D24: Jennie E. | E24: 275000 | G24: =E24+F24 -> 275000 | H24: ='RECAP #9501.00'!D17 -> 231488.81 | I24: ='RECAP #9501.00'!E17 -> 52596.15 | J24: ='RECAP #9501.00'!F17 -> 178892.66 | K24: ='RECAP #9501.00'!G17 -> 43511.19 | O24: ='#9501.00 PM TIME'!I35 -> 3053.38
B25: 9502.00 | C25: DOC MPCF Hot and Cold Water Mains Replacement | D25: Brandon A. | E25: =505000+450000 -> 955000 | G25: =E25+F25 -> 955000 | H25: ='RECAP #9502.00'!D17 -> 899595.47 | I25: ='RECAP #9502.00'!E17 -> 623534.77 | J25: ='RECAP #9502.00'!F17 -> 276060.7 | K25: ='RECAP #9502.00'!G17 -> 55404.53 | O25: ='#9502.00 PM TIME'!I39 -> 3795.99
B26: 9503.00 | C26: HHS WRC CDC Freezer Repair | D26: Jennifer K. | E26: 440000 | G26: =E26+F26 -> 440000 | H26: ='RECAP #9503.00'!D18 -> 105690.06 | I26: ='RECAP #9503.00'!E18 -> 73321.48 | J26: ='RECAP #9503.00'!F18 -> 32368.58 | K26: ='RECAP #9503.00'!G18 -> 334309.94 | O26: ='#9503.00 PM TIME '!I35 -> 4673.43
B27: 9504.00 | C27: HHS WRC Food Service Elevator Replacement | D27: Jennifer K. | E27: 400000 | G27: =E27+F27 -> 400000 | H27: ='RECAP #9504.00'!D17 -> 307537.47 | I27: ='RECAP #9504.00'!E17 -> 87651.19 | J27: ='RECAP #9504.00'!F17 -> 219886.28 | K27: ='RECAP #9504.00'!G17 -> 92462.53 | O27: ='#9504.00 PM TIME'!I35 -> 4291.53
B28: 9505.00 | C28: DOC FDCF Sally Port Operator Replacement | D28: Jennie E. | E28: =385000+106000 -> 491000 | G28: =E28+F28 -> 491000 | H28: ='RECAP #9505.00'!D17 -> 486945.01 | I28: ='RECAP #9505.00'!E17 -> 69930.54 | J28: ='RECAP #9505.00'!F17 -> 417014.47 | K28: ='RECAP #9505.00'!G17 -> 4054.99 | O28: ='#9505.00 PM TIME'!I37 -> 3519.04
B29: 9506.00 | C29: DOC MPCF Perimeter Fence and Wagon Gates | D29: Brandon A. | E29: 1680747 | G29: =E29+F29 -> 1680747 | H29: ='RECAP #9506.00'!D16 -> 197979.32 | I29: ='RECAP #9506.00'!E16 -> 140953.03 | J29: ='RECAP #9506.00'!F16 -> 57026.29 | K29: ='RECAP #9506.00'!G16 -> 1482767.7 | O29: ='#9506.00 PM TIME'!I39 -> 1253.34
B30: 9507.00 | C30: DOC IMCC Cooling Tower Replacement | D30: Geoff W(JK) | E30: 700000 | G30: =E30+F30 -> 700000 | H30: ='RECAP #9507.00'!D14 -> 451832 | I30: ='RECAP #9507.00'!E14 -> 734.36 | J30: ='RECAP #9507.00'!F14 -> 451097.64 | K30: ='RECAP #9507.00'!G14 -> 248168 | O30: ='#9507.00 PM TIME'!I23 -> 14265.64
B31: 9508.00 | C31: DOC FDCF Unit A Roof Replacement | D31: Geoff W(JE) | E31: =440800+633500+633000 -> 1707300 | G31: =E31+F31 -> 1707300 | H31: ='RECAP #9508.00'!D17 -> 1268098.9 | I31: ='RECAP #9508.00'!E17 -> 785455.04 | J31: ='RECAP #9508.00'!F17 -> 482643.86 | K31: ='RECAP #9508.00'!G17 -> 439201.1 | O31: ='#9508.00 PM TIME'!I37 -> 27534.45
A32: C | B32: 9509.00 | C32: DOC FDCF Boone Unit Roof Replacement | D32: Geoff W(JE) | E32: =633500-633500 -> 0 | G32: =E32+F32 -> 0 | H32: ='RECAP #9509.00'!D14 -> 0 | I32: ='RECAP #9509.00'!E14 -> 0 | J32: ='RECAP #9509.00'!F14 -> 0 | K32: ='RECAP #9509.00'!G14 -> 0
A33: C | B33: 9510.00 | C33: DOC FDCF Grove Unit Roof Replacement | D33: Geoff W(JE) | E33: =633000-633000 -> 0 | G33: =E33+F33 -> 0 | H33: ='RECAP #9510.00'!D14 -> 0 | I33: ='RECAP #9510.00'!E14 -> 0 | J33: ='RECAP #9510.00'!F14 -> 0 | K33: ='RECAP #9510.00'!G14 -> 0
B34: 9511.00 | C34: DPS P13 Upper Parking Lot Replacement | D34: Brandon A. | E34: =205000+60000 -> 265000 | G34: =E34+F34 -> 265000 | H34: ='RECAP #9511.00'!D18 -> 244916.62 | I34: ='RECAP #9511.00'!E18 -> 63581.22 | J34: ='RECAP #9511.00'!F18 -> 181335.4 | K34: ='RECAP #9511.00'!G18 -> 20083.38 | O34: ='#9511.00 PM TIME'!I39 -> 1825.18
A35: C | B35: 9512.00 | C35: IDOE IPBS 6450 Corporate Drive Repair Auditorium Exterior Fire Exit | D35: Brandon A. | E35: =75000-42927.53+30.95 -> 32103.42 | G35: =E35+F35 -> 32103.42 | H35: ='RECAP #9512.00'!D16 -> 32103.42 | I35: ='RECAP #9512.00'!E16 -> 32103.42 | J35: ='RECAP #9512.00'!F16 -> 3.6379788e-12 | K35: ='RECAP #9512.00'!G16 -> 0
B36: 9513.00 | C36: HHS CHMHI Tuckpointing Phase 2.2 | D36: Jennie E. | E36: 640000 | G36: =E36+F36 -> 640000 | H36: ='RECAP #9513.00'!D17 -> 457313.17 | I36: ='RECAP #9513.00'!E17 -> 79246.14 | J36: ='RECAP #9513.00'!F17 -> 378067.03 | K36: ='RECAP #9513.00'!G17 -> 182686.83 | O36: ='#9513.00 PM TIME'!I37 -> 9101.89
A37: C | B37: 9514.00 | C37: DAS Union Sunday School Structural Investigation | D37: Geoff W | E37: =10000-1426.92 -> 8573.08 | G37: =E37+F37 -> 8573.08 | H37: ='RECAP #9514.00'!D14 -> 8573.08 | I37: ='RECAP #9514.00'!E14 -> 8573.08 | J37: ='RECAP #9514.00'!F14 -> 0 | K37: ='RECAP #9514.00'!G14 -> 0
B38: 9519.00 | C38: HHS IMHI Infirmary Building Roof Repair | D38: James T. | E38: 250000 | G38: =E38+F38 -> 250000 | H38: ='RECAP #9519.00'!D17 -> 103175.98 | I38: ='RECAP #9519.00'!E17 -> 55065.59 | J38: ='RECAP #9519.00'!F17 -> 48110.39 | K38: ='RECAP #9519.00'!G17 -> 146824.02 | O38: ='#9519.00 PM TIME'!I29 -> 8971.16
B39: 9521.00 | C39: DPS D1 1333 Ohio Roof Replacement | D39: Brandon A. | E39: =1500000-700000 -> 800000 | G39: =E39+F39 -> 800000 | H39: ='RECAP #9521.00'!D18 -> 682744.21 | I39: ='RECAP #9521.00'!E18 -> 49248.93 | J39: ='RECAP #9521.00'!F18 -> 633495.28 | K39: ='RECAP #9521.00'!G18 -> 117255.79 | O39: ='#9521.00 PM TIME '!I29 -> 32301.88
B40: 9524.00 | C40: DOC ASP SallyPort Tunnel & Living Unit B Tunnel Repair | D40: Brandon A. | E40: 250000 | G40: =E40+F40 -> 250000 | H40: ='RECAP #9524.00'!D15 -> 70911.31 | I40: ='RECAP #9524.00'!E15 -> 29241.64 | J40: ='RECAP #9524.00'!F15 -> 41669.67 | K40: ='RECAP #9524.00'!G15 -> 179088.69 | O40: ='#9524.00 PM TIME'!I33 -> 6937.48
...

Sheet RECAP #9997.26
B1: Project Management Time
B2: Project # 9997.26
B3: Program code 999726 | E3: Major Program xxxx
B4: Recap
B5: Acct. Codes-0017-335-MM26 | E5: Close Date: | F5: 38933
B6: Project Manager - Geoff W.
C7: TRANSFERS | D7: CONTRACTED | E7: EXPENDED | F7: CONTRACTED, NOT EXPENDED | G7: UNDER(OVER) Budget
B8: Budget | C8: =FINANCIAL!E11 -> 47812.3
B10: VendorA | D10: 0 | E10: 0 | F10: 0
B11: PM TIME | D11: ='#9997.26 PM TIME '!E47 -> 47812.3 | E11: ='#9997.26 PM TIME '!G47 -> 47812.3 | F11: ='#9997.26 PM TIME '!I47 -> 0
B12: Misc. | D12: 0 | E12: ='#9484.00 Misc'!H22 -> 0 | F12: =D12-E12 -> 0
B14: Total Project Cost | C14: =SUM(C8:C13) -> 47812.3 | D14: =SUM(D8:D13) -> 47812.3 | E14: =SUM(E8:E13) -> 47812.3 | F14: =SUM(D14-E14) -> 2.1827873e-11 | G14: =C8-D14 -> 0

Sheet #9997.26 PM TIME 
A1: ='RECAP #9997.26'!B1 -> Project Management Time
A2: ='RECAP #9997.26'!B2 -> Project # 9997.26
A3: ='RECAP #9997.26'!B3 -> Program code 999726 | E3: ='RECAP #9997.26'!E3 -> Major Program xxxx
A4: PM TIME | E4: Internal documents
A6: Acct. Codes-0017-335-MM26-xxxx | E6: eDAS: 733L
A7: ='RECAP #9997.26'!B6 -> Project Manager - Geoff W.
A8: Doc # | B8: Date | C8: Object Code | D8: Activity Code | E8: Contract & C.O.'s | F8: Contract Total | G8: Payment Amount | H8: Total Paid | I8: Balance
D9: Budget amount | E9: =75000-27187.7 -> 47812.3 | F9: =E9 -> 47812.3 | I9: =F9 -> 47812.3
F10: =F9+E10 -> 47812.3 | H10: =H9+G10 -> 0 | I10: =I9-G10+E10 -> 47812.3
A11: IET DAS202601115300001 | B11: 45876 | C11: 2507 | D11: Finance Support for July 01-31, 2025 | F11: =F10+E11 -> 47812.3 | G11: =424.26+1038.89 -> 1463.15 | H11: =H10+G11 -> 1463.15 | I11: =I10-G11+E11 -> 46349.15
A12: IET DAS202601115300001 | B12: 45876 | C12: 9500 | D12: DAS Support for July 01-31, 2025 | F12: =F11+E12 -> 47812.3 | G12: =1449.7+4661.5 -> 6111.2 | H12: =H11+G12 -> 7574.35 | I12: =I11-G12+E12 -> 40237.95
A13: CDE 33526246821 | B13: 45911 | C13: 2507 | D13: Move expense to 9436.00 | F13: =F12+E13 -> 47812.3 | G13: -110.44 | H13: =H12+G13 -> 7463.91 | I13: =I12-G13+E13 -> 40348.39
A14: CDE 33526246821 | B14: 45911 | C14: 2507 | D14: Move expense to 9440.00 | F14: =F13+E14 -> 47812.3 | G14: -144.14 | H14: =H13+G14 -> 7319.77 | I14: =I13-G14+E14 -> 40492.53
A15: CDE 33526246821 | B15: 45911 | C15: 2507 | D15: Move expense to 9420.00 | F15: =F14+E15 -> 47812.3 | G15: -169.68 | H15: =H14+G15 -> 7150.09 | I15: =I14-G15+E15 -> 40662.21
A16: CDE 33526246821 | B16: 45911 | C16: 9500 | D16: Move expense to 9436.00 | F16: =F15+E16 -> 47812.3 | G16: -1211.1 | H16: =H15+G16 -> 5938.99 | I16: =I15-G16+E16 -> 41873.31
A17: CDE 33526246821 | B17: 45911 | C17: 9500 | D17: Move expense to 9440.00 | F17: =F16+E17 -> 47812.3 | G17: -1595.5 | H17: =H16+G17 -> 4343.49 | I17: =I16-G17+E17 -> 43468.81
A18: CDE 33526246821 | B18: 45911 | C18: 9500 | D18: Move expense to 9420.00 | F18: =F17+E18 -> 47812.3 | G18: -1854.9 | H18: =H17+G18 -> 2488.59 | I18: =I17-G18+E18 -> 45323.71
A19: IET DAS202602115300001 | B19: 45908 | C19: 2507 | D19: Finance Support for August 01-31, 2025 | F19: =F18+E19 -> 47812.3 | G19: 2070.07 | H19: =H18+G19 -> 4558.66 | I19: =I18-G19+E19 -> 43253.64
A20: IET DAS202602115300001 | B20: 45908 | C20: 9500 | D20: DAS Support for August 01-31, 2025 | F20: =F19+E20 -> 47812.3 | G20: 2472.3 | H20: =H19+G20 -> 7030.96 | I20: =I19-G20+E20 -> 40781.34
A21: IET DAS202603115300001 | B21: 45937 | C21: 2507 | D21: Finance Support for September 01-30, 2025 | F21: =F20+E21 -> 47812.3 | G21: 3801.19 | H21: =H20+G21 -> 10832.15 | I21: =I20-G21+E21 -> 36980.15
A22: IET DAS202603115300001 | B22: 45937 | C22: 9500 | D22: DAS Support for September 01-30, 2025 | F22: =F21+E22 -> 47812.3 | G22: 2413.6 | H22: =H21+G22 -> 13245.75 | I22: =I21-G22+E22 -> 34566.55
A23: IET DAS202604115300001 | B23: 45968 | C23: 2507 | D23: Finance Support for October 01-31, 2025 | F23: =F22+E23 -> 47812.3 | G23: 2021.01 | H23: =H22+G23 -> 15266.76 | I23: =I22-G23+E23 -> 32545.54
A24: IET DAS202604115300001 | B24: 45968 | C24: 9500 | D24: DAS Support for October 01-31, 2025 | F24: =F23+E24 -> 47812.3 | G24: 27910.6 | H24: =H23+G24 -> 43177.36 | I24: =I23-G24+E24 -> 4634.94
A25: CDE 33526317909 | B25: 45974 | C25: 2507 | D25: Move from DA26 9481.00 | F25: =F24+E25 -> 47812.3 | G25: 300.34 | H25: =H24+G25 -> 43477.7 | I25: =I24-G25+E25 -> 4334.6
A26: CDE 33526317909 | B26: 45974 | C26: 9500 | D26: Move from DA26 9481.00 | F26: =F25+E26 -> 47812.3 | G26: 571.2 | H26: =H25+G26 -> 44048.9 | I26: =I25-G26+E26 -> 3763.4
A27: IET DAS202605115300001 | B27: 45996 | C27: 2507 | D27: Finance Support for November 1-30, 2025 | F27: =F26+E27 -> 47812.3 | G27: 2222.7 | H27: =H26+G27 -> 46271.6 | I27: =I26-G27+E27 -> 1540.7
A28: IET DAS202605115300001 | B28: 45996 | C28: 9500 | D28: DAS Support for November 1-30, 2025 | F28: =F27+E28 -> 47812.3 | G28: 1513.8 | H28: =H27+G28 -> 47785.4 | I28: =I27-G28+E28 -> 26.9
A29: IET DAS202606115300001 | B29: 46030 | C29: 2507 | D29: Finance Support for December 1-31, 2025 | F29: =F28+E29 -> 47812.3 | G29: 1572.63 | H29: =H28+G29 -> 49358.03 | I29: =I28-G29+E29 -> -1545.73
A30: IET DAS202606115300001 | B30: 46030 | C30: 9500 | D30: DAS Support for December 1-31, 2025 | F30: =F29+E30 -> 47812.3 | G30: 2305.9 | H30: =H29+G30 -> 51663.93 | I30: =I29-G30+E30 -> -3851.63
A31: IET DAS202607115300001 | B31: 46062 | C31: 2507 | D31: Finance Support for January 1-31, 2026 | F31: =F30+E31 -> 47812.3 | G31: 1295.7 | H31: =H30+G31 -> 52959.63 | I31: =I30-G31+E31 -> -5147.33
A32: IET DAS202607115300001 | B32: 46062 | C32: 9500 | D32: DAS Support for January 1-31, 2026 | F32: =F31+E32 -> 47812.3 | G32: 1468.4 | H32: =H31+G32 -> 54428.03 | I32: =I31-G32+E32 -> -6615.73
A33: IET DAS202608115300001 | B33: 46090 | C33: 2507 | D33: Finance Support for February 1-28, 2026 | F33: =F32+E33 -> 47812.3 | G33: 1448.3 | H33: =H32+G33 -> 55876.33 | I33: =I32-G33+E33 -> -8064.03
A34: IET DAS202608115300001 | B34: 46090 | C34: 9500 | D34: DAS Support for February 1-28, 2026 | F34: =F33+E34 -> 47812.3 | G34: 1782.4 | H34: =H33+G34 -> 57658.73 | I34: =I33-G34+E34 -> -9846.43
A35: IET DAS202609115300001 | B35: 46118 | C35: 2507 | D35: Finance Support for March 01-31, 2026 | F35: =F34+E35 -> 47812.3 | G35: 2230.7 | H35: =H34+G35 -> 59889.43 | I35: =I34-G35+E35 -> -12077.13
A36: IET DAS202609115300001 | B36: 46118 | C36: 9500 | D36: DAS Support for March 01-31, 2026 | F36: =F35+E36 -> 47812.3 | G36: 1361.8 | H36: =H35+G36 -> 61251.23 | I36: =I35-G36+E36 -> -13438.93
A37: IET DAS202610115300001 | B37: 46149 | C37: 2507 | D37: Finance Support for April 01-30, 2026 | F37: =F36+E37 -> 47812.3 | G37: 1894.52 | H37: =H36+G37 -> 63145.75 | I37: =I36-G37+E37 -> -15333.45
A38: IET DAS202610115300001 | B38: 46149 | C38: 9500 | D38: DAS Support for April 01-30, 2026 | F38: =F37+E38 -> 47812.3 | G38: 2057 | H38: =H37+G38 -> 65202.75 | I38: =I37-G38+E38 -> -17390.45
A39: IET DAS202611115300001 | B39: 46181 | C39: 2507 | D39: Finance Support for May 01-31, 2026 | F39: =F38+E39 -> 47812.3 | G39: 1497.61 | H39: =H38+G39 -> 66700.36 | I39: =I38-G39+E39 -> -18888.06
A40: IET DAS202611115300001 | B40: 46181 | C40: 9500 | D40: DAS Support for May 01-31, 2026 | F40: =F39+E40 -> 47812.3 | G40: 1588.9 | H40: =H39+G40 -> 68289.26 | I40: =I39-G40+E40 -> -20476.96
A41: IET DAS202612115300001 | B41: 46211 | C41: 2507 | D41: Finance Support for June 01-30, 2026 | F41: =F40+E41 -> 47812.3 | G41: 1518.39 | H41: =H40+G41 -> 69807.65 | I41: =I40-G41+E41 -> -21995.35
...

Sheet RECAP #9440.01
B1: DAS CC Historical Building Elevators Replacement PH1
B2: Project # 9440.01
B3: Program code 944001 | E3: Major Program: 4D03
B4: Recap
B5: Acct. Codes-0017-335-MM26 | E5: Close Date:
B6: Project Manager - Brad T
C7: TRANSFERS | D7: CONTRACTED | E7: EXPENDED | F7: CONTRACTED, NOT EXPENDED | G7: UNDER(OVER) Budget
B8: Budget | C8: =FINANCIAL!E12 -> 1750000
A10: C | B10: DCI Group | D10: ='#9440.01 DCI Group'!D23 -> 14236.45 | E10: ='#9440.01 DCI Group'!F23 -> 14236.45 | F10: ='#9440.01 DCI Group'!H23 -> 0
B11: PM TIME | D11: ='#9440.01 PM TIME '!E29 -> 30000 | E11: ='#9440.01 PM TIME '!G29 -> 7440.27 | F11: ='#9440.01 PM TIME '!I29 -> 22559.73
B12: Misc. | D12: ='#9440.01 Misc '!G22 -> 1617.74 | E12: ='#9440.01 Misc '!G22 -> 1617.74 | F12: =D12-E12 -> 0
B13: OPN Architects | D13: ='#9440.01 OPN Architects'!D23 -> 143190 | E13: ='#9440.01 OPN Architects'!F23 -> 100702.1 | F13: ='#9440.01 OPN Architects'!H23 -> 42487.9
B14: DCI Group (2) | D14: ='#9440.01 DCI Group (2)'!D23 -> 219929.96 | E14: ='#9440.01 DCI Group (2)'!F23 -> 0 | F14: ='#9440.01 DCI Group (2)'!H23 -> 219929.96
B15: Bergstrum Construction | D15: ='#9440.01 Bergstrom Construction'!D23 -> 146245 | E15: ='#9440.01 Bergstrom Construction'!F23 -> 0 | F15: ='#9440.01 Bergstrom Construction'!H23 -> 146245
B16: VanMaanen Electric | D16: ='#9440.01 VanMaanen Electric'!D23 -> 111858 | E16: ='#9440.01 VanMaanen Electric'!F23 -> 0 | F16: ='#9440.01 VanMaanen Electric'!H23 -> 111858
B17: Schumacher Elevator CO | D17: ='#9440.01 Schumacher Elevator'!D23 -> 960336 | E17: ='#9440.01 Schumacher Elevator'!F23 -> 0 | F17: ='#9440.01 Schumacher Elevator'!H23 -> 960336
B19: Total Project Cost | C19: =SUM(C8:C18) -> 1750000 | D19: =SUM(D8:D18) -> 1627413.1 | E19: =SUM(E8:E18) -> 123996.56 | F19: =SUM(D19-E19) -> 1503416.6 | G19: =C8-D19 -> 122586.85

Sheet #9440.01 DCI Group
A1: ='RECAP #9440.01'!B1 -> DAS CC Historical Building Elevators Replacement PH1
A2: ='RECAP #9440.01'!B2 -> Project # 9440.01
A3: ='RECAP #9440.01'!B3 -> Program code 944001 | D3: ='RECAP #9440.01'!E3 -> Major Program: 4D03
A4: DCI Group | D4: Vendor: 00003025029
A5: Acct. Codes-0017-335-MM26-9255 | D5: RFP1821335228-DCI11012021
A6: ='RECAP #9440.01'!B6 -> Project Manager - Brad T | D6: Activity code: CMGR
A8: Doc # | B8: Date | C8: Activity | D8: Contract & C.O.'s | E8: Contract Total | F8: Payment Amount | G8: Total Paid | H8: Balance
A9: PO 33526055913 | B9: 46077 | C9: PO Procore | D9: 18399.16 | E9: =D9 -> 18399.16 | H9: =E9 -> 18399.16
A10: PRC 3352605PA5913 | B10: 46127 | C10: Inv. 9440.01 PC 01 | E10: =E9+D10 -> 18399.16 | F10: 1104.72 | G10: =G9+F10 -> 1104.72 | H10: =H9-F10+D10 -> 17294.44
A11: PRC 3352605PB5913 | B11: 46154 | C11: Inv. 9440.01 PC #02 | E11: =E10+D11 -> 18399.16 | F11: 1700.85 | G11: =G10+F11 -> 2805.57 | H11: =H10-F11+D11 -> 15593.59
A12: PRC 3352605PC5913 | B12: 46177 | C12: Inv. 9440.01 PC #03 | E12: =E11+D12 -> 18399.16 | F12: 2741.83 | G12: =G11+F12 -> 5547.4 | H12: =H11-F12+D12 -> 12851.76
A13: PRC 3352605PD5913 | B13: 46216 | C13: Inv. 9440.01 PC #04 | E13: =E12+D13 -> 18399.16 | F13: 3117.49 | G13: =G12+F13 -> 8664.89 | H13: =H12-F13+D13 -> 9734.27 | I13: FY26
A14: PO 33527055913 | B14: 46225 | C14: Roll to FY27 | D14: 0 | E14: =E13+D14 -> 18399.16 | G14: =G13+F14 -> 8664.89 | H14: =H13-F14+D14 -> 9734.27
A15: PRC 3352705PE5913 | B15: 46246 | C15: Inv. 9440.01 PC 05 | E15: =E14+D15 -> 18399.16 | F15: 2976.9 | G15: =G14+F15 -> 11641.79 | H15: =H14-F15+D15 -> 6757.37
A16: PRC 3352705PF5913 | B16: 46273 | C16: Inv. 9440.01 PC 06 FINAL | D16: -4162.71 | E16: =E15+D16 -> 14236.45 | F16: 2594.66 | G16: =G15+F16 -> 14236.45 | H16: =H15-F16+D16 -> 0
E17: =E16+D17 -> 14236.45 | G17: =G16+F17 -> 14236.45 | H17: =H16-F17+D17 -> 0
E18: =E17+D18 -> 14236.45 | G18: =G17+F18 -> 14236.45 | H18: =H17-F18+D18 -> 0
E19: =E18+D19 -> 14236.45 | G19: =G18+F19 -> 14236.45 | H19: =H18-F19+D19 -> 0
E20: =E19+D20 -> 14236.45 | G20: =G19+F20 -> 14236.45 | H20: =H19-F20+D20 -> 0
E21: =E20+D21 -> 14236.45 | G21: =G20+F21 -> 14236.45 | H21: =H20-F21+D21 -> 0
C23: Totals: | D23: =SUM(D9:D22) -> 14236.45 | F23: =SUM(F9:F22) -> 14236.45 | H23: =D23-F23 -> 0 | I23: FINAL
C26: CM Services | D26: =17399.16-3162.71 -> 14236.45 | F26: =1104.72+1700.85+2741.83+3117.49+2976.9+2594.66 -> 14236.45 | H26: =D26-F26 -> 0
C27: Reimbursables | D27: =1000-1000 -> 0 | H27: =D27-F27 -> 0
C28: Total: | D28: =SUM(D26:D27) -> 14236.45 | F28: =SUM(F26:F27) -> 14236.45 | H28: =SUM(H26:H27) -> 0

Sheet #9440.01 PM TIME 
A1: ='RECAP #9440.01'!B1 -> DAS CC Historical Building Elevators Replacement PH1
A2: ='RECAP #9440.01'!B2 -> Project # 9440.01
A3: ='RECAP #9440.01'!B3 -> Program code 944001 | E3: ='RECAP #9440.01'!E3 -> Major Program: 4D03
A4: PM TIME | E4: Internal documents
A6: Acct. Codes-0017-335-MM26-xxxx | E6: eDAS 911I
A7: ='RECAP #9440.01'!B6 -> Project Manager - Brad T
A8: Doc # | B8: Date | C8: Object Code | D8: Activity Code | E8: Contract & C.O.'s | F8: Contract Total | G8: Payment Amount | H8: Total Paid | I8: Balance
D9: Budget amount | E9: 30000 | F9: =E9 -> 30000 | I9: =F9 -> 30000
A10: IET DAS202608115300001 | B10: 46090 | C10: 2507 | D10: Finance Support for February 1-28, 2026 | F10: =F9+E10 -> 30000 | G10: 48.78 | H10: =H9+G10 -> 48.78 | I10: =I9-G10+E10 -> 29951.22
A11: IET DAS202608115300001 | B11: 46090 | C11: 9500 | D11: DAS Support for February 1-28, 2026 | F11: =F10+E11 -> 30000 | G11: 561.5 | H11: =H10+G11 -> 610.28 | I11: =I10-G11+E11 -> 29389.72
A12: IET DAS202609115300001 | B12: 46118 | C12: 2507 | D12: Finance Support for March 01-31, 2026 | F12: =F11+E12 -> 30000 | G12: 51.76 | H12: =H11+G12 -> 662.04 | I12: =I11-G12+E12 -> 29337.96
A13: IET DAS202609115300001 | B13: 46118 | C13: 9500 | D13: DAS Support for March 01-31, 2026 | F13: =F12+E13 -> 30000 | G13: 419.3 | H13: =H12+G13 -> 1081.34 | I13: =I12-G13+E13 -> 28918.66
A14: IET DAS202610115300001 | B14: 46149 | C14: 2507 | D14: Finance Support for April 01-30, 2026 | F14: =F13+E14 -> 30000 | G14: 104.88 | H14: =H13+G14 -> 1186.22 | I14: =I13-G14+E14 -> 28813.78
A15: IET DAS202610115300001 | B15: 46149 | C15: 9500 | D15: DAS Support for April 01-30, 2026 | F15: =F14+E15 -> 30000 | G15: 1094.9 | H15: =H14+G15 -> 2281.12 | I15: =I14-G15+E15 -> 27718.88
A16: IET DAS202611115300001 | B16: 46181 | C16: 2507 | D16: Finance Support for May 01-31, 2026 | F16: =F15+E16 -> 30000 | G16: 97.92 | H16: =H15+G16 -> 2379.04 | I16: =I15-G16+E16 -> 27620.96
A17: IET DAS202611115300001 | B17: 46181 | C17: 9500 | D17: DAS Support for May 01-31, 2026 | F17: =F16+E17 -> 30000 | G17: 1201.5 | H17: =H16+G17 -> 3580.54 | I17: =I16-G17+E17 -> 26419.46
A18: IET DAS202612115300001 | B18: 46211 | C18: 2507 | D18: Finance Support for June 01-30, 2026 | F18: =F17+E18 -> 30000 | G18: 103.54 | H18: =H17+G18 -> 3684.08 | I18: =I17-G18+E18 -> 26315.92
A19: IET DAS202612115300001 | B19: 46211 | C19: 9500 | D19: DAS Support for June 01-30, 2026 | F19: =F18+E19 -> 30000 | G19: 1191.4 | H19: =H18+G19 -> 4875.48 | I19: =I18-G19+E19 -> 25124.52
A20: IET DAS202613115300001 | B20: 46218 | C20: 2507 | D20: Finance Support for June 01-30, 2026 (Period 13) | F20: =F19+E20 -> 30000 | G20: 41.76 | H20: =H19+G20 -> 4917.24 | I20: =I19-G20+E20 -> 25082.76
A21: IET DAS202701115300001 | B21: 46241 | C21: 2507 | D21: Finance Support for July 01-31, 2026 | F21: =F20+E21 -> 30000 | G21: 123.37 | H21: =H20+G21 -> 5040.61 | I21: =I20-G21+E21 -> 24959.39
A22: IET DAS202701115300001 | B22: 46241 | C22: 9500 | D22: DAS Support for July 01-31, 2026 | F22: =F21+E22 -> 30000 | G22: 1322.5 | H22: =H21+G22 -> 6363.11 | I22: =I21-G22+E22 -> 23636.89
A23: IET DAS202702115300001 | B23: 46272 | C23: 2507 | D23: Finance Support for August 01-31, 2026 | F23: =F22+E23 -> 30000 | G23: 100.76 | H23: =H22+G23 -> 6463.87 | I23: =I22-G23+E23 -> 23536.13
A24: IET DAS202702115300001 | B24: 46272 | C24: 9500 | D24: DAS Support for August 01-31, 2026 | F24: =F23+E24 -> 30000 | G24: 976.4 | H24: =H23+G24 -> 7440.27 | I24: =I23-G24+E24 -> 22559.73
F25: =F24+E25 -> 30000 | H25: =H24+G25 -> 7440.27 | I25: =I24-G25+E25 -> 22559.73
F26: =F25+E26 -> 30000 | H26: =H25+G26 -> 7440.27 | I26: =I25-G26+E26 -> 22559.73
F27: =F26+E27 -> 30000 | H27: =H26+G27 -> 7440.27 | I27: =I26-G27+E27 -> 22559.73
D29: Totals: | E29: =SUM(E9:E28) -> 30000 | G29: =SUM(G9:G28) -> 7440.27 | I29: =E29-G29 -> 22559.73

Sheet #9440.01 Misc 
A1: ='RECAP #9440.01'!B1 -> DAS CC Historical Building Elevators Replacement PH1
A2: ='RECAP #9440.01'!B2 -> Project # 9440.01
A3: ='RECAP #9440.01'!B3 -> Program code 944001 | E3: ='RECAP #9440.01'!E3 -> Major Program: 4D03
A4: Misc
E5: Do not code PM, EADOC, or Builders Risk here
A6: Acct. Codes-0017-335-MM26-xxxx | E6: Shipping Code: 035
A7: ='RECAP #9440.01'!B6 -> Project Manager - Brad T
A8: Doc # | B8: Date | C8: Object Code | D8: Activity Code | E8: Activity | F8: Invoice | G8: Payment Amount | H8: Total Paid
A9: PRC 33526187907 | B9: 46209 | C9: 9500 | D9: CNST | E9: ATC Group V#(00002134218) | F9: Inv. 2720306 | G9: 1350.5 | H9: =G9 -> 1350.5
A10: PRC 33526202900 | B10: 46224 | C10: 9500 | D10: CNST | E10: Rapids Reproductions V#(00002111375) | F10: Inv. INVCL2989 | G10: 267.24 | H10: =H9+G10 -> 1617.74
H11: =H10+G11 -> 1617.74
H12: =H11+G12 -> 1617.74
H13: =H12+G13 -> 1617.74
H14: =H13+G14 -> 1617.74
H15: =H14+G15 -> 1617.74
H16: =H15+G16 -> 1617.74
H17: =H16+G17 -> 1617.74
H18: =H17+G18 -> 1617.74
H19: =H18+G19 -> 1617.74
H20: =H19+G20 -> 1617.74
E22: Totals: | G22: =SUM(G9:G21) -> 1617.74

Sheet #9440.01 OPN Architects
A1: ='RECAP #9440.01'!B1 -> DAS CC Historical Building Elevators Replacement PH1
A2: ='RECAP #9440.01'!B2 -> Project # 9440.01
A3: ='RECAP #9440.01'!B3 -> Program code 944001 | D3: ='RECAP #9440.01'!E3 -> Major Program: 4D03
A4: OPN Architects | D4: Vendor: 00003035830
A5: Acct. Codes-0017-335-MM26-9260 | D5: RFP944000-01
A6: ='RECAP #9440.01'!B6 -> Project Manager - Brad T | D6: Activity code: DSGN
A8: Doc # | B8: Date | C8: Activity | D8: Contract & C.O.'s | E8: Contract Total | F8: Payment Amount | G8: Total Paid | H8: Balance
A9: PO 33526062911 | B9: 46084 | C9: PO Procore | D9: 143190 | E9: =D9 -> 143190 | H9: =E9 -> 143190
A10: PRC 3352606PA2911 | B10: 46155 | C10: Inv. 26817000-1 | E10: =E9+D10 -> 143190 | F10: 2790.96 | G10: =G9+F10 -> 2790.96 | H10: =H9-F10+D10 -> 140399.04
A11: PRC 3352606PB2911 | B11: 46176 | C11: Inv. 26817000-2 | E11: =E10+D11 -> 143190 | F11: 10234.56 | G11: =G10+F11 -> 13025.52 | H11: =H10-F11+D11 -> 130164.48
A12: PRC 3352606PC2911 | B12: 46216 | C12: Inv. 26817000-3 | E12: =E11+D12 -> 143190 | F12: 83463.48 | G12: =G11+F12 -> 96489 | H12: =H11-F12+D12 -> 46701 | I12: FY26
A13: PO 33527062911 | B13: 46225 | C13: Roll to FY27 | D13: 0 | E13: =E12+D13 -> 143190 | G13: =G12+F13 -> 96489 | H13: =H12-F13+D13 -> 46701
A14: PRC 3352706PD2911 | B14: 46239 | C14: Inv. 26817000-4 | E14: =E13+D14 -> 143190 | F14: 1411.7 | G14: =G13+F14 -> 97900.7 | H14: =H13-F14+D14 -> 45289.3
A15: PRC 3352706PE2911 | B15: 46268 | C15: Inv. 26817000-5 | E15: =E14+D15 -> 143190 | F15: 2801.4 | G15: =G14+F15 -> 100702.1 | H15: =H14-F15+D15 -> 42487.9
E16: =E15+D16 -> 143190 | G16: =G15+F16 -> 100702.1 | H16: =H15-F16+D16 -> 42487.9
E17: =E16+D17 -> 143190 | G17: =G16+F17 -> 100702.1 | H17: =H16-F17+D17 -> 42487.9
E18: =E17+D18 -> 143190 | G18: =G17+F18 -> 100702.1 | H18: =H17-F18+D18 -> 42487.9
E19: =E18+D19 -> 143190 | G19: =G18+F19 -> 100702.1 | H19: =H18-F19+D19 -> 42487.9
E20: =E19+D20 -> 143190 | G20: =G19+F20 -> 100702.1 | H20: =H19-F20+D20 -> 42487.9
E21: =E20+D21 -> 143190 | G21: =G20+F21 -> 100702.1 | H21: =H20-F21+D21 -> 42487.9
C23: Totals: | D23: =SUM(D9:D22) -> 143190 | F23: =SUM(F9:F22) -> 100702.1 | H23: =D23-F23 -> 42487.9
C26: Elevator #3
C27: 50% CDs | D27: 15910 | F27: =930.32+10234.56+4745.12 -> 15910 | H27: =D27-F27 -> 0
C28: 100% CDs | D28: 15910 | F28: =15910 -> 15910 | H28: =D28-F28 -> 0
C29: Bid | D29: 343 | F29: =343 -> 343 | H29: =D29-F29 -> 0
C30: Construction Admin | D30: 15567 | F30: =470.57+933.8 -> 1404.37 | H30: =D30-F30 -> 14162.63
C31: Sub Total | D31: =SUM(D27:D30) -> 47730 | F31: =SUM(F27:F30) -> 33567.37 | H31: =SUM(H27:H30) -> 14162.63
C35: Elevator #4
C36: 50% CDs | D36: 15910 | F36: =930.32+14979.68 -> 15910 | H36: =D36-F36 -> 0
C37: 100% CDs | D37: 15910 | F37: =15910 -> 15910 | H37: =D37-F37 -> 0
C38: Bid | D38: 343 | F38: =343 -> 343 | H38: =D38-F38 -> 0
C39: Construction Admin | D39: 15567 | F39: =470.56+933.8 -> 1404.36 | H39: =D39-F39 -> 14162.64
C40: Sub Total | D40: =SUM(D36:D39) -> 47730 | F40: =SUM(F36:F39) -> 33567.36 | H40: =SUM(H36:H39) -> 14162.64
C43: Elevator #5
C44: 50% CDs | D44: 15910 | F44: =930.32+14979.68 -> 15910 | H44: =D44-F44 -> 0
C45: 100% CDs | D45: 15910 | F45: =15910 -> 15910 | H45: =D45-F45 -> 0
C46: Bid | D46: 343 | F46: =343 -> 343 | H46: =D46-F46 -> 0
C47: Construction Admin | D47: 15567 | F47: =470.57+933.8 -> 1404.37 | H47: =D47-F47 -> 14162.63
C48: Sub Total | D48: =SUM(D44:D47) -> 47730 | F48: =SUM(F44:F47) -> 33567.37 | H48: =SUM(H44:H47) -> 14162.63
C51: Grand Total | D51: =D31+D40+D48 -> 143190 | F51: =F31+F40+F48 -> 100702.1 | H51: =H31+H40+H48 -> 42487.9

Sheet #9440.01 DCI Group (2)
A1: ='RECAP #9440.01'!B1 -> DAS CC Historical Building Elevators Replacement PH1
A2: ='RECAP #9440.01'!B2 -> Project # 9440.01
A3: ='RECAP #9440.01'!B3 -> Program code 944001 | D3: ='RECAP #9440.01'!E3 -> Major Program: 4D03
A4: DCI Group (2) | D4: Vendor: 00003025029
A5: Acct. Codes-0017-335-MM26-9255 | D5: RFP1821335228-DCI11012021
A6: ='RECAP #9440.01'!B6 -> Project Manager - Brad T | D6: Activity code: CMGR
A8: Doc # | B8: Date | C8: Activity | D8: Contract & C.O.'s | E8: Contract Total | F8: Payment Amount | G8: Total Paid | H8: Balance
A9: PO 33527204905 | B9: 46226 | C9: PO Procore | D9: 219929.96 | E9: =D9 -> 219929.96 | H9: =E9 -> 219929.96
E10: =E9+D10 -> 219929.96 | G10: =G9+F10 -> 0 | H10: =H9-F10+D10 -> 219929.96
E11: =E10+D11 -> 219929.96 | G11: =G10+F11 -> 0 | H11: =H10-F11+D11 -> 219929.96
E12: =E11+D12 -> 219929.96 | G12: =G11+F12 -> 0 | H12: =H11-F12+D12 -> 219929.96
E13: =E12+D13 -> 219929.96 | G13: =G12+F13 -> 0 | H13: =H12-F13+D13 -> 219929.96
E14: =E13+D14 -> 219929.96 | G14: =G13+F14 -> 0 | H14: =H13-F14+D14 -> 219929.96
E15: =E14+D15 -> 219929.96 | G15: =G14+F15 -> 0 | H15: =H14-F15+D15 -> 219929.96
E16: =E15+D16 -> 219929.96 | G16: =G15+F16 -> 0 | H16: =H15-F16+D16 -> 219929.96
E17: =E16+D17 -> 219929.96 | G17: =G16+F17 -> 0 | H17: =H16-F17+D17 -> 219929.96
E18: =E17+D18 -> 219929.96 | G18: =G17+F18 -> 0 | H18: =H17-F18+D18 -> 219929.96
E19: =E18+D19 -> 219929.96 | G19: =G18+F19 -> 0 | H19: =H18-F19+D19 -> 219929.96
E20: =E19+D20 -> 219929.96 | G20: =G19+F20 -> 0 | H20: =H19-F20+D20 -> 219929.96
E21: =E20+D21 -> 219929.96 | G21: =G20+F21 -> 0 | H21: =H20-F21+D21 -> 219929.96
C23: Totals: | D23: =SUM(D9:D22) -> 219929.96 | F23: =SUM(F9:F22) -> 0 | H23: =D23-F23 -> 219929.96
C26: CM Services | D26: 154008.01 | H26: =D26-F26 -> 154008.01
C27: Reimbursables | D27: 5000 | H27: =D27-F27 -> 5000
C28: Fee | D28: 60921.95 | H28: =D28-F28 -> 60921.95
C29: Total: | D29: =SUM(D26:D28) -> 219929.96 | F29: =SUM(F26:F28) -> 0 | H29: =SUM(H26:H28) -> 219929.96

Sheet #9440.01 Bergstrom Construction
A1: ='RECAP #9440.01'!B1 -> DAS CC Historical Building Elevators Replacement PH1
A2: ='RECAP #9440.01'!B2 -> Project # 9440.01
A3: ='RECAP #9440.01'!B3 -> Program code 944001 | D3: ='RECAP #9440.01'!E3 -> Major Program: 4D03
A4: Bergstrom Construction | D4: Vendor: 00002110114
A5: Acct. Codes-0017-335-MM26-9255 | D5: RFB944001-01
A6: ='RECAP #9440.01'!B6 -> Project Manager - Brad T | D6: Activity code: BRUM
A8: Doc # | B8: Date | C8: Activity | D8: Contract & C.O.'s | E8: Contract Total | F8: Payment Amount | G8: Total Paid | H8: Balance
A9: PO 33527204906 | B9: 46226 | C9: PO Procore | D9: 146245 | E9: =D9 -> 146245 | H9: =E9 -> 146245
E10: =E9+D10 -> 146245 | G10: =G9+F10 -> 0 | H10: =H9-F10+D10 -> 146245
E11: =E10+D11 -> 146245 | G11: =G10+F11 -> 0 | H11: =H10-F11+D11 -> 146245
E12: =E11+D12 -> 146245 | G12: =G11+F12 -> 0 | H12: =H11-F12+D12 -> 146245
E13: =E12+D13 -> 146245 | G13: =G12+F13 -> 0 | H13: =H12-F13+D13 -> 146245
E14: =E13+D14 -> 146245 | G14: =G13+F14 -> 0 | H14: =H13-F14+D14 -> 146245
E15: =E14+D15 -> 146245 | G15: =G14+F15 -> 0 | H15: =H14-F15+D15 -> 146245
E16: =E15+D16 -> 146245 | G16: =G15+F16 -> 0 | H16: =H15-F16+D16 -> 146245
E17: =E16+D17 -> 146245 | G17: =G16+F17 -> 0 | H17: =H16-F17+D17 -> 146245
E18: =E17+D18 -> 146245 | G18: =G17+F18 -> 0 | H18: =H17-F18+D18 -> 146245
E19: =E18+D19 -> 146245 | G19: =G18+F19 -> 0 | H19: =H18-F19+D19 -> 146245
E20: =E19+D20 -> 146245 | G20: =G19+F20 -> 0 | H20: =H19-F20+D20 -> 146245
E21: =E20+D21 -> 146245 | G21: =G20+F21 -> 0 | H21: =H20-F21+D21 -> 146245
C23: Totals: | D23: =SUM(D9:D22) -> 146245 | F23: =SUM(F9:F22) -> 0 | H23: =D23-F23 -> 146245

Sheet #9440.01 VanMaanen Electric
A1: ='RECAP #9440.01'!B1 -> DAS CC Historical Building Elevators Replacement PH1
A2: ='RECAP #9440.01'!B2 -> Project # 9440.01
A3: ='RECAP #9440.01'!B3 -> Program code 944001 | D3: ='RECAP #9440.01'!E3 -> Major Program: 4D03
A4: VanMaanen Electric | D4: Vendor: 00002091370
A5: Acct. Codes-0017-335-MM26-9255 | D5: RFB #944001-01
A6: ='RECAP #9440.01'!B6 -> Project Manager - Brad T | D6: Activity code: BRUM
A8: Doc # | B8: Date | C8: Activity | D8: Contract & C.O.'s | E8: Contract Total | F8: Payment Amount | G8: Total Paid | H8: Balance
A9: PO 33527208910 | B9: 46230 | C9: PO Procore | D9: 111858 | E9: =D9 -> 111858 | H9: =E9 -> 111858
E10: =E9+D10 -> 111858 | G10: =G9+F10 -> 0 | H10: =H9-F10+D10 -> 111858
E11: =E10+D11 -> 111858 | G11: =G10+F11 -> 0 | H11: =H10-F11+D11 -> 111858
E12: =E11+D12 -> 111858 | G12: =G11+F12 -> 0 | H12: =H11-F12+D12 -> 111858
E13: =E12+D13 -> 111858 | G13: =G12+F13 -> 0 | H13: =H12-F13+D13 -> 111858
E14: =E13+D14 -> 111858 | G14: =G13+F14 -> 0 | H14: =H13-F14+D14 -> 111858
E15: =E14+D15 -> 111858 | G15: =G14+F15 -> 0 | H15: =H14-F15+D15 -> 111858
E16: =E15+D16 -> 111858 | G16: =G15+F16 -> 0 | H16: =H15-F16+D16 -> 111858
E17: =E16+D17 -> 111858 | G17: =G16+F17 -> 0 | H17: =H16-F17+D17 -> 111858
E18: =E17+D18 -> 111858 | G18: =G17+F18 -> 0 | H18: =H17-F18+D18 -> 111858
E19: =E18+D19 -> 111858 | G19: =G18+F19 -> 0 | H19: =H18-F19+D19 -> 111858
E20: =E19+D20 -> 111858 | G20: =G19+F20 -> 0 | H20: =H19-F20+D20 -> 111858
E21: =E20+D21 -> 111858 | G21: =G20+F21 -> 0 | H21: =H20-F21+D21 -> 111858
C23: Totals: | D23: =SUM(D9:D22) -> 111858 | F23: =SUM(F9:F22) -> 0 | H23: =D23-F23 -> 111858

Sheet #9440.01 Schumacher Elevator
A1: ='RECAP #9440.01'!B1 -> DAS CC Historical Building Elevators Replacement PH1
A2: ='RECAP #9440.01'!B2 -> Project # 9440.01
A3: ='RECAP #9440.01'!B3 -> Program code 944001 | D3: ='RECAP #9440.01'!E3 -> Major Program: 4D03
A4: Schumacher Elevator | D4: Vendor: 00002108471
A5: Acct. Codes-0017-335-MM26-9255 | D5: RFB #944001-01
A6: ='RECAP #9440.01'!B6 -> Project Manager - Brad T | D6: Activity code: BRUM
A8: Doc # | B8: Date | C8: Activity | D8: Contract & C.O.'s | E8: Contract Total | F8: Payment Amount | G8: Total Paid | H8: Balance
A9: PO 33527216910 | B9: 46238 | C9: PO Procore | D9: 960336 | E9: =D9 -> 960336 | H9: =E9 -> 960336
E10: =E9+D10 -> 960336 | G10: =G9+F10 -> 0 | H10: =H9-F10+D10 -> 960336
E11: =E10+D11 -> 960336 | G11: =G10+F11 -> 0 | H11: =H10-F11+D11 -> 960336
E12: =E11+D12 -> 960336 | G12: =G11+F12 -> 0 | H12: =H11-F12+D12 -> 960336
E13: =E12+D13 -> 960336 | G13: =G12+F13 -> 0 | H13: =H12-F13+D13 -> 960336
E14: =E13+D14 -> 960336 | G14: =G13+F14 -> 0 | H14: =H13-F14+D14 -> 960336
E15: =E14+D15 -> 960336 | G15: =G14+F15 -> 0 | H15: =H14-F15+D15 -> 960336
E16: =E15+D16 -> 960336 | G16: =G15+F16 -> 0 | H16: =H15-F16+D16 -> 960336
E17: =E16+D17 -> 960336 | G17: =G16+F17 -> 0 | H17: =H16-F17+D17 -> 960336
E18: =E17+D18 -> 960336 | G18: =G17+F18 -> 0 | H18: =H17-F18+D18 -> 960336
E19: =E18+D19 -> 960336 | G19: =G18+F19 -> 0 | H19: =H18-F19+D19 -> 960336
E20: =E19+D20 -> 960336 | G20: =G19+F20 -> 0 | H20: =H19-F20+D20 -> 960336
E21: =E20+D21 -> 960336 | G21: =G20+F21 -> 0 | H21: =H20-F21+D21 -> 960336
C23: Totals: | D23: =SUM(D9:D22) -> 960336 | F23: =SUM(F9:F22) -> 0 | H23: =D23-F23 -> 960336

Sheet RECAP #9455.00
B1: IDOE ISD Giangreco Hall Water Infiltration Mitigation
B2: Project # 9455.00
B3: Program code 945500 | E3: Major Program 4F04
B4: Recap
B5: Acct. Codes-0017-335-MM26 | E5: Close Date:
B6: Project Manager - Jennie E.
C7: TRANSFERS | D7: CONTRACTED | E7: EXPENDED | F7: CONTRACTED, NOT EXPENDED | G7: UNDER(OVER) Budget
B8: Budget | C8: =FINANCIAL!G13 -> 297569.42
B10: McKinnis Roofing & Sheet Metal | D10: ='#9455.00 McKinnis Roofing'!D23 -> 220346.03 | E10: ='#9455.00 McKinnis Roofing'!F23 -> 213735.65 | F10: ='#9455.00 McKinnis Roofing'!H23 -> 6610.38
A11: C | B11: PM TIME | D11: ='#9455.00 PM TIME '!E23 -> 0 | E11: ='#9455.00 PM TIME '!G23 -> 0 | F11: ='#9455.00 PM TIME '!I23 -> 0
A12: C | B12: Misc. | D12: ='#9455.00 Misc'!G22 -> 10361 | E12: ='#9455.00 Misc'!G22 -> 10361 | F12: =D12-E12 -> 0
A13: C | B13: Samuels Group | D13: ='#9455.00 Samuels Group'!D23 -> 66862.39 | E13: ='#9455.00 Samuels Group'!F23 -> 66862.39 | F13: ='#9455.00 Samuels Group'!H23 -> 0
B15: Total Project Cost | C15: =SUM(C8:C14) -> 297569.42 | D15: =SUM(D8:D14) -> 297569.42 | E15: =SUM(E8:E14) -> 290959.04 | F15: =SUM(D15-E15) -> 6610.38 | G15: =C8-D15 -> 0

Sheet #9455.00 McKinnis Roofing
A1: ='RECAP #9455.00'!B1 -> IDOE ISD Giangreco Hall Water Infiltration Mitigation
A2: ='RECAP #9455.00'!B2 -> Project # 9455.00
A3: ='RECAP #9455.00'!B3 -> Program code 945500 | D3: ='RECAP #9455.00'!E3 -> Major Program 4F04
A4: McKinnis Roofing | D4: Vendor: 00003217305
A5: Acct. Codes-0017-335-MM26-9255 | D5: RFB945500-01
A6: ='RECAP #9455.00'!B6 -> Project Manager - Jennie E. | D6: Activity code: BRIN
D7: Spilt w/DA27
A8: Doc # | B8: Date | C8: Activity | D8: Contract & C.O.'s | E8: Contract Total | F8: Payment Amount | G8: Total Paid | H8: Balance | I8: Retainage
A9: PO 33526002900 | B9: 46024 | C9: PO Procore | D9: 2454306 | E9: =D9 -> 2454306 | H9: =E9 -> 2454306
A10: PRC 3352600PA2900 | B10: 46192 | C10: Inv. 49368 | E10: =E9+D10 -> 2454306 | F10: 213735.65 | G10: =G9+F10 -> 213735.65 | H10: =H9-F10+D10 -> 2240570.4 | I10: =6610.38 -> 6610.38 | J10: FY26
A11: PO 33527002900 | B11: 46234 | C11: Roll to FY27 | D11: 0 | E11: =E10+D11 -> 2454306 | G11: =G10+F11 -> 213735.65 | H11: =H10-F11+D11 -> 2240570.4
A12: PO 33527002900 | B12: 46238 | C12: CO #1 Splitting w/DA27 | D12: -2233960 | E12: =E11+D12 -> 220346.03 | G12: =G11+F12 -> 213735.65 | H12: =H11-F12+D12 -> 6610.38
A13: PRC 3352700PB2900 | B13: 46273 | C13: Inv. 49434(100% to DA27) | E13: =E12+D13 -> 220346.03 | F13: 0 | G13: =G12+F13 -> 213735.65 | H13: =H12-F13+D13 -> 6610.38
E14: =E13+D14 -> 220346.03 | G14: =G13+F14 -> 213735.65 | H14: =H13-F14+D14 -> 6610.38
E15: =E14+D15 -> 220346.03 | G15: =G14+F15 -> 213735.65 | H15: =H14-F15+D15 -> 6610.38
E16: =E15+D16 -> 220346.03 | G16: =G15+F16 -> 213735.65 | H16: =H15-F16+D16 -> 6610.38
E17: =E16+D17 -> 220346.03 | G17: =G16+F17 -> 213735.65 | H17: =H16-F17+D17 -> 6610.38
E18: =E17+D18 -> 220346.03 | G18: =G17+F18 -> 213735.65 | H18: =H17-F18+D18 -> 6610.38
E19: =E18+D19 -> 220346.03 | G19: =G18+F19 -> 213735.65 | H19: =H18-F19+D19 -> 6610.38
E20: =E19+D20 -> 220346.03 | G20: =G19+F20 -> 213735.65 | H20: =H19-F20+D20 -> 6610.38
E21: =E20+D21 -> 220346.03 | G21: =G20+F21 -> 213735.65 | H21: =H20-F21+D21 -> 6610.38
C23: Totals: | D23: =SUM(D9:D22) -> 220346.03 | F23: =SUM(F9:F22) -> 213735.65 | H23: =D23-F23 -> 6610.38
C26: DA27 | D26: ='[1]#9455.00 McKinnis'!$D$28 -> 4887544.9 | F26: ='[1]#9455.00 McKinnis'!$F$28 -> 155808.35 | H26: ='[1]#9455.00 McKinnis'!$H$28 -> 4731736.5
C27: Total: | D27: =SUM(D23:D26) -> 5107890.9 | F27: =SUM(F23:F26) -> 369544 | H27: =SUM(H23:H26) -> 4738346.9

Sheet #9455.00 PM TIME 
A1: ='RECAP #9455.00'!B1 -> IDOE ISD Giangreco Hall Water Infiltration Mitigation
A2: ='RECAP #9455.00'!B2 -> Project # 9455.00
A3: ='RECAP #9455.00'!B3 -> Program code 945500 | E3: ='RECAP #9455.00'!E3 -> Major Program 4F04
A4: PM TIME | E4: Internal documents
A6: Acct. Codes-0017-335-MM26-xxxx | E6: eDAS 735L
A7: ='RECAP #9455.00'!B6 -> Project Manager - Jennie E.
A8: Doc # | B8: Date | C8: Object Code | D8: Activity Code | E8: Contract & C.O.'s | F8: Contract Total | G8: Payment Amount | H8: Total Paid | I8: Balance
D9: Budget amount | F9: =E9 -> 0 | I9: =F9 -> 0
A10: IET DAS202610115300001 | B10: 46149 | C10: 2507 | D10: Finance Support for April 01-30, 2026 | F10: =F9+E10 -> 0 | G10: 96.6 | H10: =H9+G10 -> 96.6 | I10: =I9-G10+E10 -> -96.6
A11: IET DAS202610115300001 | B11: 46149 | C11: 9500 | D11: DAS Support for April 01-30, 2026 | F11: =F10+E11 -> 0 | G11: 1061.8 | H11: =H10+G11 -> 1158.4 | I11: =I10-G11+E11 -> -1158.4
A12: CDE 33526140900 | B12: 46162 | C12: 2507 | D12: Moving April Finance Support to MM25 | F12: =F11+E12 -> 0 | G12: -96.6 | H12: =H11+G12 -> 1061.8 | I12: =I11-G12+E12 -> -1061.8
A13: CDE 33526140900 | B13: 46162 | C13: 9500 | D13: Moving April DAS Support to MM25 | F13: =F12+E13 -> 0 | G13: -1061.8 | H13: =H12+G13 -> 0 | I13: =I12-G13+E13 -> 0
F14: =F13+E14 -> 0 | H14: =H13+G14 -> 0 | I14: =I13-G14+E14 -> 0
F15: =F14+E15 -> 0 | H15: =H14+G15 -> 0 | I15: =I14-G15+E15 -> 0
F16: =F15+E16 -> 0 | H16: =H15+G16 -> 0 | I16: =I15-G16+E16 -> 0
F17: =F16+E17 -> 0 | H17: =H16+G17 -> 0 | I17: =I16-G17+E17 -> 0
F18: =F17+E18 -> 0 | H18: =H17+G18 -> 0 | I18: =I17-G18+E18 -> 0
F19: =F18+E19 -> 0 | H19: =H18+G19 -> 0 | I19: =I18-G19+E19 -> 0
F20: =F19+E20 -> 0 | H20: =H19+G20 -> 0 | I20: =I19-G20+E20 -> 0
F21: =F20+E21 -> 0 | H21: =H20+G21 -> 0 | I21: =I20-G21+E21 -> 0
D23: Totals: | E23: =SUM(E9:E22) -> 0 | G23: =SUM(G9:G22) -> 0 | I23: =E23-G23 -> 0

Sheet #9455.00 Misc
A1: ='RECAP #9455.00'!B1 -> IDOE ISD Giangreco Hall Water Infiltration Mitigation
A2: ='RECAP #9455.00'!B2 -> Project # 9455.00
A3: ='RECAP #9455.00'!B3 -> Program code 945500 | E3: ='RECAP #9455.00'!E3 -> Major Program 4F04
A4: Misc
E5: Do not code PM, EADOC, or Builders Risk here
A6: Acct. Codes-0017-335-MM26-xxxx | E6: Shipping Code: 231A
A7: ='RECAP #9455.00'!B6 -> Project Manager - Jennie E.
A8: Doc # | B8: Date | C8: Object Code | D8: Activity Code | E8: Activity | F8: Invoice | G8: Payment Amount | H8: Total Paid
A9: PRC 33526065905 | B9: 46087 | C9: 9500 | D9: CNST | E9: Holmes Murphy V#(00002110543) | F9: Inv. 880061 | G9: 6639 | H9: =G9 -> 6639
A10: PRC 33526187908 | B10: 46209 | C10: 9500 | D10: CNST | E10: Holmes Murphy V#(00002110543) | F10: Inv. 899580 | G10: 3722 | H10: =H9+G10 -> 10361
H11: =H10+G11 -> 10361
H12: =H11+G12 -> 10361
H13: =H12+G13 -> 10361
H14: =H13+G14 -> 10361
H15: =H14+G15 -> 10361
H16: =H15+G16 -> 10361
H17: =H16+G17 -> 10361
H18: =H17+G18 -> 10361
H19: =H18+G19 -> 10361
H20: =H19+G20 -> 10361
E22: Totals: | G22: =SUM(G9:G21) -> 10361

Sheet #9455.00 Samuels Group
A1: ='RECAP #9455.00'!B1 -> IDOE ISD Giangreco Hall Water Infiltration Mitigation
A2: ='RECAP #9455.00'!B2 -> Project # 9455.00
A3: ='RECAP #9455.00'!B3 -> Program code 945500 | D3: ='RECAP #9455.00'!E3 -> Major Program 4F04
A4: Samuels Group | D4: Vendor: 00003033402
A5: Acct. Codes-0017-335-MM26-9255 | D5: RFP1821335228-Samuels11012021
A6: ='RECAP #9455.00'!B6 -> Project Manager - Jennie E. | D6: Activity code: CMGR
D7: Split w/DA27
A8: Doc # | B8: Date | C8: Activity | D8: Contract & C.O.'s | E8: Contract Total | F8: Payment Amount | G8: Total Paid | H8: Balance
A9: PO 33526029913 | B9: 46051 | C9: PO Procore | D9: 750625.68 | E9: =D9 -> 750625.68 | H9: =E9 -> 750625.68
A10: PRC 3352602PA9913 | B10: 46057 | C10: Inv. 7850.51945500 | E10: =E9+D10 -> 750625.68 | F10: 1793.69 | G10: =G9+F10 -> 1793.69 | H10: =H9-F10+D10 -> 748831.99
A11: PRC 3352602PB9913 | B11: 46084 | C11: Inv. 7850.52945500 | E11: =E10+D11 -> 750625.68 | F11: 2668.08 | G11: =G10+F11 -> 4461.77 | H11: =H10-F11+D11 -> 746163.91
A12: PRC 3352602PC9913 | B12: 46121 | C12: Inv. 7850.53945500 | E12: =E11+D12 -> 750625.68 | F12: 3139.91 | G12: =G11+F12 -> 7601.68 | H12: =H11-F12+D12 -> 743024
A13: PRC 3352602PD9913 | B13: 46163 | C13: Inv. 7850.54945500 | E13: =E12+D13 -> 750625.68 | F13: 23878.53 | G13: =G12+F13 -> 31480.21 | H13: =H12-F13+D13 -> 719145.47
A14: PRC 3352602PE9913 | B14: 46189 | C14: Inv. 7850.55945500 | E14: =E13+D14 -> 750625.68 | F14: 17483.14 | G14: =G13+F14 -> 48963.35 | H14: =H13-F14+D14 -> 701662.33
A15: PRC 3352602PF9913 | B15: 46209 | C15: Inv. 7850.56945500 | E15: =E14+D15 -> 750625.68 | F15: 17899.04 | G15: =G14+F15 -> 66862.39 | H15: =H14-F15+D15 -> 683763.29
A16: PO 33526029913 | B16: 46226 | C16: CO #1(Split w/ DA27) | D16: -683763.29 | E16: =E15+D16 -> 66862.39 | G16: =G15+F16 -> 66862.39 | H16: =H15-F16+D16 -> 0
E17: =E16+D17 -> 66862.39 | G17: =G16+F17 -> 66862.39 | H17: =H16-F17+D17 -> 0
E18: =E17+D18 -> 66862.39 | G18: =G17+F18 -> 66862.39 | H18: =H17-F18+D18 -> 0
E19: =E18+D19 -> 66862.39 | G19: =G18+F19 -> 66862.39 | H19: =H18-F19+D19 -> 0
E20: =E19+D20 -> 66862.39 | G20: =G19+F20 -> 66862.39 | H20: =H19-F20+D20 -> 0
E21: =E20+D21 -> 66862.39 | G21: =G20+F21 -> 66862.39 | H21: =H20-F21+D21 -> 0
C23: Totals: | D23: =SUM(D9:D22) -> 66862.39 | F23: =SUM(F9:F22) -> 66862.39 | H23: =D23-F23 -> 0
C26: CM Services | D26: 570253.44 | F26: =1293.69+2186.36+2639.91+19288.2+13219.7+9336.14 -> 47964 | H26: =D26-F26 -> 522289.44
C27: Reimbursables (Hotels, Mileage, Meals) | D27: 61600 | F27: =1523.17+1263.44+1049.84 -> 3836.45 | H27: =D27-F27 -> 57763.55
C28: Reimbursables(Temp Trailer $600 monthly) | D28: 12600 | F28: =455 -> 455 | H28: =D28-F28 -> 12145
C29: Reimbursables(Temp Power Utilities) | D29: 8000 | F29: =67.16+2058.06 -> 2125.22 | H29: =D29-F29 -> 5874.78
C30: 4% Samuels GroupFee | D30: 98172.24 | F30: =500+481.72+500+3000+3000+5000 -> 12481.72 | H30: =D30-F30 -> 85690.52
C31: CO #1 | D31: -683763.29 | H31: =D31-F31 -> -683763.29
C32: Total: | D32: =SUM(D26:D31) -> 66862.39 | F32: =SUM(F26:F31) -> 66862.39 | H32: =SUM(H26:H31) -> 0
C34: DA27 | D34: ='[1]#9455.00 Samuels Group'!$D$23 -> 683763.29 | F34: ='[1]#9455.00 Samuels Group'!$F$23 -> 37935.6 | H34: ='[1]#9455.00 Samuels Group'!$H$23 -> 645827.69
C35: Total: | D35: =D23+D34 -> 750625.68 | F35: =F23+F34 -> 104797.99 | H35: =SUM(H23+H34) -> 645827.69

Sheet RECAP #9483.00
B1: DVA IVH Dack and Malloy Building Roof Replacements
B2: Project # 9483.00
B3: Program code 948300 | E3: Major Program 4D02
B4: Recap
B5: Acct. Codes-0017-335-MM26 | E5: Close Date:
B6: Project Manager - Brad T.
C7: TRANSFERS | D7: CONTRACTED | E7: EXPENDED | F7: CONTRACTED, NOT EXPENDED | G7: UNDER(OVER) Budget
B8: Budget | C8: =FINANCIAL!E14 -> 2820000
A10: C | B10: DCI Group | D10: ='#9483.00 DCI Group'!D23 -> 34876.44 | E10: ='#9483.00 DCI Group'!F23 -> 34876.44 | F10: ='#9483.00 DCI Group'!H23 -> 0
B11: PM TIME | D11: ='#9483.00 PM TIME'!E43 -> 75000 | E11: ='#9483.00 PM TIME'!G43 -> 19771.5 | F11: ='#9483.00 PM TIME'!I43 -> 55228.5
B12: Misc. | D12: ='#9483.00 Misc'!G22 -> 5209.09 | E12: ='#9483.00 Misc'!G22 -> 5209.09 | F12: =D12-E12 -> 0
B13: Genesis Architectural | D13: ='#9483.00 Genesis Architectural'!D23 -> 35000 | E13: ='#9483.00 Genesis Architectural'!F23 -> 29250 | F13: ='#9483.00 Genesis Architectural'!H23 -> 5750
B14: Academy Roofing | D14: ='#9483.00 Academy Roofing'!D23 -> 2335266 | E14: ='#9483.00 Academy Roofing'!F23 -> 1732081.8 | F14: ='#9483.00 Academy Roofing'!H23 -> 603184.24
B15: DCI Group (2) | D15: ='#9483.00 DCI Group (2)'!D23 -> 267340.14 | E15: ='#9483.00 DCI Group (2)'!F23 -> 113808.57 | F15: ='#9483.00 DCI Group (2)'!H23 -> 153531.57
B17: Total Project Cost | C17: =SUM(C8:C16) -> 2820000 | D17: =SUM(D8:D16) -> 2752691.7 | E17: =SUM(E8:E16) -> 1934997.4 | F17: =SUM(D17-E17) -> 817694.31 | G17: =C8-D17 -> 67308.33

Sheet #9483.00 DCI Group
A1: ='RECAP #9483.00'!B1 -> DVA IVH Dack and Malloy Building Roof Replacements
A2: ='RECAP #9483.00'!B2 -> Project # 9483.00
A3: ='RECAP #9483.00'!B3 -> Program code 948300 | D3: ='RECAP #9483.00'!E3 -> Major Program 4D02
A4: DCI Group | D4: Vendor: 00003025029
A5: Acct. Codes-0017-335-MM26-9255 | D5: RFP1821335228-DCI11012021
A6: ='RECAP #9483.00'!B6 -> Project Manager - Brad T. | D6: Activity code: CMGR
A8: Doc # | B8: Date | C8: Activity | D8: Contract & C.O.'s | E8: Contract Total | F8: Payment Amount | G8: Total Paid | H8: Balance
A9: PO 33526259901 | B9: 45916 | C9: PO Procore | D9: 28802.14 | E9: =D9 -> 28802.14 | H9: =E9 -> 28802.14
A10: PRC 3352625PA9901 | B10: 45947 | C10: Inv. 25-021 PC 01 | E10: =E9+D10 -> 28802.14 | F10: 2681.52 | G10: =G9+F10 -> 2681.52 | H10: =H9-F10+D10 -> 26120.62
A11: PRC 3352625PB9901 | B11: 45994 | C11: Inv. 25-021 PC 02 | E11: =E10+D11 -> 28802.14 | F11: 1660.86 | G11: =G10+F11 -> 4342.38 | H11: =H10-F11+D11 -> 24459.76
A12: PRC 3352625PC9901 | B12: 46013 | C12: Inv. 25-021 PC 03 | E12: =E11+D12 -> 28802.14 | F12: 2057.76 | G12: =G11+F12 -> 6400.14 | H12: =H11-F12+D12 -> 22402
A13: PRC 3352625PD9901 | B13: 46048 | C13: Inv. 25-021 PC 04 | E13: =E12+D13 -> 28802.14 | F13: 3636.54 | G13: =G12+F13 -> 10036.68 | H13: =H12-F13+D13 -> 18765.46
A14: PRC 3352625PE9901 | B14: 46077 | C14: Inv. 25-021 PC 05 | E14: =E13+D14 -> 28802.14 | F14: 4439.11 | G14: =G13+F14 -> 14475.79 | H14: =H13-F14+D14 -> 14326.35
A15: PRC 3352625PF9901 | B15: 46101 | C15: Inv. 25-021 PC 06 | E15: =E14+D15 -> 28802.14 | F15: 6508.76 | G15: =G14+F15 -> 20984.55 | H15: =H14-F15+D15 -> 7817.59
A16: PRC 3352625PG9901 | B16: 46129 | C16: Inv. 25-021 PC 07 | E16: =E15+D16 -> 28802.14 | F16: 6453.33 | G16: =G15+F16 -> 27437.88 | H16: =H15-F16+D16 -> 1364.26
A17: PO 33526259901 | B17: 46191 | C17: CO #1 | D17: 7232.56 | E17: =E16+D17 -> 36034.7 | G17: =G16+F17 -> 27437.88 | H17: =H16-F17+D17 -> 8596.82
A18: PRC 3352625PH9901 | B18: 46191 | C18: Inv. 25-021 PC #08 FINAL | D18: -1158.26 | E18: =E17+D18 -> 34876.44 | F18: 7438.56 | G18: =G17+F18 -> 34876.44 | H18: =H17-F18+D18 -> 0
E19: =E18+D19 -> 34876.44 | G19: =G18+F19 -> 34876.44 | H19: =H18-F19+D19 -> 0
E20: =E19+D20 -> 34876.44 | G20: =G19+F20 -> 34876.44 | H20: =H19-F20+D20 -> 0
E21: =E20+D21 -> 34876.44 | G21: =G20+F21 -> 34876.44 | H21: =H20-F21+D21 -> 0
C23: Totals: | D23: =SUM(D9:D22) -> 34876.44 | F23: =SUM(F9:F22) -> 34876.44 | H23: =D23-F23 -> 0 | I23: FINAL
C26: CM Services | D26: =27302.14-18.76 -> 27283.38 | F26: =2681.52+1609.36+2057.76+3636.54+4439.11+6405.76+6453.33 -> 27283.38 | H26: =D26-F26 -> 0
C27: Reimbursables | D27: =1500-1139.5 -> 360.5 | F27: =51.5+103+206 -> 360.5 | H27: =D27-F27 -> 0
C28: CO #1 | D28: 7232.56 | F28: =7232.56 -> 7232.56 | H28: =D28-F28 -> 0
C29: Total: | D29: =SUM(D26:D28) -> 34876.44 | F29: =SUM(F26:F28) -> 34876.44 | H29: =SUM(H26:H28) -> 0

Sheet #9483.00 PM TIME
A1: ='RECAP #9483.00'!B1 -> DVA IVH Dack and Malloy Building Roof Replacements
A2: ='RECAP #9483.00'!B2 -> Project # 9483.00
A3: ='RECAP #9483.00'!B3 -> Program code 948300 | E3: ='RECAP #9483.00'!E3 -> Major Program 4D02
A4: PM TIME | E4: Internal documents
A6: Acct. Codes-0017-335-MM26-xxxx | E6: eDAS: 733Q
A7: ='RECAP #9483.00'!B6 -> Project Manager - Brad T.
A8: Doc # | B8: Date | C8: Object Code | D8: Activity Code | E8: Contract & C.O.'s | F8: Contract Total | G8: Payment Amount | H8: Total Paid | I8: Balance
D9: Budget amount | E9: 75000 | F9: =E9 -> 75000 | I9: =F9 -> 75000
A10: IET DAS202601115300001 | B10: 45876 | C10: 2507 | D10: Finance Support for July 01-31, 2025 | F10: =F9+E10 -> 75000 | G10: =19.58+28.31 -> 47.89 | H10: =H9+G10 -> 47.89 | I10: =I9-G10+E10 -> 74952.11
A11: IET DAS202601115300001 | B11: 45876 | C11: 9500 | D11: DAS Support for July 01-31, 2025 | F11: =F10+E11 -> 75000 | G11: =35+497.2 -> 532.2 | H11: =H10+G11 -> 580.09 | I11: =I10-G11+E11 -> 74419.91
A12: IET DAS202602115300001 | B12: 45908 | C12: 2507 | D12: Finance Support for August 01-31, 2025 | F12: =F11+E12 -> 75000 | G12: 94.58 | H12: =H11+G12 -> 674.67 | I12: =I11-G12+E12 -> 74325.33
A13: IET DAS202602115300001 | B13: 45908 | C13: 9500 | D13: DAS Support for August 01-31, 2025 | F13: =F12+E13 -> 75000 | G13: 732.6 | H13: =H12+G13 -> 1407.27 | I13: =I12-G13+E13 -> 73592.73
A14: IET DAS202603115300001 | B14: 45937 | C14: 2507 | D14: Finance Support for September 01-30, 2025 | F14: =F13+E14 -> 75000 | G14: 100.03 | H14: =H13+G14 -> 1507.3 | I14: =I13-G14+E14 -> 73492.7
A15: IET DAS202603115300001 | B15: 45937 | C15: 9500 | D15: DAS Support for September 01-30, 2025 | F15: =F14+E15 -> 75000 | G15: 522.8 | H15: =H14+G15 -> 2030.1 | I15: =I14-G15+E15 -> 72969.9
A16: IET DAS202604115300001 | B16: 45968 | C16: 2507 | D16: Finance Support for October 01-31, 2025 | F16: =F15+E16 -> 75000 | G16: 42.41 | H16: =H15+G16 -> 2072.51 | I16: =I15-G16+E16 -> 72927.49
A17: IET DAS202604115300001 | B17: 45968 | C17: 9500 | D17: DAS Support for October 01-31, 2025 | F17: =F16+E17 -> 75000 | G17: 417.3 | H17: =H16+G17 -> 2489.81 | I17: =I16-G17+E17 -> 72510.19
A18: IET DAS202605115300001 | B18: 45996 | C18: 2507 | D18: Finance Support for November 1-30, 2025 | F18: =F17+E18 -> 75000 | G18: 131.64 | H18: =H17+G18 -> 2621.45 | I18: =I17-G18+E18 -> 72378.55
A19: IET DAS202605115300001 | B19: 45996 | C19: 9500 | D19: DAS Support for November 1-30, 2025 | F19: =F18+E19 -> 75000 | G19: 838.8 | H19: =H18+G19 -> 3460.25 | I19: =I18-G19+E19 -> 71539.75
A20: IET DAS202606115300001 | B20: 46030 | C20: 2507 | D20: Finance Support for December 1-31, 2025 | F20: =F19+E20 -> 75000 | G20: 84.69 | H20: =H19+G20 -> 3544.94 | I20: =I19-G20+E20 -> 71455.06
A21: IET DAS202606115300001 | B21: 46030 | C21: 9500 | D21: DAS Support for December 1-31, 2025 | F21: =F20+E21 -> 75000 | G21: 961.7 | H21: =H20+G21 -> 4506.64 | I21: =I20-G21+E21 -> 70493.36
A22: IET DAS202607115300001 | B22: 46062 | C22: 2507 | D22: Finance Support for January 1-31, 2026 | F22: =F21+E22 -> 75000 | G22: 114.24 | H22: =H21+G22 -> 4620.88 | I22: =I21-G22+E22 -> 70379.12
A23: IET DAS202607115300001 | B23: 46062 | C23: 9500 | D23: DAS Support for January 1-31, 2026 | F23: =F22+E23 -> 75000 | G23: 1416.7 | H23: =H22+G23 -> 6037.58 | I23: =I22-G23+E23 -> 68962.42
A24: IET DAS202608115300001 | B24: 46090 | C24: 2507 | D24: Finance Support for February 1-28, 2026 | F24: =F23+E24 -> 75000 | G24: 97.23 | H24: =H23+G24 -> 6134.81 | I24: =I23-G24+E24 -> 68865.19
A25: IET DAS202608115300001 | B25: 46090 | C25: 9500 | D25: DAS Support for February 1-28, 2026 | F25: =F24+E25 -> 75000 | G25: 1120.8 | H25: =H24+G25 -> 7255.61 | I25: =I24-G25+E25 -> 67744.39
A26: IET DAS202609115300001 | B26: 46118 | C26: 2507 | D26: Finance Support for March 01-31, 2026 | F26: =F25+E26 -> 75000 | G26: 217.75 | H26: =H25+G26 -> 7473.36 | I26: =I25-G26+E26 -> 67526.64
A27: IET DAS202609115300001 | B27: 46118 | C27: 9500 | D27: DAS Support for March 01-31, 2026 | F27: =F26+E27 -> 75000 | G27: 1762.4 | H27: =H26+G27 -> 9235.76 | I27: =I26-G27+E27 -> 65764.24
A28: IET DAS202610115300001 | B28: 46149 | C28: 2507 | D28: Finance Support for April 01-30, 2026 | F28: =F27+E28 -> 75000 | G28: 155.82 | H28: =H27+G28 -> 9391.58 | I28: =I27-G28+E28 -> 65608.42
A29: IET DAS202610115300001 | B29: 46149 | C29: 9500 | D29: DAS Support for April 01-30, 2026 | F29: =F28+E29 -> 75000 | G29: 1623.5 | H29: =H28+G29 -> 11015.08 | I29: =I28-G29+E29 -> 63984.92
A30: IET DAS202611115300001 | B30: 46181 | C30: 2507 | D30: Finance Support for May 01-31, 2026 | F30: =F29+E30 -> 75000 | G30: 158.08 | H30: =H29+G30 -> 11173.16 | I30: =I29-G30+E30 -> 63826.84
A31: IET DAS202611115300001 | B31: 46181 | C31: 9500 | D31: DAS Support for May 01-31, 2026 | F31: =F30+E31 -> 75000 | G31: 1931.8 | H31: =H30+G31 -> 13104.96 | I31: =I30-G31+E31 -> 61895.04
A32: IET DAS202612115300001 | B32: 46211 | C32: 2507 | D32: Finance Support for June 01-30, 2026 | F32: =F31+E32 -> 75000 | G32: 130.66 | H32: =H31+G32 -> 13235.62 | I32: =I31-G32+E32 -> 61764.38
A33: IET DAS202612115300001 | B33: 46211 | C33: 9500 | D33: DAS Support for June 01-30, 2026 | F33: =F32+E33 -> 75000 | G33: 1502.1 | H33: =H32+G33 -> 14737.72 | I33: =I32-G33+E33 -> 60262.28
A34: IET DAS202613115300001 | B34: 46218 | C34: 2507 | D34: Finance Support for June 01-30, 2026 (Period 13) | F34: =F33+E34 -> 75000 | G34: 52.26 | H34: =H33+G34 -> 14789.98 | I34: =I33-G34+E34 -> 60210.02
A35: IET DAS202701115300001 | B35: 46241 | C35: 2507 | D35: Finance Support for July 01-31, 2026 | F35: =F34+E35 -> 75000 | G35: 196.95 | H35: =H34+G35 -> 14986.93 | I35: =I34-G35+E35 -> 60013.07
A36: IET DAS202701115300001 | B36: 46241 | C36: 9500 | D36: DAS Support for July 01-31, 2026 | F36: =F35+E36 -> 75000 | G36: 2116.3 | H36: =H35+G36 -> 17103.23 | I36: =I35-G36+E36 -> 57896.77
A37: IET DAS202702115300001 | B37: 46272 | C37: 2507 | D37: Finance Support for August 01-31, 2026 | F37: =F36+E37 -> 75000 | G37: 248.27 | H37: =H36+G37 -> 17351.5 | I37: =I36-G37+E37 -> 57648.5
A38: IET DAS202702115300001 | B38: 46272 | C38: 9500 | D38: DAS Support for August 01-31, 2026 | F38: =F37+E38 -> 75000 | G38: 2420 | H38: =H37+G38 -> 19771.5 | I38: =I37-G38+E38 -> 55228.5
F39: =F38+E39 -> 75000 | H39: =H38+G39 -> 19771.5 | I39: =I38-G39+E39 -> 55228.5
F40: =F39+E40 -> 75000 | H40: =H39+G40 -> 19771.5 | I40: =I39-G40+E40 -> 55228.5
F41: =F40+E41 -> 75000 | H41: =H40+G41 -> 19771.5 | I41: =I40-G41+E41 -> 55228.5
...

Sheet #9483.00 Misc
A1: ='RECAP #9483.00'!B1 -> DVA IVH Dack and Malloy Building Roof Replacements
A2: ='RECAP #9483.00'!B2 -> Project # 9483.00
A3: ='RECAP #9483.00'!B3 -> Program code 948300 | E3: ='RECAP #9483.00'!E3 -> Major Program 4D02
A4: Misc
E5: Do not code PM, EADOC, or Builders Risk here
A6: Acct. Codes-0017-335-MM26-xxxx | E6: Shipping Code: 558
A7: ='RECAP #9483.00'!B6 -> Project Manager - Brad T.
A8: Doc # | B8: Date | C8: Object Code | D8: Activity Code | E8: Activity | F8: Invoice | G8: Payment Amount | H8: Total Paid
